Workbook
Name ad: #REF!
Name d: #REF!

Sheet 05-3
B1: UỶ BAN NHÂN DÂN TỈNH HÀ TĨNH
B2: SỞ GIAO THÔNG VẬN TẢI
A3: PHỤ LỤC 1: BÁO CÁO KẾT QUẢ THỰC HIỆN KẾ HOẠCH LÀM ĐƯỜNG GTNT, RÃNH THOÁT NƯỚC, PHỤC HỒI NÂNG CẤP MẶT ĐƯỜNG BTXM ĐẾN NGÀY 05/3/2020
A5: TT | B5: Huyện, thị xã, thành phố | C5: Khối lượng theo kế hoạch UBND tỉnh | W5: Kết quả thực hiện lũy kế đến thời điểm báo cáo | AQ5: Mức độ hoàn thành kế hoạch đầu năm | AT5: Tăng so với tuần trước
C6: Đường giao thông (km) | D6: Trong đó | H6: Nâng cấp phục hồi mặt đường BTXM (km) | I6: Trong đó | M6: Rãnh thoát nước (km) | N6: Rãnh trên đường trục xã | R6: Rãnh trên đường trục thôn | V6: Tổng khối lượng xi măng (tấn) | W6: Đường giao thông (km) | X6: Trong đó | AB6: Nâng cấp phục hồi mặt đường BTXM (km) | AC6: Trong đó | AG6: Rãnh thoát nước (km) | AH6: Rãnh trên đường trục xã | AL6: Rãnh trên đường trục thôn | AP6: Tổng khối lượng xi măng sử dụng (tấn) | AQ6: Đường giao thông (%) | AR6: Nâng cấp phục hồi mặt đường BTXM (%) | AS6: Rãnh thoát nước (%) | AT6: Đường giao thông (km) | AU6: Nâng cấp phục hồi mặt đường BTXM (km) | AV6: Rãnh thoát nước (km)
D7: Đường trục xã và đường phố (km) | E7: Đường trục thôn, xóm và đường ngõ phố (km) | F7: Đường ngõ, xóm và đường ngách hẻm (km) | G7: Đường trục chính nội đồng (km) | I7: Đường trục xã và đường phố (km) | J7: Đường trục thôn, xóm và đường ngõ phố (km) | K7: Đường ngõ, xóm và đường ngách hẻm (km) | L7: Đường trục chính nội đồng (km) | N7: Rãnh BTXM có nắp đậy | O7: Rãnh BTXM không có nắp đậy | P7: Rãnh Gạch xây có nắp đậy | Q7: Rãnh Gạch xây không có nắp đậy | R7: Rãnh BTXM có nắp đậy | S7: Rãnh BTXM không có nắp đậy | T7: Rãnh Gạch xây có nắp đậy | U7: Rãnh Gạch xây không có nắp đậy | X7: Đường trục xã và đường phố (km) | Y7: Đường trục thôn, xóm và đường ngõ phố (km) | Z7: Đường ngõ, xóm và đường ngách hẻm (km) | AA7: Đường trục chính nội đồng (km) | AC7: Đường trục xã và đường phố (km) | AD7: Đường trục thôn, xóm và đường ngõ phố (km) | AE7: Đường ngõ, xóm và đường ngách hẻm (km) | AF7: Đường trục chính nội đồng (km) | AH7: Rãnh BTXM có nắp đậy | AI7: Rãnh BTXM không có nắp đậy | AJ7: Rãnh Gạch xây có nắp đậy | AK7: Rãnh Gạch xây không có nắp đậy | AL7: Rãnh BTXM có nắp đậy | AM7: Rãnh BTXM không có nắp đậy | AN7: Rãnh Gạch xây có nắp đậy | AO7: Rãnh Gạch xây không có nắp đậy
A8: 1 | B8: 2 | C8: 3 | D8: 4 | E8: 5 | F8: 6 | G8: 7 | H8: 8 | I8: 9 | J8: 10 | K8: 11 | L8: 12 | M8: 13 | N8: 14 | O8: 15 | P8: 16 | Q8: 17 | R8: 18 | S8: 19 | T8: 20 | U8: 21 | V8: 22 | W8: 23 | X8: 24 | Y8: 25 | Z8: 26 | AA8: 27 | AB8: 28 | AC8: 29 | AD8: 30 | AE8: 31 | AF8: 32 | AG8: 33 | AH8: 34 | AI8: 35 | AJ8: 36 | AK8: 37 | AL8: 38 | AM8: 39 | AN8: 40 | AO8: 41 | AP8: 42 | AQ8: 43 | AR8: 44 | AS8: 45 | AT8: 69 | AU8: 70 | AV8: 71
A9: 1 | B9: Huyện Kỳ Anh | C9: =SUM(D9:G9) -> 42.104 | D9: 0.775 | E9: 5.596 | F9: 31.403 | G9: 4.33 | H9: =SUM(I9:L9) -> 4.77 | I9: 0 | J9: 2.6 | K9: 2.17 | L9: 0 | M9: =SUM(N9:U9) -> 31.124 | N9: 0 | O9: 0 | P9: 0 | Q9: 1.6 | R9: 1.04 | S9: 14.61 | T9: 0.36 | U9: 13.514 | V9: =D9*285.06+E9*177.37+(F9+G9)*114.51+N9*85.71653+O9*71.6475+P9*87.00383+Q9*58.25799+R9*72.16284+S9*60.90038+T9*76.51762+U9*50.57834 -> 7074.3486 | W9: =SUM(X9:AA9) -> 0 | AB9: =SUM(AC9:AF9) -> 0 | AG9: =SUM(AH9:AO9) -> 0 | AP9: =X9*285.06+Y9*177.37+(Z9+AA9)*114.51+AH9*85.71653+AI9*71.6475+AJ9*87.00383+AK9*58.25799+AL9*72.16284+AM9*60.90038+AN9*76.51762+AO9*50.57834 -> 0 | AQ9: =$W9/C9 -> 0 | AR9: =IF(H9=0,"-",AB9/H9) -> 0 | AS9: =AG9/M9 -> 0 | AT9: =W9-'[1]26-12'!AS9 -> -50.793 | AU9: =AB9-'[1]26-12'!AX9 -> 0 | AV9: =AG9-'[1]26-12'!BC9 -> -70.28
A10: 2 | B10: Huyện Cẩm Xuyên | C10: =SUM(D10:G10) -> 64.551 | D10: 0 | E10: 8.07 | F10: 39.357 | G10: 17.124 | H10: =SUM(I10:L10) -> 8.99 | I10: 1.9 | J10: 6.14 | K10: 0.95 | L10: 0 | M10: =SUM(N10:U10) -> 18.263 | N10: 1.7 | O10: 3.192 | P10: 0 | Q10: 0.066 | R10: 1.35 | S10: 9.195 | T10: 0 | U10: 2.76 | V10: =D10*285.06+E10*177.37+(F10+G10)*114.51+N10*85.71653+O10*71.6475+P10*87.00383+Q10*58.25799+R10*72.16284+S10*60.90038+T10*76.51762+U10*50.57834 -> 9074.2722 | W10: =SUM(X10:AA10) -> 0 | AB10: =SUM(AC10:AF10) -> 0 | AG10: =SUM(AH10:AO10) -> 0.5 | AM10: 0.5 | AP10: =X10*285.06+Y10*177.37+(Z10+AA10)*114.51+AH10*85.71653+AI10*71.6475+AJ10*87.00383+AK10*58.25799+AL10*72.16284+AM10*60.90038+AN10*76.51762+AO10*50.57834 -> 30.45019 | AQ10: =$W10/C10 -> 0 | AR10: =IF(H10=0,"-",AB10/H10) -> 0 | AS10: =AG10/M10 -> 0.027377758 | AT10: =W10-'[1]26-12'!AS10 -> -82.15108 | AU10: =AB10-'[1]26-12'!AX10 -> -4.9 | AV10: =AG10-'[1]26-12'!BC10 -> -23.6404
A11: 3 | B11: Thành phố Hà Tĩnh | C11: =SUM(D11:G11) -> 12.357 | D11: 0 | E11: 2.864 | F11: 6.651 | G11: 2.842 | H11: =SUM(I11:L11) -> 11.988 | I11: 0 | J11: 11.988 | K11: 0 | L11: 0 | M11: =SUM(N11:U11) -> 5.046 | N11: 1.3 | O11: 0 | P11: 0 | Q11: 0 | R11: 3.746 | S11: 0 | T11: 0 | U11: 0 | V11: =D11*285.06+E11*177.37+(F11+G11)*114.51+N11*85.71653+O11*71.6475+P11*87.00383+Q11*58.25799+R11*72.16284+S11*60.90038+T11*76.51762+U11*50.57834 -> 1976.7846 | W11: =SUM(X11:AA11) -> 0 | AB11: =SUM(AC11:AF11) -> 0 | AG11: =SUM(AH11:AO11) -> 0 | AP11: =X11*285.06+Y11*177.37+(Z11+AA11)*114.51+AH11*85.71653+AI11*71.6475+AJ11*87.00383+AK11*58.25799+AL11*72.16284+AM11*60.90038+AN11*76.51762+AO11*50.57834 -> 0 | AQ11: =$W11/C11 -> 0 | AR11: =IF(H11=0,"-",AB11/H11) -> 0 | AS11: =AG11/M11 -> 0 | AT11: =W11-'[1]26-12'!AS11 -> -24.786 | AU11: =AB11-'[1]26-12'!AX11 -> -17.436 | AV11: =AG11-'[1]26-12'!BC11 -> -7.339
A12: 4 | B12: Huyện Thạch Hà | C12: =SUM(D12:G12) -> 92.218295 | D12: 6.7862 | E12: 9.535 | F12: 50.432095 | G12: 25.465 | H12: =SUM(I12:L12) -> 33.829 | I12: 2.47 | J12: 22.904 | K12: 8.455 | L12: 0 | M12: =SUM(N12:U12) -> 16.96 | N12: 3.17 | O12: 1 | P12: 0 | Q12: 0.5 | R12: 7.52 | S12: 3.06 | T12: 0.2 | U12: 1.51 | V12: =D12*285.06+E12*177.37+(F12+G12)*114.51+N12*85.71653+O12*71.6475+P12*87.00383+Q12*58.25799+R12*72.16284+S12*60.90038+T12*76.51762+U12*50.57834 -> 13509.868 | W12: =SUM(X12:AA12) -> 2.43 | X12: 0.2 | Y12: 0.97 | Z12: 1.26 | AB12: =SUM(AC12:AF12) -> 0 | AG12: =SUM(AH12:AO12) -> 0.2 | AO12: 0.2 | AP12: =X12*285.06+Y12*177.37+(Z12+AA12)*114.51+AH12*85.71653+AI12*71.6475+AJ12*87.00383+AK12*58.25799+AL12*72.16284+AM12*60.90038+AN12*76.51762+AO12*50.57834 -> 383.45917 | AQ12: =$W12/C12 -> 0.02635052 | AR12: =IF(H12=0,"-",AB12/H12) -> 0 | AS12: =AG12/M12 -> 0.011792453 | AT12: =W12-'[1]26-12'!AS12 -> -120.855 | AU12: =AB12-'[1]26-12'!AX12 -> -3.333 | AV12: =AG12-'[1]26-12'!BC12 -> -23.616
A13: 5 | B13: Huyện Can Lộc | C13: =SUM(D13:G13) -> 39.072 | D13: 0 | E13: 12.368 | F13: 17.339 | G13: 9.365 | H13: =SUM(I13:L13) -> 10 | I13: 8.9 | J13: 0.8 | K13: 0.3 | L13: 0 | M13: =SUM(N13:U13) -> 14.105 | N13: 1.43 | O13: 0 | P13: 0.4 | Q13: 0.2 | R13: 2.09 | S13: 0 | T13: 8.695 | U13: 1.29 | V13: =D13*285.06+E13*177.37+(F13+G13)*114.51+N13*85.71653+O13*71.6475+P13*87.00383+Q13*58.25799+R13*72.16284+S13*60.90038+T13*76.51762+U13*50.57834 -> 6302.0021 | W13: =SUM(X13:AA13) -> 0 | AB13: =SUM(AC13:AF13) -> 0 | AG13: =SUM(AH13:AO13) -> 0 | AP13: =X13*285.06+Y13*177.37+(Z13+AA13)*114.51+AH13*85.71653+AI13*71.6475+AJ13*87.00383+AK13*58.25799+AL13*72.16284+AM13*60.90038+AN13*76.51762+AO13*50.57834 -> 0 | AQ13: =$W13/C13 -> 0 | AR13: =IF(H13=0,"-",AB13/H13) -> 0 | AS13: =AG13/M13 -> 0 | AT13: =W13-'[1]26-12'!AS13 -> -103.1544 | AU13: =AB13-'[1]26-12'!AX13 -> -0.7 | AV13: =AG13-'[1]26-12'!BC13 -> -19.394
A14: 6 | B14: Huyện Nghi Xuân | C14: =SUM(D14:G14) -> 12.48 | D14: 0 | E14: 1.569 | F14: 3.717 | G14: 7.194 | H14: =SUM(I14:L14) -> 0 | I14: 0 | J14: 0 | K14: 0 | L14: 0 | M14: =SUM(N14:U14) -> 2.173 | N14: 0 | O14: 0 | P14: 0.6 | Q14: 0 | R14: 0.055 | S14: 0.605 | T14: 0.47 | U14: 0.443 | V14: =D14*285.06+E14*177.37+(F14+G14)*114.51+N14*85.71653+O14*71.6475+P14*87.00383+Q14*58.25799+R14*72.16284+S14*60.90038+T14*76.51762+U14*50.57834 -> 1679.0976 | W14: =SUM(X14:AA14) -> 0.33 | Z14: 0.33 | AB14: =SUM(AC14:AF14) -> 0 | AG14: =SUM(AH14:AO14) -> 0 | AP14: =X14*285.06+Y14*177.37+(Z14+AA14)*114.51+AH14*85.71653+AI14*71.6475+AJ14*87.00383+AK14*58.25799+AL14*72.16284+AM14*60.90038+AN14*76.51762+AO14*50.57834 -> 37.7883 | AQ14: =$W14/C14 -> 0.026442308 | AR14: =IF(H14=0,"-",AB14/H14) -> - | AS14: =AG14/M14 -> 0 | AT14: =W14-'[1]26-12'!AS14 -> -19.248 | AU14: =AB14-'[1]26-12'!AX14 -> 0 | AV14: =AG14-'[1]26-12'!BC14 -> -2.767
A15: 7 | B15: Huyện Đức Thọ | C15: =SUM(D15:G15) -> 20 | D15: 0 | E15: 2.5 | F15: 13.5 | G15: 4 | H15: =SUM(I15:L15) -> 3 | I15: 0 | J15: 1 | K15: 2 | L15: 0 | M15: =SUM(N15:U15) -> 2 | N15: 0 | O15: 0 | P15: 0 | Q15: 0 | R15: 0 | S15: 0 | T15: 2 | U15: 0 | V15: =D15*285.06+E15*177.37+(F15+G15)*114.51+N15*85.71653+O15*71.6475+P15*87.00383+Q15*58.25799+R15*72.16284+S15*60.90038+T15*76.51762+U15*50.57834 -> 2600.3852 | W15: =SUM(X15:AA15) -> 0 | AB15: =SUM(AC15:AF15) -> 0 | AG15: =SUM(AH15:AO15) -> 0 | AP15: =X15*285.06+Y15*177.37+(Z15+AA15)*114.51+AH15*85.71653+AI15*71.6475+AJ15*87.00383+AK15*58.25799+AL15*72.16284+AM15*60.90038+AN15*76.51762+AO15*50.57834 -> 0 | AQ15: =$W15/C15 -> 0 | AR15: =IF(H15=0,"-",AB15/H15) -> 0 | AS15: =AG15/M15 -> 0 | AT15: =W15-'[1]26-12'!AS15 -> -31.85 | AU15: =AB15-'[1]26-12'!AX15 -> 0 | AV15: =AG15-'[1]26-12'!BC15 -> -2.5
A16: 8 | B16: Huyện Hương Sơn | C16: =SUM(D16:G16) -> 66.208 | D16: 0.2 | E16: 19.629 | F16: 40.52 | G16: 5.859 | H16: =SUM(I16:L16) -> 0 | I16: 0 | J16: 0 | K16: 0 | L16: 0 | M16: =SUM(N16:U16) -> 52.728 | N16: 3.28 | O16: 9.6 | P16: 0.6 | Q16: 0 | R16: 11.28 | S16: 13.028 | T16: 1 | U16: 13.94 | V16: =D16*285.06+E16*177.37+(F16+G16)*114.51+N16*85.71653+O16*71.6475+P16*87.00383+Q16*58.25799+R16*72.16284+S16*60.90038+T16*76.51762+U16*50.57834 -> 12259.622 | W16: =SUM(X16:AA16) -> 0.6 | Z16: 0.6 | AB16: =SUM(AC16:AF16) -> 0 | AG16: =SUM(AH16:AO16) -> 0 | AP16: =X16*285.06+Y16*177.37+(Z16+AA16)*114.51+AH16*85.71653+AI16*71.6475+AJ16*87.00383+AK16*58.25799+AL16*72.16284+AM16*60.90038+AN16*76.51762+AO16*50.57834 -> 68.706 | AQ16: =$W16/C16 -> 0.009062349 | AR16: =IF(H16=0,"-",AB16/H16) -> - | AS16: =AG16/M16 -> 0 | AT16: =W16-'[1]26-12'!AS16 -> -62.963 | AU16: =AB16-'[1]26-12'!AX16 -> 0 | AV16: =AG16-'[1]26-12'!BC16 -> -34.51
A17: 9 | B17: Huyện Lộc Hà | C17: =SUM(D17:G17) -> 19.548 | D17: 0.2 | E17: 4.131 | F17: 9.057 | G17: 6.16 | H17: =SUM(I17:L17) -> 16.942 | I17: 6.95 | J17: 6.182 | K17: 3.81 | L17: 0 | M17: =SUM(N17:U17) -> 6.89 | N17: 1 | O17: 0 | P17: 0.82 | Q17: 0 | R17: 3.02 | S17: 0 | T17: 2.05 | U17: 0 | V17: =D17*285.06+E17*177.37+(F17+G17)*114.51+N17*85.71653+O17*71.6475+P17*87.00383+Q17*58.25799+R17*72.16284+S17*60.90038+T17*76.51762+U17*50.57834 -> 3064.0787 | W17: =SUM(X17:AA17) -> 0 | AB17: =SUM(AC17:AF17) -> 0 | AG17: =SUM(AH17:AO17) -> 0 | AP17: =X17*285.06+Y17*177.37+(Z17+AA17)*114.51+AH17*85.71653+AI17*71.6475+AJ17*87.00383+AK17*58.25799+AL17*72.16284+AM17*60.90038+AN17*76.51762+AO17*50.57834 -> 0 | AQ17: =$W17/C17 -> 0 | AR17: =IF(H17=0,"-",AB17/H17) -> 0 | AS17: =AG17/M17 -> 0 | AT17: =W17-'[1]26-12'!AS17 -> -37.836 | AU17: =AB17-'[1]26-12'!AX17 -> -2.79 | AV17: =AG17-'[1]26-12'!BC17 -> -12.088
A18: 10 | B18: Thị xã Kỳ Anh | C18: =SUM(D18:G18) -> 16.323 | D18: 0 | E18: 1.791 | F18: 13.442 | G18: 1.09 | H18: =SUM(I18:L18) -> 1.805 | I18: 0 | J18: 0.93 | K18: 0.875 | L18: 0 | M18: =SUM(N18:U18) -> 7.619 | N18: 0.375 | O18: 0 | P18: 0 | Q18: 0 | R18: 0.767 | S18: 0.612 | T18: 1.851 | U18: 4.014 | V18: =D18*285.06+E18*177.37+(F18+G18)*114.51+N18*85.71653+O18*71.6475+P18*87.00383+Q18*58.25799+R18*72.16284+S18*60.90038+T18*76.51762+U18*50.57834 -> 2451.1482 | W18: =SUM(X18:AA18) -> 0 | AB18: =SUM(AC18:AF18) -> 0 | AG18: =SUM(AH18:AO18) -> 0 | AP18: =X18*285.06+Y18*177.37+(Z18+AA18)*114.51+AH18*85.71653+AI18*71.6475+AJ18*87.00383+AK18*58.25799+AL18*72.16284+AM18*60.90038+AN18*76.51762+AO18*50.57834 -> 0 | AQ18: =$W18/C18 -> 0 | AR18: =IF(H18=0,"-",AB18/H18) -> 0 | AS18: =AG18/M18 -> 0 | AT18: =W18-'[1]26-12'!AS18 -> -20.073 | AU18: =AB18-'[1]26-12'!AX18 -> 0 | AV18: =AG18-'[1]26-12'!BC18 -> -12.0013
A19: 11 | B19: Thị xã Hồng Lĩnh | C19: =SUM(D19:G19) -> 4.209 | D19: 0 | E19: 4.125 | F19: 0.084 | G19: 0 | H19: =SUM(I19:L19) -> 2.473 | I19: 0 | J19: 2.473 | K19: 0 | L19: 0 | M19: =SUM(N19:U19) -> 7.431 | N19: 0 | O19: 0 | P19: 0 | Q19: 0 | R19: 0.512 | S19: 0 | T19: 6.719 | U19: 0.2 | V19: =D19*285.06+E19*177.37+(F19+G19)*114.51+N19*85.71653+O19*71.6475+P19*87.00383+Q19*58.25799+R19*72.16284+S19*60.90038+T19*76.51762+U19*50.57834 -> 1302.455 | W19: =SUM(X19:AA19) -> 0 | AB19: =SUM(AC19:AF19) -> 0 | AG19: =SUM(AH19:AO19) -> 0 | AP19: =X19*285.06+Y19*177.37+(Z19+AA19)*114.51+AH19*85.71653+AI19*71.6475+AJ19*87.00383+AK19*58.25799+AL19*72.16284+AM19*60.90038+AN19*76.51762+AO19*50.57834 -> 0 | AQ19: =$W19/C19 -> 0 | AR19: =IF(H19=0,"-",AB19/H19) -> 0 | AS19: =AG19/M19 -> 0 | AT19: =W19-'[1]26-12'!AS19 -> -9.644 | AU19: =AB19-'[1]26-12'!AX19 -> -4.715 | AV19: =AG19-'[1]26-12'!BC19 -> -11.483
A20: 12 | B20: Huyện Hương Khê | C20: =SUM(D20:G20) -> 36.434 | D20: 0.65 | E20: 7.894 | F20: 19.367 | G20: 8.523 | H20: =SUM(I20:L20) -> 13.15 | I20: 11.15 | J20: 2 | K20: 0 | L20: 0 | M20: =SUM(N20:U20) -> 8.26 | N20: 0.36 | O20: 2.13 | P20: 0 | Q20: 0 | R20: 1.5 | S20: 3.195 | T20: 0 | U20: 1.075 | V20: =D20*285.06+E20*177.37+(F20+G20)*114.51+N20*85.71653+O20*71.6475+P20*87.00383+Q20*58.25799+R20*72.16284+S20*60.90038+T20*76.51762+U20*50.57834 -> 5319.7915 | W20: =SUM(X20:AA20) -> 0 | AB20: =SUM(AC20:AF20) -> 0 | AG20: =SUM(AH20:AO20) -> 0 | AP20: =X20*285.06+Y20*177.37+(Z20+AA20)*114.51+AH20*85.71653+AI20*71.6475+AJ20*87.00383+AK20*58.25799+AL20*72.16284+AM20*60.90038+AN20*76.51762+AO20*50.57834 -> 0 | AQ20: =$W20/C20 -> 0 | AR20: =IF(H20=0,"-",AB20/H20) -> 0 | AS20: =AG20/M20 -> 0 | AT20: =W20-'[1]26-12'!AS20 -> -42.0205 | AU20: =AB20-'[1]26-12'!AX20 -> 0 | AV20: =AG20-'[1]26-12'!BC20 -> -11.2078
A21: 13 | B21: Huyện Vũ Quang | C21: =SUM(D21:G21) -> 6.795 | D21: 0 | E21: 2 | F21: 3.775 | G21: 1.02 | H21: =SUM(I21:L21) -> 0 | I21: 0 | J21: 0 | K21: 0 | L21: 0 | M21: =SUM(N21:U21) -> 1.17 | N21: 0.64 | O21: 0 | P21: 0.53 | Q21: 0 | R21: 0 | S21: 0 | T21: 0 | U21: 0 | V21: =D21*285.06+E21*177.37+(F21+G21)*114.51+N21*85.71653+O21*71.6475+P21*87.00383+Q21*58.25799+R21*72.16284+S21*60.90038+T21*76.51762+U21*50.57834 -> 1004.7861 | W21: =SUM(X21:AA21) -> 0 | AB21: =SUM(AC21:AF21) -> 0 | AG21: =SUM(AH21:AO21) -> 0 | AP21: =X21*285.06+Y21*177.37+(Z21+AA21)*114.51+AH21*85.71653+AI21*71.6475+AJ21*87.00383+AK21*58.25799+AL21*72.16284+AM21*60.90038+AN21*76.51762+AO21*50.57834 -> 0 | AQ21: =$W21/C21 -> 0 | AR21: =IF(H21=0,"-",AB21/H21) -> - | AS21: =AG21/M21 -> 0 | AT21: =W21-'[1]26-12'!AS21 -> -8.236 | AU21: =AB21-'[1]26-12'!AX21 -> 0 | AV21: =AG21-'[1]26-12'!BC21 -> -0.18
B22: Tổng cộng | C22: =SUM(C9:C21) -> 432.2993 | D22: =SUM(D9:D21) -> 8.6112 | E22: =SUM(E9:E21) -> 82.072 | F22: =SUM(F9:F21) -> 248.6441 | G22: =SUM(G9:G21) -> 92.972 | H22: =SUM(H9:H21) -> 106.947 | I22: =SUM(I9:I21) -> 31.37 | J22: =SUM(J9:J21) -> 57.017 | ... V22: =SUM(V9:V21) -> 67618.64 | W22: 2.36 | X22: =SUM(X9:X21) -> 0.2 | Y22: =SUM(Y9:Y21) -> 0.97 | Z22: =SUM(Z9:Z21) -> 2.19 | AA22: =SUM(AA9:AA21) -> 0 | AB22: =SUM(AB9:AB21) -> 0 | AC22: =SUM(AC9:AC21) -> 0 | AD22: =SUM(AD9:AD21) -> 0 | AE22: =SUM(AE9:AE21) -> 0 | ... AP22: =SUM(AP9:AP21) -> 520.40366 | AQ22: =$W22/C22 -> 0.0054591808 | AR22: =IF(H22=0,"-",AB22/H22) -> 0 | AS22: =AG22/M22 -> 0.0040283365 | AT22: =SUM(AT9:AT21) -> -613.60998 | AU22: =SUM(AU9:AU21) -> -33.874 | AV22: =SUM(AV9:AV21) -> -231.0065

Sheet 13-3
B1: UỶ BAN NHÂN DÂN TỈNH HÀ TĨNH
B2: SỞ GIAO THÔNG VẬN TẢI
A3: PHỤ LỤC 1: BÁO CÁO KẾT QUẢ THỰC HIỆN KẾ HOẠCH LÀM ĐƯỜNG GTNT, RÃNH THOÁT NƯỚC, PHỤC HỒI NÂNG CẤP MẶT ĐƯỜNG BTXM ĐẾN NGÀY 13/3/2020
A5: TT | B5: Huyện, thị xã, thành phố | C5: Khối lượng theo kế hoạch UBND tỉnh | W5: Kết quả thực hiện lũy kế đến thời điểm báo cáo | AQ5: Mức độ hoàn thành kế hoạch đầu năm | AT5: Tăng so với tuần trước
C6: Đường giao thông (km) | D6: Trong đó | H6: Nâng cấp phục hồi mặt đường BTXM (km) | I6: Trong đó | M6: Rãnh thoát nước (km) | N6: Rãnh trên đường trục xã | R6: Rãnh trên đường trục thôn | V6: Tổng khối lượng xi măng (tấn) | W6: Đường giao thông (km) | X6: Trong đó | AB6: Nâng cấp phục hồi mặt đường BTXM (km) | AC6: Trong đó | AG6: Rãnh thoát nước (km) | AH6: Rãnh trên đường trục xã | AL6: Rãnh trên đường trục thôn | AP6: Tổng khối lượng xi măng sử dụng (tấn) | AQ6: Đường giao thông (%) | AR6: Nâng cấp phục hồi mặt đường BTXM (%) | AS6: Rãnh thoát nước (%) | AT6: Đường giao thông (km) | AU6: Nâng cấp phục hồi mặt đường BTXM (km) | AV6: Rãnh thoát nước (km)
D7: Đường trục xã và đường phố (km) | E7: Đường trục thôn, xóm và đường ngõ phố (km) | F7: Đường ngõ, xóm và đường ngách hẻm (km) | G7: Đường trục chính nội đồng (km) | I7: Đường trục xã và đường phố (km) | J7: Đường trục thôn, xóm và đường ngõ phố (km) | K7: Đường ngõ, xóm và đường ngách hẻm (km) | L7: Đường trục chính nội đồng (km) | N7: Rãnh BTXM có nắp đậy | O7: Rãnh BTXM không có nắp đậy | P7: Rãnh Gạch xây có nắp đậy | Q7: Rãnh Gạch xây không có nắp đậy | R7: Rãnh BTXM có nắp đậy | S7: Rãnh BTXM không có nắp đậy | T7: Rãnh Gạch xây có nắp đậy | U7: Rãnh Gạch xây không có nắp đậy | X7: Đường trục xã và đường phố (km) | Y7: Đường trục thôn, xóm và đường ngõ phố (km) | Z7: Đường ngõ, xóm và đường ngách hẻm (km) | AA7: Đường trục chính nội đồng (km) | AC7: Đường trục xã và đường phố (km) | AD7: Đường trục thôn, xóm và đường ngõ phố (km) | AE7: Đường ngõ, xóm và đường ngách hẻm (km) | AF7: Đường trục chính nội đồng (km) | AH7: Rãnh BTXM có nắp đậy | AI7: Rãnh BTXM không có nắp đậy | AJ7: Rãnh Gạch xây có nắp đậy | AK7: Rãnh Gạch xây không có nắp đậy | AL7: Rãnh BTXM có nắp đậy | AM7: Rãnh BTXM không có nắp đậy | AN7: Rãnh Gạch xây có nắp đậy | AO7: Rãnh Gạch xây không có nắp đậy
A8: 1 | B8: 2 | C8: 3 | D8: 4 | E8: 5 | F8: 6 | G8: 7 | H8: 8 | I8: 9 | J8: 10 | K8: 11 | L8: 12 | M8: 13 | N8: 14 | O8: 15 | P8: 16 | Q8: 17 | R8: 18 | S8: 19 | T8: 20 | U8: 21 | V8: 22 | W8: 23 | X8: 24 | Y8: 25 | Z8: 26 | AA8: 27 | AB8: 28 | AC8: 29 | AD8: 30 | AE8: 31 | AF8: 32 | AG8: 33 | AH8: 34 | AI8: 35 | AJ8: 36 | AK8: 37 | AL8: 38 | AM8: 39 | AN8: 40 | AO8: 41 | AP8: 42 | AQ8: 43 | AR8: 44 | AS8: 45 | AT8: 69 | AU8: 70 | AV8: 71
A9: 1 | B9: Huyện Kỳ Anh | C9: =SUM(D9:G9) -> 42.104 | D9: 0.775 | E9: 5.596 | F9: 31.403 | G9: 4.33 | H9: =SUM(I9:L9) -> 4.77 | I9: 0 | J9: 2.6 | K9: 2.17 | L9: 0 | M9: =SUM(N9:U9) -> 31.124 | N9: 0 | O9: 0 | P9: 0 | Q9: 1.6 | R9: 1.04 | S9: 14.61 | T9: 0.36 | U9: 13.514 | V9: =D9*285.06+E9*177.37+(F9+G9)*114.51+N9*85.71653+O9*71.6475+P9*87.00383+Q9*58.25799+R9*72.16284+S9*60.90038+T9*76.51762+U9*50.57834 -> 7074.3486 | W9: =SUM(X9:AA9) -> 0 | AB9: =SUM(AC9:AF9) -> 0 | AG9: =SUM(AH9:AO9) -> 0 | AP9: =X9*285.06+Y9*177.37+(Z9+AA9)*114.51+AH9*85.71653+AI9*71.6475+AJ9*87.00383+AK9*58.25799+AL9*72.16284+AM9*60.90038+AN9*76.51762+AO9*50.57834 -> 0 | AQ9: =$W9/C9 -> 0 | AR9: =IF(H9=0,"-",AB9/H9) -> 0 | AS9: =AG9/M9 -> 0 | AT9: =W9-'05-3'!W9 -> 0 | AU9: =AB9-'05-3'!AB9 -> 0 | AV9: =AG9-'05-3'!AG9 -> 0
A10: 2 | B10: Huyện Cẩm Xuyên | C10: =SUM(D10:G10) -> 64.551 | D10: 0 | E10: 8.07 | F10: 39.357 | G10: 17.124 | H10: =SUM(I10:L10) -> 8.99 | I10: 1.9 | J10: 6.14 | K10: 0.95 | L10: 0 | M10: =SUM(N10:U10) -> 18.263 | N10: 1.7 | O10: 3.192 | P10: 0 | Q10: 0.066 | R10: 1.35 | S10: 9.195 | T10: 0 | U10: 2.76 | V10: =D10*285.06+E10*177.37+(F10+G10)*114.51+N10*85.71653+O10*71.6475+P10*87.00383+Q10*58.25799+R10*72.16284+S10*60.90038+T10*76.51762+U10*50.57834 -> 9074.2722 | W10: =SUM(X10:AA10) -> 0.666 | Y10: 0.13 | Z10: =0.13+0.406 -> 0.536 | AB10: =SUM(AC10:AF10) -> 0 | AG10: =SUM(AH10:AO10) -> 0.87 | AM10: =0.65+0.22 -> 0.87 | AP10: =X10*285.06+Y10*177.37+(Z10+AA10)*114.51+AH10*85.71653+AI10*71.6475+AJ10*87.00383+AK10*58.25799+AL10*72.16284+AM10*60.90038+AN10*76.51762+AO10*50.57834 -> 137.41879 | AQ10: =$W10/C10 -> 0.010317423 | AR10: =IF(H10=0,"-",AB10/H10) -> 0 | AS10: =AG10/M10 -> 0.047637299 | AT10: =W10-'05-3'!W10 -> 0.666 | AU10: =AB10-'05-3'!AB10 -> 0 | AV10: =AG10-'05-3'!AG10 -> 0.37
A11: 3 | B11: Thành phố Hà Tĩnh | C11: =SUM(D11:G11) -> 12.357 | D11: 0 | E11: 2.864 | F11: 6.651 | G11: 2.842 | H11: =SUM(I11:L11) -> 11.988 | I11: 0 | J11: 11.988 | K11: 0 | L11: 0 | M11: =SUM(N11:U11) -> 5.046 | N11: 1.3 | O11: 0 | P11: 0 | Q11: 0 | R11: 3.746 | S11: 0 | T11: 0 | U11: 0 | V11: =D11*285.06+E11*177.37+(F11+G11)*114.51+N11*85.71653+O11*71.6475+P11*87.00383+Q11*58.25799+R11*72.16284+S11*60.90038+T11*76.51762+U11*50.57834 -> 1976.7846 | W11: =SUM(X11:AA11) -> 0 | AB11: =SUM(AC11:AF11) -> 0 | AG11: =SUM(AH11:AO11) -> 0 | AP11: =X11*285.06+Y11*177.37+(Z11+AA11)*114.51+AH11*85.71653+AI11*71.6475+AJ11*87.00383+AK11*58.25799+AL11*72.16284+AM11*60.90038+AN11*76.51762+AO11*50.57834 -> 0 | AQ11: =$W11/C11 -> 0 | AR11: =IF(H11=0,"-",AB11/H11) -> 0 | AS11: =AG11/M11 -> 0 | AT11: =W11-'05-3'!W11 -> 0 | AU11: =AB11-'05-3'!AB11 -> 0 | AV11: =AG11-'05-3'!AG11 -> 0
A12: 4 | B12: Huyện Thạch Hà | C12: =SUM(D12:G12) -> 92.218295 | D12: 6.7862 | E12: 9.535 | F12: 50.432095 | G12: 25.465 | H12: =SUM(I12:L12) -> 33.829 | I12: 2.47 | J12: 22.904 | K12: 8.455 | L12: 0 | M12: =SUM(N12:U12) -> 16.96 | N12: 3.17 | O12: 1 | P12: 0 | Q12: 0.5 | R12: 7.52 | S12: 3.06 | T12: 0.2 | U12: 1.51 | V12: =D12*285.06+E12*177.37+(F12+G12)*114.51+N12*85.71653+O12*71.6475+P12*87.00383+Q12*58.25799+R12*72.16284+S12*60.90038+T12*76.51762+U12*50.57834 -> 13509.868 | W12: =SUM(X12:AA12) -> 2.43 | X12: 0.2 | Y12: 0.97 | Z12: 1.26 | AB12: =SUM(AC12:AF12) -> 0 | AG12: =SUM(AH12:AO12) -> 0.2 | AO12: 0.2 | AP12: =X12*285.06+Y12*177.37+(Z12+AA12)*114.51+AH12*85.71653+AI12*71.6475+AJ12*87.00383+AK12*58.25799+AL12*72.16284+AM12*60.90038+AN12*76.51762+AO12*50.57834 -> 383.45917 | AQ12: =$W12/C12 -> 0.02635052 | AR12: =IF(H12=0,"-",AB12/H12) -> 0 | AS12: =AG12/M12 -> 0.011792453 | AT12: =W12-'05-3'!W12 -> 0 | AU12: =AB12-'05-3'!AB12 -> 0 | AV12: =AG12-'05-3'!AG12 -> 0
A13: 5 | B13: Huyện Can Lộc | C13: =SUM(D13:G13) -> 39.072 | D13: 0 | E13: 12.368 | F13: 17.339 | G13: 9.365 | H13: =SUM(I13:L13) -> 10 | I13: 8.9 | J13: 0.8 | K13: 0.3 | L13: 0 | M13: =SUM(N13:U13) -> 14.105 | N13: 1.43 | O13: 0 | P13: 0.4 | Q13: 0.2 | R13: 2.09 | S13: 0 | T13: 8.695 | U13: 1.29 | V13: =D13*285.06+E13*177.37+(F13+G13)*114.51+N13*85.71653+O13*71.6475+P13*87.00383+Q13*58.25799+R13*72.16284+S13*60.90038+T13*76.51762+U13*50.57834 -> 6302.0021 | W13: =SUM(X13:AA13) -> 0 | AB13: =SUM(AC13:AF13) -> 0 | AG13: =SUM(AH13:AO13) -> 0 | AP13: =X13*285.06+Y13*177.37+(Z13+AA13)*114.51+AH13*85.71653+AI13*71.6475+AJ13*87.00383+AK13*58.25799+AL13*72.16284+AM13*60.90038+AN13*76.51762+AO13*50.57834 -> 0 | AQ13: =$W13/C13 -> 0 | AR13: =IF(H13=0,"-",AB13/H13) -> 0 | AS13: =AG13/M13 -> 0 | AT13: =W13-'05-3'!W13 -> 0 | AU13: =AB13-'05-3'!AB13 -> 0 | AV13: =AG13-'05-3'!AG13 -> 0
A14: 6 | B14: Huyện Nghi Xuân | C14: =SUM(D14:G14) -> 12.48 | D14: 0 | E14: 1.569 | F14: 3.717 | G14: 7.194 | H14: =SUM(I14:L14) -> 0 | I14: 0 | J14: 0 | K14: 0 | L14: 0 | M14: =SUM(N14:U14) -> 2.173 | N14: 0 | O14: 0 | P14: 0.6 | Q14: 0 | R14: 0.055 | S14: 0.605 | T14: 0.47 | U14: 0.443 | V14: =D14*285.06+E14*177.37+(F14+G14)*114.51+N14*85.71653+O14*71.6475+P14*87.00383+Q14*58.25799+R14*72.16284+S14*60.90038+T14*76.51762+U14*50.57834 -> 1679.0976 | W14: =SUM(X14:AA14) -> 0.33 | Z14: 0.33 | AB14: =SUM(AC14:AF14) -> 0 | AG14: =SUM(AH14:AO14) -> 0 | AP14: =X14*285.06+Y14*177.37+(Z14+AA14)*114.51+AH14*85.71653+AI14*71.6475+AJ14*87.00383+AK14*58.25799+AL14*72.16284+AM14*60.90038+AN14*76.51762+AO14*50.57834 -> 37.7883 | AQ14: =$W14/C14 -> 0.026442308 | AR14: =IF(H14=0,"-",AB14/H14) -> - | AS14: =AG14/M14 -> 0 | AT14: =W14-'05-3'!W14 -> 0 | AU14: =AB14-'05-3'!AB14 -> 0 | AV14: =AG14-'05-3'!AG14 -> 0
A15: 7 | B15: Huyện Đức Thọ | C15: =SUM(D15:G15) -> 20 | D15: 0 | E15: 2.5 | F15: 13.5 | G15: 4 | H15: =SUM(I15:L15) -> 3 | I15: 0 | J15: 1 | K15: 2 | L15: 0 | M15: =SUM(N15:U15) -> 2 | N15: 0 | O15: 0 | P15: 0 | Q15: 0 | R15: 0 | S15: 0 | T15: 2 | U15: 0 | V15: =D15*285.06+E15*177.37+(F15+G15)*114.51+N15*85.71653+O15*71.6475+P15*87.00383+Q15*58.25799+R15*72.16284+S15*60.90038+T15*76.51762+U15*50.57834 -> 2600.3852 | W15: =SUM(X15:AA15) -> 0 | AB15: =SUM(AC15:AF15) -> 0 | AG15: =SUM(AH15:AO15) -> 0 | AP15: =X15*285.06+Y15*177.37+(Z15+AA15)*114.51+AH15*85.71653+AI15*71.6475+AJ15*87.00383+AK15*58.25799+AL15*72.16284+AM15*60.90038+AN15*76.51762+AO15*50.57834 -> 0 | AQ15: =$W15/C15 -> 0 | AR15: =IF(H15=0,"-",AB15/H15) -> 0 | AS15: =AG15/M15 -> 0 | AT15: =W15-'05-3'!W15 -> 0 | AU15: =AB15-'05-3'!AB15 -> 0 | AV15: =AG15-'05-3'!AG15 -> 0
A16: 8 | B16: Huyện Hương Sơn | C16: =SUM(D16:G16) -> 66.208 | D16: 0.2 | E16: 19.629 | F16: 40.52 | G16: 5.859 | H16: =SUM(I16:L16) -> 0 | I16: 0 | J16: 0 | K16: 0 | L16: 0 | M16: =SUM(N16:U16) -> 52.728 | N16: 3.28 | O16: 9.6 | P16: 0.6 | Q16: 0 | R16: 11.28 | S16: 13.028 | T16: 1 | U16: 13.94 | V16: =D16*285.06+E16*177.37+(F16+G16)*114.51+N16*85.71653+O16*71.6475+P16*87.00383+Q16*58.25799+R16*72.16284+S16*60.90038+T16*76.51762+U16*50.57834 -> 12259.622 | W16: =SUM(X16:AA16) -> 0.6 | Z16: 0.6 | AB16: =SUM(AC16:AF16) -> 0 | AG16: =SUM(AH16:AO16) -> 0 | AP16: =X16*285.06+Y16*177.37+(Z16+AA16)*114.51+AH16*85.71653+AI16*71.6475+AJ16*87.00383+AK16*58.25799+AL16*72.16284+AM16*60.90038+AN16*76.51762+AO16*50.57834 -> 68.706 | AQ16: =$W16/C16 -> 0.009062349 | AR16: =IF(H16=0,"-",AB16/H16) -> - | AS16: =AG16/M16 -> 0 | AT16: =W16-'05-3'!W16 -> 0 | AU16: =AB16-'05-3'!AB16 -> 0 | AV16: =AG16-'05-3'!AG16 -> 0
A17: 9 | B17: Huyện Lộc Hà | C17: =SUM(D17:G17) -> 19.548 | D17: 0.2 | E17: 4.131 | F17: 9.057 | G17: 6.16 | H17: =SUM(I17:L17) -> 16.942 | I17: 6.95 | J17: 6.182 | K17: 3.81 | L17: 0 | M17: =SUM(N17:U17) -> 6.89 | N17: 1 | O17: 0 | P17: 0.82 | Q17: 0 | R17: 3.02 | S17: 0 | T17: 2.05 | U17: 0 | V17: =D17*285.06+E17*177.37+(F17+G17)*114.51+N17*85.71653+O17*71.6475+P17*87.00383+Q17*58.25799+R17*72.16284+S17*60.90038+T17*76.51762+U17*50.57834 -> 3064.0787 | W17: =SUM(X17:AA17) -> 0 | AB17: =SUM(AC17:AF17) -> 0 | AG17: =SUM(AH17:AO17) -> 0 | AP17: =X17*285.06+Y17*177.37+(Z17+AA17)*114.51+AH17*85.71653+AI17*71.6475+AJ17*87.00383+AK17*58.25799+AL17*72.16284+AM17*60.90038+AN17*76.51762+AO17*50.57834 -> 0 | AQ17: =$W17/C17 -> 0 | AR17: =IF(H17=0,"-",AB17/H17) -> 0 | AS17: =AG17/M17 -> 0 | AT17: =W17-'05-3'!W17 -> 0 | AU17: =AB17-'05-3'!AB17 -> 0 | AV17: =AG17-'05-3'!AG17 -> 0
A18: 10 | B18: Thị xã Kỳ Anh | C18: =SUM(D18:G18) -> 16.323 | D18: 0 | E18: 1.791 | F18: 13.442 | G18: 1.09 | H18: =SUM(I18:L18) -> 1.805 | I18: 0 | J18: 0.93 | K18: 0.875 | L18: 0 | M18: =SUM(N18:U18) -> 7.619 | N18: 0.375 | O18: 0 | P18: 0 | Q18: 0 | R18: 0.767 | S18: 0.612 | T18: 1.851 | U18: 4.014 | V18: =D18*285.06+E18*177.37+(F18+G18)*114.51+N18*85.71653+O18*71.6475+P18*87.00383+Q18*58.25799+R18*72.16284+S18*60.90038+T18*76.51762+U18*50.57834 -> 2451.1482 | W18: =SUM(X18:AA18) -> 0 | AB18: =SUM(AC18:AF18) -> 0 | AG18: =SUM(AH18:AO18) -> 0 | AP18: =X18*285.06+Y18*177.37+(Z18+AA18)*114.51+AH18*85.71653+AI18*71.6475+AJ18*87.00383+AK18*58.25799+AL18*72.16284+AM18*60.90038+AN18*76.51762+AO18*50.57834 -> 0 | AQ18: =$W18/C18 -> 0 | AR18: =IF(H18=0,"-",AB18/H18) -> 0 | AS18: =AG18/M18 -> 0 | AT18: =W18-'05-3'!W18 -> 0 | AU18: =AB18-'05-3'!AB18 -> 0 | AV18: =AG18-'05-3'!AG18 -> 0
A19: 11 | B19: Thị xã Hồng Lĩnh | C19: =SUM(D19:G19) -> 4.209 | D19: 0 | E19: 4.125 | F19: 0.084 | G19: 0 | H19: =SUM(I19:L19) -> 2.473 | I19: 0 | J19: 2.473 | K19: 0 | L19: 0 | M19: =SUM(N19:U19) -> 7.431 | N19: 0 | O19: 0 | P19: 0 | Q19: 0 | R19: 0.512 | S19: 0 | T19: 6.719 | U19: 0.2 | V19: =D19*285.06+E19*177.37+(F19+G19)*114.51+N19*85.71653+O19*71.6475+P19*87.00383+Q19*58.25799+R19*72.16284+S19*60.90038+T19*76.51762+U19*50.57834 -> 1302.455 | W19: =SUM(X19:AA19) -> 0 | AB19: =SUM(AC19:AF19) -> 0 | AG19: =SUM(AH19:AO19) -> 0 | AP19: =X19*285.06+Y19*177.37+(Z19+AA19)*114.51+AH19*85.71653+AI19*71.6475+AJ19*87.00383+AK19*58.25799+AL19*72.16284+AM19*60.90038+AN19*76.51762+AO19*50.57834 -> 0 | AQ19: =$W19/C19 -> 0 | AR19: =IF(H19=0,"-",AB19/H19) -> 0 | AS19: =AG19/M19 -> 0 | AT19: =W19-'05-3'!W19 -> 0 | AU19: =AB19-'05-3'!AB19 -> 0 | AV19: =AG19-'05-3'!AG19 -> 0
A20: 12 | B20: Huyện Hương Khê | C20: =SUM(D20:G20) -> 36.434 | D20: 0.65 | E20: 7.894 | F20: 19.367 | G20: 8.523 | H20: =SUM(I20:L20) -> 13.15 | I20: 11.15 | J20: 2 | K20: 0 | L20: 0 | M20: =SUM(N20:U20) -> 8.26 | N20: 0.36 | O20: 2.13 | P20: 0 | Q20: 0 | R20: 1.5 | S20: 3.195 | T20: 0 | U20: 1.075 | V20: =D20*285.06+E20*177.37+(F20+G20)*114.51+N20*85.71653+O20*71.6475+P20*87.00383+Q20*58.25799+R20*72.16284+S20*60.90038+T20*76.51762+U20*50.57834 -> 5319.7915 | W20: =SUM(X20:AA20) -> 0 | AB20: =SUM(AC20:AF20) -> 0 | AG20: =SUM(AH20:AO20) -> 0 | AP20: =X20*285.06+Y20*177.37+(Z20+AA20)*114.51+AH20*85.71653+AI20*71.6475+AJ20*87.00383+AK20*58.25799+AL20*72.16284+AM20*60.90038+AN20*76.51762+AO20*50.57834 -> 0 | AQ20: =$W20/C20 -> 0 | AR20: =IF(H20=0,"-",AB20/H20) -> 0 | AS20: =AG20/M20 -> 0 | AT20: =W20-'05-3'!W20 -> 0 | AU20: =AB20-'05-3'!AB20 -> 0 | AV20: =AG20-'05-3'!AG20 -> 0
A21: 13 | B21: Huyện Vũ Quang | C21: =SUM(D21:G21) -> 6.795 | D21: 0 | E21: 2 | F21: 3.775 | G21: 1.02 | H21: =SUM(I21:L21) -> 0 | I21: 0 | J21: 0 | K21: 0 | L21: 0 | M21: =SUM(N21:U21) -> 1.17 | N21: 0.64 | O21: 0 | P21: 0.53 | Q21: 0 | R21: 0 | S21: 0 | T21: 0 | U21: 0 | V21: =D21*285.06+E21*177.37+(F21+G21)*114.51+N21*85.71653+O21*71.6475+P21*87.00383+Q21*58.25799+R21*72.16284+S21*60.90038+T21*76.51762+U21*50.57834 -> 1004.7861 | W21: =SUM(X21:AA21) -> 0 | AB21: =SUM(AC21:AF21) -> 0 | AG21: =SUM(AH21:AO21) -> 0 | AP21: =X21*285.06+Y21*177.37+(Z21+AA21)*114.51+AH21*85.71653+AI21*71.6475+AJ21*87.00383+AK21*58.25799+AL21*72.16284+AM21*60.90038+AN21*76.51762+AO21*50.57834 -> 0 | AQ21: =$W21/C21 -> 0 | AR21: =IF(H21=0,"-",AB21/H21) -> - | AS21: =AG21/M21 -> 0 | AT21: =W21-'05-3'!W21 -> 0 | AU21: =AB21-'05-3'!AB21 -> 0 | AV21: =AG21-'05-3'!AG21 -> 0
B22: Tổng cộng | C22: =SUM(C9:C21) -> 432.2993 | D22: =SUM(D9:D21) -> 8.6112 | E22: =SUM(E9:E21) -> 82.072 | F22: =SUM(F9:F21) -> 248.6441 | G22: =SUM(G9:G21) -> 92.972 | H22: =SUM(H9:H21) -> 106.947 | I22: =SUM(I9:I21) -> 31.37 | J22: =SUM(J9:J21) -> 57.017 | ... AP22: =SUM(AP9:AP21) -> 627.37226 | AQ22: =$W22/C22 -> 0.0093129923 | AR22: =IF(H22=0,"-",AB22/H22) -> 0 | AS22: =AG22/M22 -> 0.0061576 | AT22: =W22-'05-3'!W22 -> 1.666 | AU22: =SUM(AU9:AU21) -> 0 | AV22: =AG22-'05-3'!AG22 -> 0.37

Sheet 19-03
B1: UỶ BAN NHÂN DÂN TỈNH HÀ TĨNH
B2: SỞ GIAO THÔNG VẬN TẢI
A3: PHỤ LỤC 1: BÁO CÁO KẾT QUẢ THỰC HIỆN KẾ HOẠCH LÀM ĐƯỜNG GTNT, RÃNH THOÁT NƯỚC, PHỤC HỒI NÂNG CẤP MẶT ĐƯỜNG BTXM ĐẾN NGÀY 19/3/2020
A5: TT | B5: Huyện, thị xã, thành phố | C5: Khối lượng theo kế hoạch UBND tỉnh | W5: Kết quả thực hiện lũy kế đến thời điểm báo cáo | AQ5: Mức độ hoàn thành kế hoạch đầu năm | AT5: Tăng so với tuần trước | AW5: Ghi chú:
C6: Đường giao thông (km) | D6: Trong đó | H6: Nâng cấp phục hồi mặt đường BTXM (km) | I6: Trong đó | M6: Rãnh thoát nước (km) | N6: Rãnh trên đường trục xã | R6: Rãnh trên đường trục thôn | V6: Tổng khối lượng xi măng (tấn) | W6: Đường giao thông (km) | X6: Trong đó | AB6: Nâng cấp phục hồi mặt đường BTXM (km) | AC6: Trong đó | AG6: Rãnh thoát nước (km) | AH6: Rãnh trên đường trục xã | AL6: Rãnh trên đường trục thôn | AP6: Tổng khối lượng xi măng đã nhận (tấn) | AQ6: Đường giao thông (%) | AR6: Nâng cấp phục hồi mặt đường BTXM (%) | AS6: Rãnh thoát nước (%) | AT6: Đường giao thông (km) | AU6: Nâng cấp phục hồi mặt đường BTXM (km) | AV6: Rãnh thoát nước (km)
D7: Đường trục xã và đường phố (km) | E7: Đường trục thôn, xóm và đường ngõ phố (km) | F7: Đường ngõ, xóm và đường ngách hẻm (km) | G7: Đường trục chính nội đồng (km) | I7: Đường trục xã và đường phố (km) | J7: Đường trục thôn, xóm và đường ngõ phố (km) | K7: Đường ngõ, xóm và đường ngách hẻm (km) | L7: Đường trục chính nội đồng (km) | N7: Rãnh BTXM có nắp đậy | O7: Rãnh BTXM không có nắp đậy | P7: Rãnh Gạch xây có nắp đậy | Q7: Rãnh Gạch xây không có nắp đậy | R7: Rãnh BTXM có nắp đậy | S7: Rãnh BTXM không có nắp đậy | T7: Rãnh Gạch xây có nắp đậy | U7: Rãnh Gạch xây không có nắp đậy | X7: Đường trục xã và đường phố (km) | Y7: Đường trục thôn, xóm và đường ngõ phố (km) | Z7: Đường ngõ, xóm và đường ngách hẻm (km) | AA7: Đường trục chính nội đồng (km) | AC7: Đường trục xã và đường phố (km) | AD7: Đường trục thôn, xóm và đường ngõ phố (km) | AE7: Đường ngõ, xóm và đường ngách hẻm (km) | AF7: Đường trục chính nội đồng (km) | AH7: Rãnh BTXM có nắp đậy | AI7: Rãnh BTXM không có nắp đậy | AJ7: Rãnh Gạch xây có nắp đậy | AK7: Rãnh Gạch xây không có nắp đậy | AL7: Rãnh BTXM có nắp đậy | AM7: Rãnh BTXM không có nắp đậy | AN7: Rãnh Gạch xây có nắp đậy | AO7: Rãnh Gạch xây không có nắp đậy
A8: 1 | B8: 2 | C8: 3 | D8: 4 | E8: 5 | F8: 6 | G8: 7 | H8: 8 | I8: 9 | J8: 10 | K8: 11 | L8: 12 | M8: 13 | N8: 14 | O8: 15 | P8: 16 | Q8: 17 | R8: 18 | S8: 19 | T8: 20 | U8: 21 | V8: 22 | W8: 23 | X8: 24 | Y8: 25 | Z8: 26 | AA8: 27 | AB8: 28 | AC8: 29 | AD8: 30 | AE8: 31 | AF8: 32 | AG8: 33 | AH8: 34 | AI8: 35 | AJ8: 36 | AK8: 37 | AL8: 38 | AM8: 39 | AN8: 40 | AO8: 41 | AP8: 42 | AQ8: 43 | AR8: 44 | AS8: 45 | AT8: 69 | AU8: 70 | AV8: 71
A9: 1 | B9: Huyện Kỳ Anh | C9: =SUM(D9:G9) -> 42.104 | D9: 0.775 | E9: 5.596 | F9: 31.403 | G9: 4.33 | H9: =SUM(I9:L9) -> 4.77 | I9: 0 | J9: 2.6 | K9: 2.17 | L9: 0 | M9: =SUM(N9:U9) -> 31.124 | N9: 0 | O9: 0 | P9: 0 | Q9: 1.6 | R9: 1.04 | S9: 14.61 | T9: 0.36 | U9: 13.514 | V9: =D9*285.06+E9*177.37+(F9+G9)*114.51+N9*85.71653+O9*71.6475+P9*87.00383+Q9*58.25799+R9*72.16284+S9*60.90038+T9*76.51762+U9*50.57834 -> 7074.3486 | W9: =SUM(X9:AA9) -> 0 | AB9: =SUM(AC9:AF9) -> 0 | AG9: =SUM(AH9:AO9) -> 0 | AP9: 0 | AQ9: =$W9/C9 -> 0 | AR9: =IF(H9=0,"-",AB9/H9) -> 0 | AS9: =AG9/M9 -> 0 | AT9: =W9-'13-3'!W9 -> 0 | AU9: =AB9-'13-3'!AB9 -> 0 | AV9: =AG9-'13-3'!AG9 -> 0
A10: 2 | B10: Huyện Cẩm Xuyên | C10: =SUM(D10:G10) -> 64.551 | D10: 0 | E10: 8.07 | F10: 39.357 | G10: 17.124 | H10: =SUM(I10:L10) -> 8.99 | I10: 1.9 | J10: 6.14 | K10: 0.95 | L10: 0 | M10: =SUM(N10:U10) -> 18.263 | N10: 1.7 | O10: 3.192 | P10: 0 | Q10: 0.066 | R10: 1.35 | S10: 9.195 | T10: 0 | U10: 2.76 | V10: =D10*285.06+E10*177.37+(F10+G10)*114.51+N10*85.71653+O10*71.6475+P10*87.00383+Q10*58.25799+R10*72.16284+S10*60.90038+T10*76.51762+U10*50.57834 -> 9074.2722 | W10: =SUM(X10:AA10) -> 0.666 | Y10: 0.13 | Z10: =0.13+0.406 -> 0.536 | AB10: =SUM(AC10:AF10) -> 0 | AG10: =SUM(AH10:AO10) -> 0.87 | AM10: =0.65+0.22 -> 0.87 | AP10: =180+60+124 -> 364 | AQ10: =$W10/C10 -> 0.010317423 | AR10: =IF(H10=0,"-",AB10/H10) -> 0 | AS10: =AG10/M10 -> 0.047637299 | AT10: =W10-'13-3'!W10 -> 0 | AU10: =AB10-'13-3'!AB10 -> 0 | AV10: =AG10-'13-3'!AG10 -> 0
A11: 3 | B11: Thành phố Hà Tĩnh | C11: =SUM(D11:G11) -> 12.357 | D11: 0 | E11: 2.864 | F11: 6.651 | G11: 2.842 | H11: =SUM(I11:L11) -> 11.988 | I11: 0 | J11: 11.988 | K11: 0 | L11: 0 | M11: =SUM(N11:U11) -> 5.046 | N11: 1.3 | O11: 0 | P11: 0 | Q11: 0 | R11: 3.746 | S11: 0 | T11: 0 | U11: 0 | V11: =D11*285.06+E11*177.37+(F11+G11)*114.51+N11*85.71653+O11*71.6475+P11*87.00383+Q11*58.25799+R11*72.16284+S11*60.90038+T11*76.51762+U11*50.57834 -> 1976.7846 | W11: =SUM(X11:AA11) -> 0 | AB11: =SUM(AC11:AF11) -> 0 | AG11: =SUM(AH11:AO11) -> 0 | AP11: 35 | AQ11: =$W11/C11 -> 0 | AR11: =IF(H11=0,"-",AB11/H11) -> 0 | AS11: =AG11/M11 -> 0 | AT11: =W11-'13-3'!W11 -> 0 | AU11: =AB11-'13-3'!AB11 -> 0 | AV11: =AG11-'13-3'!AG11 -> 0
A12: 4 | B12: Huyện Thạch Hà | C12: =SUM(D12:G12) -> 92.218295 | D12: 6.7862 | E12: 9.535 | F12: 50.432095 | G12: 25.465 | H12: =SUM(I12:L12) -> 33.829 | I12: 2.47 | J12: 22.904 | K12: 8.455 | L12: 0 | M12: =SUM(N12:U12) -> 16.96 | N12: 3.17 | O12: 1 | P12: 0 | Q12: 0.5 | R12: 7.52 | S12: 3.06 | T12: 0.2 | U12: 1.51 | V12: =D12*285.06+E12*177.37+(F12+G12)*114.51+N12*85.71653+O12*71.6475+P12*87.00383+Q12*58.25799+R12*72.16284+S12*60.90038+T12*76.51762+U12*50.57834 -> 13509.868 | W12: =SUM(X12:AA12) -> 4.406 | X12: 0.2 | Y12: 1.252 | Z12: 2.754 | AA12: 0.2 | AB12: =SUM(AC12:AF12) -> 0 | AG12: =SUM(AH12:AO12) -> 0.57 | AH12: 0 | AI12: 0.1 | AJ12: 0 | AK12: 0 | AL12: 0 | AM12: 0 | AN12: 0.27 | AO12: 0.2 | AP12: 725 | AQ12: =$W12/C12 -> 0.047777938 | AR12: =IF(H12=0,"-",AB12/H12) -> 0 | AS12: =AG12/M12 -> 0.033608491 | AT12: =W12-'13-3'!W12 -> 1.976 | AU12: =AB12-'13-3'!AB12 -> 0 | AV12: =AG12-'13-3'!AG12 -> 0.37
A13: 5 | B13: Huyện Can Lộc | C13: =SUM(D13:G13) -> 39.072 | D13: 0 | E13: 12.368 | F13: 17.339 | G13: 9.365 | H13: =SUM(I13:L13) -> 10 | I13: 8.9 | J13: 0.8 | K13: 0.3 | L13: 0 | M13: =SUM(N13:U13) -> 14.105 | N13: 1.43 | O13: 0 | P13: 0.4 | Q13: 0.2 | R13: 2.09 | S13: 0 | T13: 8.695 | U13: 1.29 | V13: =D13*285.06+E13*177.37+(F13+G13)*114.51+N13*85.71653+O13*71.6475+P13*87.00383+Q13*58.25799+R13*72.16284+S13*60.90038+T13*76.51762+U13*50.57834 -> 6302.0021 | W13: =SUM(X13:AA13) -> 0 | AB13: =SUM(AC13:AF13) -> 0 | AG13: =SUM(AH13:AO13) -> 0 | AP13: 0 | AQ13: =$W13/C13 -> 0 | AR13: =IF(H13=0,"-",AB13/H13) -> 0 | AS13: =AG13/M13 -> 0 | AT13: =W13-'13-3'!W13 -> 0 | AU13: =AB13-'13-3'!AB13 -> 0 | AV13: =AG13-'13-3'!AG13 -> 0
A14: 6 | B14: Huyện Nghi Xuân | C14: =SUM(D14:G14) -> 12.48 | D14: 0 | E14: 1.569 | F14: 3.717 | G14: 7.194 | H14: =SUM(I14:L14) -> 0 | I14: 0 | J14: 0 | K14: 0 | L14: 0 | M14: =SUM(N14:U14) -> 2.173 | N14: 0 | O14: 0 | P14: 0.6 | Q14: 0 | R14: 0.055 | S14: 0.605 | T14: 0.47 | U14: 0.443 | V14: =D14*285.06+E14*177.37+(F14+G14)*114.51+N14*85.71653+O14*71.6475+P14*87.00383+Q14*58.25799+R14*72.16284+S14*60.90038+T14*76.51762+U14*50.57834 -> 1679.0976 | W14: =SUM(X14:AA14) -> 1.04 | Z14: 0.33 | AA14: 0.71 | AB14: =SUM(AC14:AF14) -> 0 | AG14: =SUM(AH14:AO14) -> 0 | AP14: 0 | AQ14: =$W14/C14 -> 0.083333333 | AR14: =IF(H14=0,"-",AB14/H14) -> - | AS14: =AG14/M14 -> 0 | AT14: =W14-'13-3'!W14 -> 0.71 | AU14: =AB14-'13-3'!AB14 -> 0 | AV14: =AG14-'13-3'!AG14 -> 0
A15: 7 | B15: Huyện Đức Thọ | C15: =SUM(D15:G15) -> 20 | D15: 0 | E15: 2.5 | F15: 13.5 | G15: 4 | H15: =SUM(I15:L15) -> 3 | I15: 0 | J15: 1 | K15: 2 | L15: 0 | M15: =SUM(N15:U15) -> 2 | N15: 0 | O15: 0 | P15: 0 | Q15: 0 | R15: 0 | S15: 0 | T15: 2 | U15: 0 | V15: =D15*285.06+E15*177.37+(F15+G15)*114.51+N15*85.71653+O15*71.6475+P15*87.00383+Q15*58.25799+R15*72.16284+S15*60.90038+T15*76.51762+U15*50.57834 -> 2600.3852 | W15: =SUM(X15:AA15) -> 0 | AB15: =SUM(AC15:AF15) -> 0 | AG15: =SUM(AH15:AO15) -> 0 | AP15: 0 | AQ15: =$W15/C15 -> 0 | AR15: =IF(H15=0,"-",AB15/H15) -> 0 | AS15: =AG15/M15 -> 0 | AT15: =W15-'13-3'!W15 -> 0 | AU15: =AB15-'13-3'!AB15 -> 0 | AV15: =AG15-'13-3'!AG15 -> 0
A16: 8 | B16: Huyện Hương Sơn | C16: =SUM(D16:G16) -> 66.208 | D16: 0.2 | E16: 19.629 | F16: 40.52 | G16: 5.859 | H16: =SUM(I16:L16) -> 0 | I16: 0 | J16: 0 | K16: 0 | L16: 0 | M16: =SUM(N16:U16) -> 52.728 | N16: 3.28 | O16: 9.6 | P16: 0.6 | Q16: 0 | R16: 11.28 | S16: 13.028 | T16: 1 | U16: 13.94 | V16: =D16*285.06+E16*177.37+(F16+G16)*114.51+N16*85.71653+O16*71.6475+P16*87.00383+Q16*58.25799+R16*72.16284+S16*60.90038+T16*76.51762+U16*50.57834 -> 12259.622 | W16: =SUM(X16:AA16) -> 0.6 | Z16: 0.6 | AB16: =SUM(AC16:AF16) -> 0 | AG16: =SUM(AH16:AO16) -> 0 | AP16: 100 | AQ16: =$W16/C16 -> 0.009062349 | AR16: =IF(H16=0,"-",AB16/H16) -> - | AS16: =AG16/M16 -> 0 | AT16: =W16-'13-3'!W16 -> 0 | AU16: =AB16-'13-3'!AB16 -> 0 | AV16: =AG16-'13-3'!AG16 -> 0 | AW16: Xi măng Ứng trước 13/3
A17: 9 | B17: Huyện Lộc Hà | C17: =SUM(D17:G17) -> 19.548 | D17: 0.2 | E17: 4.131 | F17: 9.057 | G17: 6.16 | H17: =SUM(I17:L17) -> 16.942 | I17: 6.95 | J17: 6.182 | K17: 3.81 | L17: 0 | M17: =SUM(N17:U17) -> 6.89 | N17: 1 | O17: 0 | P17: 0.82 | Q17: 0 | R17: 3.02 | S17: 0 | T17: 2.05 | U17: 0 | V17: =D17*285.06+E17*177.37+(F17+G17)*114.51+N17*85.71653+O17*71.6475+P17*87.00383+Q17*58.25799+R17*72.16284+S17*60.90038+T17*76.51762+U17*50.57834 -> 3064.0787 | W17: =SUM(X17:AA17) -> 0 | AB17: =SUM(AC17:AF17) -> 0 | AG17: =SUM(AH17:AO17) -> 0 | AP17: 0 | AQ17: =$W17/C17 -> 0 | AR17: =IF(H17=0,"-",AB17/H17) -> 0 | AS17: =AG17/M17 -> 0 | AT17: =W17-'13-3'!W17 -> 0 | AU17: =AB17-'13-3'!AB17 -> 0 | AV17: =AG17-'13-3'!AG17 -> 0
A18: 10 | B18: Thị xã Kỳ Anh | C18: =SUM(D18:G18) -> 16.323 | D18: 0 | E18: 1.791 | F18: 13.442 | G18: 1.09 | H18: =SUM(I18:L18) -> 1.805 | I18: 0 | J18: 0.93 | K18: 0.875 | L18: 0 | M18: =SUM(N18:U18) -> 7.619 | N18: 0.375 | O18: 0 | P18: 0 | Q18: 0 | R18: 0.767 | S18: 0.612 | T18: 1.851 | U18: 4.014 | V18: =D18*285.06+E18*177.37+(F18+G18)*114.51+N18*85.71653+O18*71.6475+P18*87.00383+Q18*58.25799+R18*72.16284+S18*60.90038+T18*76.51762+U18*50.57834 -> 2451.1482 | W18: =SUM(X18:AA18) -> 0 | AB18: =SUM(AC18:AF18) -> 0 | AG18: =SUM(AH18:AO18) -> 0 | AP18: 0 | AQ18: =$W18/C18 -> 0 | AR18: =IF(H18=0,"-",AB18/H18) -> 0 | AS18: =AG18/M18 -> 0 | AT18: =W18-'13-3'!W18 -> 0 | AU18: =AB18-'13-3'!AB18 -> 0 | AV18: =AG18-'13-3'!AG18 -> 0
A19: 11 | B19: Thị xã Hồng Lĩnh | C19: =SUM(D19:G19) -> 4.209 | D19: 0 | E19: 4.125 | F19: 0.084 | G19: 0 | H19: =SUM(I19:L19) -> 2.473 | I19: 0 | J19: 2.473 | K19: 0 | L19: 0 | M19: =SUM(N19:U19) -> 7.431 | N19: 0 | O19: 0 | P19: 0 | Q19: 0 | R19: 0.512 | S19: 0 | T19: 6.719 | U19: 0.2 | V19: =D19*285.06+E19*177.37+(F19+G19)*114.51+N19*85.71653+O19*71.6475+P19*87.00383+Q19*58.25799+R19*72.16284+S19*60.90038+T19*76.51762+U19*50.57834 -> 1302.455 | W19: =SUM(X19:AA19) -> 0 | AB19: =SUM(AC19:AF19) -> 0 | AG19: =SUM(AH19:AO19) -> 0 | AP19: 0 | AQ19: =$W19/C19 -> 0 | AR19: =IF(H19=0,"-",AB19/H19) -> 0 | AS19: =AG19/M19 -> 0 | AT19: =W19-'13-3'!W19 -> 0 | AU19: =AB19-'13-3'!AB19 -> 0 | AV19: =AG19-'13-3'!AG19 -> 0
A20: 12 | B20: Huyện Hương Khê | C20: =SUM(D20:G20) -> 36.434 | D20: 0.65 | E20: 7.894 | F20: 19.367 | G20: 8.523 | H20: =SUM(I20:L20) -> 13.15 | I20: 11.15 | J20: 2 | K20: 0 | L20: 0 | M20: =SUM(N20:U20) -> 8.26 | N20: 0.36 | O20: 2.13 | P20: 0 | Q20: 0 | R20: 1.5 | S20: 3.195 | T20: 0 | U20: 1.075 | V20: =D20*285.06+E20*177.37+(F20+G20)*114.51+N20*85.71653+O20*71.6475+P20*87.00383+Q20*58.25799+R20*72.16284+S20*60.90038+T20*76.51762+U20*50.57834 -> 5319.7915 | W20: =SUM(X20:AA20) -> 0 | AB20: =SUM(AC20:AF20) -> 0 | AG20: =SUM(AH20:AO20) -> 0 | AP20: 0 | AQ20: =$W20/C20 -> 0 | AR20: =IF(H20=0,"-",AB20/H20) -> 0 | AS20: =AG20/M20 -> 0 | AT20: =W20-'13-3'!W20 -> 0 | AU20: =AB20-'13-3'!AB20 -> 0 | AV20: =AG20-'13-3'!AG20 -> 0
A21: 13 | B21: Huyện Vũ Quang | C21: =SUM(D21:G21) -> 6.795 | D21: 0 | E21: 2 | F21: 3.775 | G21: 1.02 | H21: =SUM(I21:L21) -> 0 | I21: 0 | J21: 0 | K21: 0 | L21: 0 | M21: =SUM(N21:U21) -> 1.17 | N21: 0.64 | O21: 0 | P21: 0.53 | Q21: 0 | R21: 0 | S21: 0 | T21: 0 | U21: 0 | V21: =D21*285.06+E21*177.37+(F21+G21)*114.51+N21*85.71653+O21*71.6475+P21*87.00383+Q21*58.25799+R21*72.16284+S21*60.90038+T21*76.51762+U21*50.57834 -> 1004.7861 | W21: =SUM(X21:AA21) -> 0 | AB21: =SUM(AC21:AF21) -> 0 | AG21: =SUM(AH21:AO21) -> 0 | AP21: 0 | AQ21: =$W21/C21 -> 0 | AR21: =IF(H21=0,"-",AB21/H21) -> - | AS21: =AG21/M21 -> 0 | AT21: =W21-'13-3'!W21 -> 0 | AU21: =AB21-'13-3'!AB21 -> 0 | AV21: =AG21-'13-3'!AG21 -> 0
B22: Tổng cộng | C22: =SUM(C9:C21) -> 432.2993 | D22: =SUM(D9:D21) -> 8.6112 | E22: =SUM(E9:E21) -> 82.072 | F22: =SUM(F9:F21) -> 248.6441 | G22: =SUM(G9:G21) -> 92.972 | H22: =SUM(H9:H21) -> 106.947 | I22: =SUM(I9:I21) -> 31.37 | J22: =SUM(J9:J21) -> 57.017 | ... AP22: =SUM(AP9:AP21) -> 1224 | AQ22: =$W22/C22 -> 0.01552628 | AR22: =IF(H22=0,"-",AB22/H22) -> 0 | AS22: =AG22/M22 -> 0.0082868636 | AT22: =W22-'13-3'!W22 -> 2.686 | AU22: =SUM(AU9:AU21) -> 0 | AV22: =SUM(AV9:AV21) -> 0.37

Sheet 26-3
B1: UỶ BAN NHÂN DÂN TỈNH HÀ TĨNH
B2: SỞ GIAO THÔNG VẬN TẢI
A3: PHỤ LỤC 1: BÁO CÁO KẾT QUẢ THỰC HIỆN KẾ HOẠCH LÀM ĐƯỜNG GTNT, RÃNH THOÁT NƯỚC, PHỤC HỒI NÂNG CẤP MẶT ĐƯỜNG BTXM ĐẾN NGÀY 26/3/2020
A5: TT | B5: Huyện, thị xã, thành phố | C5: Khối lượng theo kế hoạch UBND tỉnh | W5: Kết quả thực hiện lũy kế đến thời điểm báo cáo | AQ5: Mức độ hoàn thành kế hoạch đầu năm | AT5: Tăng so với tuần trước | AW5: Ghi chú:
C6: Đường giao thông (km) | D6: Trong đó | H6: Nâng cấp phục hồi mặt đường BTXM (km) | I6: Trong đó | M6: Rãnh thoát nước (km) | N6: Rãnh trên đường trục xã | R6: Rãnh trên đường trục thôn | V6: Tổng khối lượng xi măng (tấn) | W6: Đường giao thông (km) | X6: Trong đó | AB6: Nâng cấp phục hồi mặt đường BTXM (km) | AC6: Trong đó | AG6: Rãnh thoát nước (km) | AH6: Rãnh trên đường trục xã | AL6: Rãnh trên đường trục thôn | AP6: Tổng khối lượng xi măng đã nhận (tấn) | AQ6: Đường giao thông (%) | AR6: Nâng cấp phục hồi mặt đường BTXM (%) | AS6: Rãnh thoát nước (%) | AT6: Đường giao thông (km) | AU6: Nâng cấp phục hồi mặt đường BTXM (km) | AV6: Rãnh thoát nước (km)
D7: Đường trục xã và đường phố (km) | E7: Đường trục thôn, xóm và đường ngõ phố (km) | F7: Đường ngõ, xóm và đường ngách hẻm (km) | G7: Đường trục chính nội đồng (km) | I7: Đường trục xã và đường phố (km) | J7: Đường trục thôn, xóm và đường ngõ phố (km) | K7: Đường ngõ, xóm và đường ngách hẻm (km) | L7: Đường trục chính nội đồng (km) | N7: Rãnh BTXM có nắp đậy | O7: Rãnh BTXM không có nắp đậy | P7: Rãnh Gạch xây có nắp đậy | Q7: Rãnh Gạch xây không có nắp đậy | R7: Rãnh BTXM có nắp đậy | S7: Rãnh BTXM không có nắp đậy | T7: Rãnh Gạch xây có nắp đậy | U7: Rãnh Gạch xây không có nắp đậy | X7: Đường trục xã và đường phố (km) | Y7: Đường trục thôn, xóm và đường ngõ phố (km) | Z7: Đường ngõ, xóm và đường ngách hẻm (km) | AA7: Đường trục chính nội đồng (km) | AC7: Đường trục xã và đường phố (km) | AD7: Đường trục thôn, xóm và đường ngõ phố (km) | AE7: Đường ngõ, xóm và đường ngách hẻm (km) | AF7: Đường trục chính nội đồng (km) | AH7: Rãnh BTXM có nắp đậy | AI7: Rãnh BTXM không có nắp đậy | AJ7: Rãnh Gạch xây có nắp đậy | AK7: Rãnh Gạch xây không có nắp đậy | AL7: Rãnh BTXM có nắp đậy | AM7: Rãnh BTXM không có nắp đậy | AN7: Rãnh Gạch xây có nắp đậy | AO7: Rãnh Gạch xây không có nắp đậy
A8: 1 | B8: 2 | C8: 3 | D8: 4 | E8: 5 | F8: 6 | G8: 7 | H8: 8 | I8: 9 | J8: 10 | K8: 11 | L8: 12 | M8: 13 | N8: 14 | O8: 15 | P8: 16 | Q8: 17 | R8: 18 | S8: 19 | T8: 20 | U8: 21 | V8: 22 | W8: 23 | X8: 24 | Y8: 25 | Z8: 26 | AA8: 27 | AB8: 28 | AC8: 29 | AD8: 30 | AE8: 31 | AF8: 32 | AG8: 33 | AH8: 34 | AI8: 35 | AJ8: 36 | AK8: 37 | AL8: 38 | AM8: 39 | AN8: 40 | AO8: 41 | AP8: 42 | AQ8: 43 | AR8: 44 | AS8: 45 | AT8: 69 | AU8: 70 | AV8: 71
A9: 1 | B9: Huyện Kỳ Anh | C9: =SUM(D9:G9) -> 42.104 | D9: 0.775 | E9: 5.596 | F9: 31.403 | G9: 4.33 | H9: =SUM(I9:L9) -> 4.77 | I9: 0 | J9: 2.6 | K9: 2.17 | L9: 0 | M9: =SUM(N9:U9) -> 31.124 | N9: 0 | O9: 0 | P9: 0 | Q9: 1.6 | R9: 1.04 | S9: 14.61 | T9: 0.36 | U9: 13.514 | V9: =D9*285.06+E9*177.37+(F9+G9)*114.51+N9*85.71653+O9*71.6475+P9*87.00383+Q9*58.25799+R9*72.16284+S9*60.90038+T9*76.51762+U9*50.57834 -> 7074.3486 | W9: =SUM(X9:AA9) -> 0.43 | X9: 0 | Y9: 0.07 | Z9: 0.36 | AA9: 0 | AB9: =SUM(AC9:AF9) -> 0 | AG9: =SUM(AH9:AO9) -> 4.55 | AH9: 0 | AI9: 0 | AJ9: 0 | AK9: 0 | AL9: 0 | AM9: 0.4 | AN9: 0 | AO9: 4.15 | AP9: 476 | AQ9: =$W9/C9 -> 0.010212806 | AR9: =IF(H9=0,"-",AB9/H9) -> 0 | AS9: =AG9/M9 -> 0.14618944 | AT9: =W9-'19-03'!W9 -> 0.43 | AU9: =AB9-'19-03'!AB9 -> 0 | AV9: =AG9-'19-03'!AG9 -> 4.55
A10: 2 | B10: Huyện Cẩm Xuyên | C10: =SUM(D10:G10) -> 64.551 | D10: 0 | E10: 8.07 | F10: 39.357 | G10: 17.124 | H10: =SUM(I10:L10) -> 8.99 | I10: 1.9 | J10: 6.14 | K10: 0.95 | L10: 0 | M10: =SUM(N10:U10) -> 18.263 | N10: 1.7 | O10: 3.192 | P10: 0 | Q10: 0.066 | R10: 1.35 | S10: 9.195 | T10: 0 | U10: 2.76 | V10: =D10*285.06+E10*177.37+(F10+G10)*114.51+N10*85.71653+O10*71.6475+P10*87.00383+Q10*58.25799+R10*72.16284+S10*60.90038+T10*76.51762+U10*50.57834 -> 9074.2722 | W10: =SUM(X10:AA10) -> 2.49 | X10: 0 | Y10: 0.49 | Z10: 1.6 | AA10: 0.4 | AB10: =SUM(AC10:AF10) -> 0 | AG10: =SUM(AH10:AO10) -> 0.92 | AH10: 0 | AI10: 0 | AJ10: 0 | AK10: 0 | AL10: 0.22 | AM10: 0.7 | AN10: 0 | AO10: 0 | AP10: 372 | AQ10: =$W10/C10 -> 0.038574151 | AR10: =IF(H10=0,"-",AB10/H10) -> 0 | AS10: =AG10/M10 -> 0.050375075 | AT10: =W10-'19-03'!W10 -> 1.824 | AU10: =AB10-'19-03'!AB10 -> 0 | AV10: =AG10-'19-03'!AG10 -> 0.05
A11: 3 | B11: Thành phố Hà Tĩnh | C11: =SUM(D11:G11) -> 12.357 | D11: 0 | E11: 2.864 | F11: 6.651 | G11: 2.842 | H11: =SUM(I11:L11) -> 11.988 | I11: 0 | J11: 11.988 | K11: 0 | L11: 0 | M11: =SUM(N11:U11) -> 5.046 | N11: 1.3 | O11: 0 | P11: 0 | Q11: 0 | R11: 3.746 | S11: 0 | T11: 0 | U11: 0 | V11: =D11*285.06+E11*177.37+(F11+G11)*114.51+N11*85.71653+O11*71.6475+P11*87.00383+Q11*58.25799+R11*72.16284+S11*60.90038+T11*76.51762+U11*50.57834 -> 1976.7846 | W11: =SUM(X11:AA11) -> 0 | AB11: =SUM(AC11:AF11) -> 0 | AG11: =SUM(AH11:AO11) -> 0 | AP11: 35 | AQ11: =$W11/C11 -> 0 | AR11: =IF(H11=0,"-",AB11/H11) -> 0 | AS11: =AG11/M11 -> 0 | AT11: =W11-'19-03'!W11 -> 0 | AU11: =AB11-'19-03'!AB11 -> 0 | AV11: =AG11-'19-03'!AG11 -> 0
A12: 4 | B12: Huyện Thạch Hà | C12: =SUM(D12:G12) -> 92.218295 | D12: 6.7862 | E12: 9.535 | F12: 50.432095 | G12: 25.465 | H12: =SUM(I12:L12) -> 33.829 | I12: 2.47 | J12: 22.904 | K12: 8.455 | L12: 0 | M12: =SUM(N12:U12) -> 16.96 | N12: 3.17 | O12: 1 | P12: 0 | Q12: 0.5 | R12: 7.52 | S12: 3.06 | T12: 0.2 | U12: 1.51 | V12: =D12*285.06+E12*177.37+(F12+G12)*114.51+N12*85.71653+O12*71.6475+P12*87.00383+Q12*58.25799+R12*72.16284+S12*60.90038+T12*76.51762+U12*50.57834 -> 13509.868 | W12: =SUM(X12:AA12) -> 5.626 | X12: 0.2 | Y12: 1.252 | Z12: 3.624 | AA12: 0.55 | AB12: =SUM(AC12:AF12) -> 0 | AG12: =SUM(AH12:AO12) -> 0.57 | AH12: 0 | AI12: 0.1 | AJ12: 0 | AK12: 0 | AL12: 0 | AM12: 0 | AN12: 0.27 | AO12: 0.2 | AP12: 992 | AQ12: =$W12/C12 -> 0.061007417 | AR12: =IF(H12=0,"-",AB12/H12) -> 0 | AS12: =AG12/M12 -> 0.033608491 | AT12: =W12-'19-03'!W12 -> 1.22 | AU12: =AB12-'19-03'!AB12 -> 0 | AV12: =AG12-'19-03'!AG12 -> 0
A13: 5 | B13: Huyện Can Lộc | C13: =SUM(D13:G13) -> 39.072 | D13: 0 | E13: 12.368 | F13: 17.339 | G13: 9.365 | H13: =SUM(I13:L13) -> 10 | I13: 8.9 | J13: 0.8 | K13: 0.3 | L13: 0 | M13: =SUM(N13:U13) -> 14.105 | N13: 1.43 | O13: 0 | P13: 0.4 | Q13: 0.2 | R13: 2.09 | S13: 0 | T13: 8.695 | U13: 1.29 | V13: =D13*285.06+E13*177.37+(F13+G13)*114.51+N13*85.71653+O13*71.6475+P13*87.00383+Q13*58.25799+R13*72.16284+S13*60.90038+T13*76.51762+U13*50.57834 -> 6302.0021 | W13: =SUM(X13:AA13) -> 0 | AB13: =SUM(AC13:AF13) -> 0 | AG13: =SUM(AH13:AO13) -> 0 | AQ13: =$W13/C13 -> 0 | AR13: =IF(H13=0,"-",AB13/H13) -> 0 | AS13: =AG13/M13 -> 0 | AT13: =W13-'19-03'!W13 -> 0 | AU13: =AB13-'19-03'!AB13 -> 0 | AV13: =AG13-'19-03'!AG13 -> 0
A14: 6 | B14: Huyện Nghi Xuân | C14: =SUM(D14:G14) -> 12.48 | D14: 0 | E14: 1.569 | F14: 3.717 | G14: 7.194 | H14: =SUM(I14:L14) -> 0 | I14: 0 | J14: 0 | K14: 0 | L14: 0 | M14: =SUM(N14:U14) -> 2.173 | N14: 0 | O14: 0 | P14: 0.6 | Q14: 0 | R14: 0.055 | S14: 0.605 | T14: 0.47 | U14: 0.443 | V14: =D14*285.06+E14*177.37+(F14+G14)*114.51+N14*85.71653+O14*71.6475+P14*87.00383+Q14*58.25799+R14*72.16284+S14*60.90038+T14*76.51762+U14*50.57834 -> 1679.0976 | W14: =SUM(X14:AA14) -> 1.97 | Z14: 0.32 | AA14: 1.65 | AB14: =SUM(AC14:AF14) -> 0 | AG14: =SUM(AH14:AO14) -> 0 | AP14: 33.6 | AQ14: =$W14/C14 -> 0.15785256 | AR14: =IF(H14=0,"-",AB14/H14) -> - | AS14: =AG14/M14 -> 0 | AT14: =W14-'19-03'!W14 -> 0.93 | AU14: =AB14-'19-03'!AB14 -> 0 | AV14: =AG14-'19-03'!AG14 -> 0
A15: 7 | B15: Huyện Đức Thọ | C15: =SUM(D15:G15) -> 20 | D15: 0 | E15: 2.5 | F15: 13.5 | G15: 4 | H15: =SUM(I15:L15) -> 3 | I15: 0 | J15: 1 | K15: 2 | L15: 0 | M15: =SUM(N15:U15) -> 2 | N15: 0 | O15: 0 | P15: 0 | Q15: 0 | R15: 0 | S15: 0 | T15: 2 | U15: 0 | V15: =D15*285.06+E15*177.37+(F15+G15)*114.51+N15*85.71653+O15*71.6475+P15*87.00383+Q15*58.25799+R15*72.16284+S15*60.90038+T15*76.51762+U15*50.57834 -> 2600.3852 | W15: =SUM(X15:AA15) -> 0 | AB15: =SUM(AC15:AF15) -> 0 | AG15: =SUM(AH15:AO15) -> 0 | AQ15: =$W15/C15 -> 0 | AR15: =IF(H15=0,"-",AB15/H15) -> 0 | AS15: =AG15/M15 -> 0 | AT15: =W15-'19-03'!W15 -> 0 | AU15: =AB15-'19-03'!AB15 -> 0 | AV15: =AG15-'19-03'!AG15 -> 0
A16: 8 | B16: Huyện Hương Sơn | C16: =SUM(D16:G16) -> 66.208 | D16: 0.2 | E16: 19.629 | F16: 40.52 | G16: 5.859 | H16: =SUM(I16:L16) -> 0 | I16: 0 | J16: 0 | K16: 0 | L16: 0 | M16: =SUM(N16:U16) -> 52.728 | N16: 3.28 | O16: 9.6 | P16: 0.6 | Q16: 0 | R16: 11.28 | S16: 13.028 | T16: 1 | U16: 13.94 | V16: =D16*285.06+E16*177.37+(F16+G16)*114.51+N16*85.71653+O16*71.6475+P16*87.00383+Q16*58.25799+R16*72.16284+S16*60.90038+T16*76.51762+U16*50.57834 -> 12259.622 | W16: =SUM(X16:AA16) -> 0.6 | Z16: 0.6 | AB16: =SUM(AC16:AF16) -> 0 | AG16: =SUM(AH16:AO16) -> 0 | AP16: 100 | AQ16: =$W16/C16 -> 0.009062349 | AR16: =IF(H16=0,"-",AB16/H16) -> - | AS16: =AG16/M16 -> 0 | AT16: =W16-'19-03'!W16 -> 0 | AU16: =AB16-'19-03'!AB16 -> 0 | AV16: =AG16-'19-03'!AG16 -> 0 | AW16: Xi măng Ứng trước 13/3
A17: 9 | B17: Huyện Lộc Hà | C17: =SUM(D17:G17) -> 19.548 | D17: 0.2 | E17: 4.131 | F17: 9.057 | G17: 6.16 | H17: =SUM(I17:L17) -> 16.942 | I17: 6.95 | J17: 6.182 | K17: 3.81 | L17: 0 | M17: =SUM(N17:U17) -> 6.89 | N17: 1 | O17: 0 | P17: 0.82 | Q17: 0 | R17: 3.02 | S17: 0 | T17: 2.05 | U17: 0 | V17: =D17*285.06+E17*177.37+(F17+G17)*114.51+N17*85.71653+O17*71.6475+P17*87.00383+Q17*58.25799+R17*72.16284+S17*60.90038+T17*76.51762+U17*50.57834 -> 3064.0787 | W17: =SUM(X17:AA17) -> 0 | AB17: =SUM(AC17:AF17) -> 0 | AG17: =SUM(AH17:AO17) -> 0 | AQ17: =$W17/C17 -> 0 | AR17: =IF(H17=0,"-",AB17/H17) -> 0 | AS17: =AG17/M17 -> 0 | AT17: =W17-'19-03'!W17 -> 0 | AU17: =AB17-'19-03'!AB17 -> 0 | AV17: =AG17-'19-03'!AG17 -> 0
A18: 10 | B18: Thị xã Kỳ Anh | C18: =SUM(D18:G18) -> 16.323 | D18: 0 | E18: 1.791 | F18: 13.442 | G18: 1.09 | H18: =SUM(I18:L18) -> 1.805 | I18: 0 | J18: 0.93 | K18: 0.875 | L18: 0 | M18: =SUM(N18:U18) -> 7.619 | N18: 0.375 | O18: 0 | P18: 0 | Q18: 0 | R18: 0.767 | S18: 0.612 | T18: 1.851 | U18: 4.014 | V18: =D18*285.06+E18*177.37+(F18+G18)*114.51+N18*85.71653+O18*71.6475+P18*87.00383+Q18*58.25799+R18*72.16284+S18*60.90038+T18*76.51762+U18*50.57834 -> 2451.1482 | W18: =SUM(X18:AA18) -> 0.25 | Z18: 0.25 | AB18: =SUM(AC18:AF18) -> 0 | AG18: =SUM(AH18:AO18) -> 0 | AP18: 30 | AQ18: =$W18/C18 -> 0.015315812 | AR18: =IF(H18=0,"-",AB18/H18) -> 0 | AS18: =AG18/M18 -> 0 | AT18: =W18-'19-03'!W18 -> 0.25 | AU18: =AB18-'19-03'!AB18 -> 0 | AV18: =AG18-'19-03'!AG18 -> 0
A19: 11 | B19: Thị xã Hồng Lĩnh | C19: =SUM(D19:G19) -> 4.209 | D19: 0 | E19: 4.125 | F19: 0.084 | G19: 0 | H19: =SUM(I19:L19) -> 2.473 | I19: 0 | J19: 2.473 | K19: 0 | L19: 0 | M19: =SUM(N19:U19) -> 7.431 | N19: 0 | O19: 0 | P19: 0 | Q19: 0 | R19: 0.512 | S19: 0 | T19: 6.719 | U19: 0.2 | V19: =D19*285.06+E19*177.37+(F19+G19)*114.51+N19*85.71653+O19*71.6475+P19*87.00383+Q19*58.25799+R19*72.16284+S19*60.90038+T19*76.51762+U19*50.57834 -> 1302.455 | W19: =SUM(X19:AA19) -> 0 | AB19: =SUM(AC19:AF19) -> 0 | AG19: =SUM(AH19:AO19) -> 0 | AQ19: =$W19/C19 -> 0 | AR19: =IF(H19=0,"-",AB19/H19) -> 0 | AS19: =AG19/M19 -> 0 | AT19: =W19-'19-03'!W19 -> 0 | AU19: =AB19-'19-03'!AB19 -> 0 | AV19: =AG19-'19-03'!AG19 -> 0
A20: 12 | B20: Huyện Hương Khê | C20: =SUM(D20:G20) -> 36.434 | D20: 0.65 | E20: 7.894 | F20: 19.367 | G20: 8.523 | H20: =SUM(I20:L20) -> 13.15 | I20: 11.15 | J20: 2 | K20: 0 | L20: 0 | M20: =SUM(N20:U20) -> 8.26 | N20: 0.36 | O20: 2.13 | P20: 0 | Q20: 0 | R20: 1.5 | S20: 3.195 | T20: 0 | U20: 1.075 | V20: =D20*285.06+E20*177.37+(F20+G20)*114.51+N20*85.71653+O20*71.6475+P20*87.00383+Q20*58.25799+R20*72.16284+S20*60.90038+T20*76.51762+U20*50.57834 -> 5319.7915 | W20: =SUM(X20:AA20) -> 0 | AB20: =SUM(AC20:AF20) -> 0 | AG20: =SUM(AH20:AO20) -> 0 | AP20: 8 | AQ20: =$W20/C20 -> 0 | AR20: =IF(H20=0,"-",AB20/H20) -> 0 | AS20: =AG20/M20 -> 0 | AT20: =W20-'19-03'!W20 -> 0 | AU20: =AB20-'19-03'!AB20 -> 0 | AV20: =AG20-'19-03'!AG20 -> 0
A21: 13 | B21: Huyện Vũ Quang | C21: =SUM(D21:G21) -> 6.795 | D21: 0 | E21: 2 | F21: 3.775 | G21: 1.02 | H21: =SUM(I21:L21) -> 0 | I21: 0 | J21: 0 | K21: 0 | L21: 0 | M21: =SUM(N21:U21) -> 1.17 | N21: 0.64 | O21: 0 | P21: 0.53 | Q21: 0 | R21: 0 | S21: 0 | T21: 0 | U21: 0 | V21: =D21*285.06+E21*177.37+(F21+G21)*114.51+N21*85.71653+O21*71.6475+P21*87.00383+Q21*58.25799+R21*72.16284+S21*60.90038+T21*76.51762+U21*50.57834 -> 1004.7861 | W21: =SUM(X21:AA21) -> 0 | AB21: =SUM(AC21:AF21) -> 0 | AG21: =SUM(AH21:AO21) -> 0 | AQ21: =$W21/C21 -> 0 | AR21: =IF(H21=0,"-",AB21/H21) -> - | AS21: =AG21/M21 -> 0 | AT21: =W21-'19-03'!W21 -> 0 | AU21: =AB21-'19-03'!AB21 -> 0 | AV21: =AG21-'19-03'!AG21 -> 0
B22: Tổng cộng | C22: =SUM(C9:C21) -> 432.2993 | D22: =SUM(D9:D21) -> 8.6112 | E22: =SUM(E9:E21) -> 82.072 | F22: =SUM(F9:F21) -> 248.6441 | G22: =SUM(G9:G21) -> 92.972 | H22: =SUM(H9:H21) -> 106.947 | I22: =SUM(I9:I21) -> 31.37 | J22: =SUM(J9:J21) -> 57.017 | ... AP22: =SUM(AP9:AP21) -> 2046.6 | AQ22: =$W22/C22 -> 0.02629197 | AR22: =IF(H22=0,"-",AB22/H22) -> 0 | AS22: =AG22/M22 -> 0.034758789 | AT22: =W22-'19-03'!W22 -> 4.654 | AU22: =AB22-'19-03'!AB22 -> 0 | AV22: =AG22-'19-03'!AG22 -> 4.6
AP24: =+AP22/V22 -> 0.030266802

Sheet 03-4
B1: UỶ BAN NHÂN DÂN TỈNH HÀ TĨNH
B2: SỞ GIAO THÔNG VẬN TẢI
A3: PHỤ LỤC 1: BÁO CÁO KẾT QUẢ THỰC HIỆN KẾ HOẠCH LÀM ĐƯỜNG GTNT, RÃNH THOÁT NƯỚC, PHỤC HỒI NÂNG CẤP MẶT ĐƯỜNG BTXM ĐẾN NGÀY 02/4/2020
A5: TT | B5: Huyện, thị xã, thành phố | C5: Khối lượng theo kế hoạch UBND tỉnh | W5: Kết quả thực hiện lũy kế đến thời điểm báo cáo | AQ5: Mức độ hoàn thành kế hoạch đầu năm | AT5: Tăng so với tuần trước | AW5: Ghi chú:
C6: Đường giao thông (km) | D6: Trong đó | H6: Nâng cấp phục hồi mặt đường BTXM (km) | I6: Trong đó | M6: Rãnh thoát nước (km) | N6: Rãnh trên đường trục xã | R6: Rãnh trên đường trục thôn | V6: Tổng khối lượng xi măng (tấn) | W6: Đường giao thông (km) | X6: Trong đó | AB6: Nâng cấp phục hồi mặt đường BTXM (km) | AC6: Trong đó | AG6: Rãnh thoát nước (km) | AH6: Rãnh trên đường trục xã | AL6: Rãnh trên đường trục thôn | AP6: Tổng khối lượng xi măng đã nhận (tấn) | AQ6: Đường giao thông (%) | AR6: Nâng cấp phục hồi mặt đường BTXM (%) | AS6: Rãnh thoát nước (%) | AT6: Đường giao thông (km) | AU6: Nâng cấp phục hồi mặt đường BTXM (km) | AV6: Rãnh thoát nước (km)
D7: Đường trục xã và đường phố (km) | E7: Đường trục thôn, xóm và đường ngõ phố (km) | F7: Đường ngõ, xóm và đường ngách hẻm (km) | G7: Đường trục chính nội đồng (km) | I7: Đường trục xã và đường phố (km) | J7: Đường trục thôn, xóm và đường ngõ phố (km) | K7: Đường ngõ, xóm và đường ngách hẻm (km) | L7: Đường trục chính nội đồng (km) | N7: Rãnh BTXM có nắp đậy | O7: Rãnh BTXM không có nắp đậy | P7: Rãnh Gạch xây có nắp đậy | Q7: Rãnh Gạch xây không có nắp đậy | R7: Rãnh BTXM có nắp đậy | S7: Rãnh BTXM không có nắp đậy | T7: Rãnh Gạch xây có nắp đậy | U7: Rãnh Gạch xây không có nắp đậy | X7: Đường trục xã và đường phố (km) | Y7: Đường trục thôn, xóm và đường ngõ phố (km) | Z7: Đường ngõ, xóm và đường ngách hẻm (km) | AA7: Đường trục chính nội đồng (km) | AC7: Đường trục xã và đường phố (km) | AD7: Đường trục thôn, xóm và đường ngõ phố (km) | AE7: Đường ngõ, xóm và đường ngách hẻm (km) | AF7: Đường trục chính nội đồng (km) | AH7: Rãnh BTXM có nắp đậy | AI7: Rãnh BTXM không có nắp đậy | AJ7: Rãnh Gạch xây có nắp đậy | AK7: Rãnh Gạch xây không có nắp đậy | AL7: Rãnh BTXM có nắp đậy | AM7: Rãnh BTXM không có nắp đậy | AN7: Rãnh Gạch xây có nắp đậy | AO7: Rãnh Gạch xây không có nắp đậy
A8: 1 | B8: 2 | C8: 3 | D8: 4 | E8: 5 | F8: 6 | G8: 7 | H8: 8 | I8: 9 | J8: 10 | K8: 11 | L8: 12 | M8: 13 | N8: 14 | O8: 15 | P8: 16 | Q8: 17 | R8: 18 | S8: 19 | T8: 20 | U8: 21 | V8: 22 | W8: 23 | X8: 24 | Y8: 25 | Z8: 26 | AA8: 27 | AB8: 28 | AC8: 29 | AD8: 30 | AE8: 31 | AF8: 32 | AG8: 33 | AH8: 34 | AI8: 35 | AJ8: 36 | AK8: 37 | AL8: 38 | AM8: 39 | AN8: 40 | AO8: 41 | AP8: 42 | AQ8: 43 | AR8: 44 | AS8: 45 | AT8: 69 | AU8: 70 | AV8: 71
A9: 1 | B9: Huyện Kỳ Anh | C9: =SUM(D9:G9) -> 42.104 | D9: 0.775 | E9: 5.596 | F9: 31.403 | G9: 4.33 | H9: =SUM(I9:L9) -> 4.77 | I9: 0 | J9: 2.6 | K9: 2.17 | L9: 0 | M9: =SUM(N9:U9) -> 31.124 | N9: 0 | O9: 0 | P9: 0 | Q9: 1.6 | R9: 1.04 | S9: 14.61 | T9: 0.36 | U9: 13.514 | V9: =D9*285.06+E9*177.37+(F9+G9)*114.51+N9*85.71653+O9*71.6475+P9*87.00383+Q9*58.25799+R9*72.16284+S9*60.90038+T9*76.51762+U9*50.57834 -> 7074.3486 | W9: =SUM(X9:AA9) -> 0.98 | X9: 0 | Y9: 0.07 | Z9: 0.91 | AA9: 0 | AB9: =SUM(AC9:AF9) -> 0 | AG9: =SUM(AH9:AO9) -> 6.034 | AH9: 0 | AI9: 0 | AJ9: 0 | AK9: 0 | AL9: 0 | AM9: 0.49 | AN9: 0 | AO9: 5.544 | AP9: 544 | AQ9: =$W9/C9 -> 0.023275698 | AR9: =IF(H9=0,"-",AB9/H9) -> 0 | AS9: =AG9/M9 -> 0.19386968 | AT9: =W9-'26-3'!W9 -> 0.55 | AU9: =AB9-'26-3'!AB9 -> 0 | AV9: =AG9-'26-3'!AG9 -> 1.484
A10: 2 | B10: Huyện Cẩm Xuyên | C10: =SUM(D10:G10) -> 64.551 | D10: 0 | E10: 8.07 | F10: 39.357 | G10: 17.124 | H10: =SUM(I10:L10) -> 8.99 | I10: 1.9 | J10: 6.14 | K10: 0.95 | L10: 0 | M10: =SUM(N10:U10) -> 18.263 | N10: 1.7 | O10: 3.192 | P10: 0 | Q10: 0.066 | R10: 1.35 | S10: 9.195 | T10: 0 | U10: 2.76 | V10: =D10*285.06+E10*177.37+(F10+G10)*114.51+N10*85.71653+O10*71.6475+P10*87.00383+Q10*58.25799+R10*72.16284+S10*60.90038+T10*76.51762+U10*50.57834 -> 9074.2722 | W10: =SUM(X10:AA10) -> 2.49 | X10: 0 | Y10: 0.49 | Z10: 1.6 | AA10: 0.4 | AB10: =SUM(AC10:AF10) -> 0 | AG10: =SUM(AH10:AO10) -> 0.92 | AH10: 0 | AI10: 0 | AJ10: 0 | AK10: 0 | AL10: 0.22 | AM10: 0.7 | AN10: 0 | AO10: 0 | AP10: 372 | AQ10: =$W10/C10 -> 0.038574151 | AR10: =IF(H10=0,"-",AB10/H10) -> 0 | AS10: =AG10/M10 -> 0.050375075 | AT10: =W10-'26-3'!W10 -> 0 | AU10: =AB10-'26-3'!AB10 -> 0 | AV10: =AG10-'26-3'!AG10 -> 0
A11: 3 | B11: Thành phố Hà Tĩnh | C11: =SUM(D11:G11) -> 12.357 | D11: 0 | E11: 2.864 | F11: 6.651 | G11: 2.842 | H11: =SUM(I11:L11) -> 11.988 | I11: 0 | J11: 11.988 | K11: 0 | L11: 0 | M11: =SUM(N11:U11) -> 5.046 | N11: 1.3 | O11: 0 | P11: 0 | Q11: 0 | R11: 3.746 | S11: 0 | T11: 0 | U11: 0 | V11: =D11*285.06+E11*177.37+(F11+G11)*114.51+N11*85.71653+O11*71.6475+P11*87.00383+Q11*58.25799+R11*72.16284+S11*60.90038+T11*76.51762+U11*50.57834 -> 1976.7846 | W11: =SUM(X11:AA11) -> 0 | AB11: =SUM(AC11:AF11) -> 0.54285714 | AD11: =0.2+1200/3.5/1000 -> 0.54285714 | AG11: =SUM(AH11:AO11) -> 0 | AP11: 35 | AQ11: =$W11/C11 -> 0 | AR11: =IF(H11=0,"-",AB11/H11) -> 0.045283379 | AS11: =AG11/M11 -> 0 | AT11: =W11-'26-3'!W11 -> 0 | AU11: =AB11-'26-3'!AB11 -> 0.54285714 | AV11: =AG11-'26-3'!AG11 -> 0
A12: 4 | B12: Huyện Thạch Hà | C12: =SUM(D12:G12) -> 92.218295 | D12: 6.7862 | E12: 9.535 | F12: 50.432095 | G12: 25.465 | H12: =SUM(I12:L12) -> 33.829 | I12: 2.47 | J12: 22.904 | K12: 8.455 | L12: 0 | M12: =SUM(N12:U12) -> 16.96 | N12: 3.17 | O12: 1 | P12: 0 | Q12: 0.5 | R12: 7.52 | S12: 3.06 | T12: 0.2 | U12: 1.51 | V12: =D12*285.06+E12*177.37+(F12+G12)*114.51+N12*85.71653+O12*71.6475+P12*87.00383+Q12*58.25799+R12*72.16284+S12*60.90038+T12*76.51762+U12*50.57834 -> 13509.868 | W12: =SUM(X12:AA12) -> 7.074 | X12: 0.2 | Y12: 1.252 | Z12: 4.354 | AA12: 1.268 | AB12: =SUM(AC12:AF12) -> 0 | AG12: =SUM(AH12:AO12) -> 0.645 | AH12: 0.075 | AI12: 0.1 | AJ12: 0 | AK12: 0 | AL12: 0 | AM12: 0 | AN12: 0.27 | AO12: 0.2 | AP12: 1140 | AQ12: =$W12/C12 -> 0.076709291 | AR12: =IF(H12=0,"-",AB12/H12) -> 0 | AS12: =AG12/M12 -> 0.03803066 | AT12: =W12-'26-3'!W12 -> 1.448 | AU12: =AB12-'26-3'!AB12 -> 0 | AV12: =AG12-'26-3'!AG12 -> 0.075
A13: 5 | B13: Huyện Can Lộc | C13: =SUM(D13:G13) -> 39.072 | D13: 0 | E13: 12.368 | F13: 17.339 | G13: 9.365 | H13: =SUM(I13:L13) -> 10 | I13: 8.9 | J13: 0.8 | K13: 0.3 | L13: 0 | M13: =SUM(N13:U13) -> 14.105 | N13: 1.43 | O13: 0 | P13: 0.4 | Q13: 0.2 | R13: 2.09 | S13: 0 | T13: 8.695 | U13: 1.29 | V13: =D13*285.06+E13*177.37+(F13+G13)*114.51+N13*85.71653+O13*71.6475+P13*87.00383+Q13*58.25799+R13*72.16284+S13*60.90038+T13*76.51762+U13*50.57834 -> 6302.0021 | W13: =SUM(X13:AA13) -> 1.05 | X13: 0 | Y13: 0.1 | Z13: 0.95 | AA13: 0 | AB13: =SUM(AC13:AF13) -> 0 | AG13: =SUM(AH13:AO13) -> 2.117 | AH13: 0 | AI13: 0 | AJ13: 0 | AK13: 0 | AL13: 1.327 | AM13: 0 | AN13: 0.2 | AO13: 0.59 | AP13: 718 | AQ13: =$W13/C13 -> 0.026873464 | AR13: =IF(H13=0,"-",AB13/H13) -> 0 | AS13: =AG13/M13 -> 0.15008862 | AT13: =W13-'26-3'!W13 -> 1.05 | AU13: =AB13-'26-3'!AB13 -> 0 | AV13: =AG13-'26-3'!AG13 -> 2.117
A14: 6 | B14: Huyện Nghi Xuân | C14: =SUM(D14:G14) -> 12.48 | D14: 0 | E14: 1.569 | F14: 3.717 | G14: 7.194 | H14: =SUM(I14:L14) -> 0 | I14: 0 | J14: 0 | K14: 0 | L14: 0 | M14: =SUM(N14:U14) -> 2.173 | N14: 0 | O14: 0 | P14: 0.6 | Q14: 0 | R14: 0.055 | S14: 0.605 | T14: 0.47 | U14: 0.443 | V14: =D14*285.06+E14*177.37+(F14+G14)*114.51+N14*85.71653+O14*71.6475+P14*87.00383+Q14*58.25799+R14*72.16284+S14*60.90038+T14*76.51762+U14*50.57834 -> 1679.0976 | W14: =SUM(X14:AA14) -> 1.97 | Z14: 0.32 | AA14: 1.65 | AB14: =SUM(AC14:AF14) -> 0 | AG14: =SUM(AH14:AO14) -> 0 | AP14: 33.6 | AQ14: =$W14/C14 -> 0.15785256 | AR14: =IF(H14=0,"-",AB14/H14) -> - | AS14: =AG14/M14 -> 0 | AT14: =W14-'26-3'!W14 -> 0 | AU14: =AB14-'26-3'!AB14 -> 0 | AV14: =AG14-'26-3'!AG14 -> 0
A15: 7 | B15: Huyện Đức Thọ | C15: =SUM(D15:G15) -> 20 | D15: 0 | E15: 2.5 | F15: 13.5 | G15: 4 | H15: =SUM(I15:L15) -> 3 | I15: 0 | J15: 1 | K15: 2 | L15: 0 | M15: =SUM(N15:U15) -> 2 | N15: 0 | O15: 0 | P15: 0 | Q15: 0 | R15: 0 | S15: 0 | T15: 2 | U15: 0 | V15: =D15*285.06+E15*177.37+(F15+G15)*114.51+N15*85.71653+O15*71.6475+P15*87.00383+Q15*58.25799+R15*72.16284+S15*60.90038+T15*76.51762+U15*50.57834 -> 2600.3852 | W15: =SUM(X15:AA15) -> 0.6 | Y15: 0 | Z15: 0.6 | AA15: 0 | AB15: =SUM(AC15:AF15) -> 0 | AG15: =SUM(AH15:AO15) -> 0 | AP15: 60 | AQ15: =$W15/C15 -> 0.03 | AR15: =IF(H15=0,"-",AB15/H15) -> 0 | AS15: =AG15/M15 -> 0 | AT15: =W15-'26-3'!W15 -> 0.6 | AU15: =AB15-'26-3'!AB15 -> 0 | AV15: =AG15-'26-3'!AG15 -> 0
A16: 8 | B16: Huyện Hương Sơn | C16: =SUM(D16:G16) -> 66.208 | D16: 0.2 | E16: 19.629 | F16: 40.52 | G16: 5.859 | H16: =SUM(I16:L16) -> 0 | I16: 0 | J16: 0 | K16: 0 | L16: 0 | M16: =SUM(N16:U16) -> 52.728 | N16: 3.28 | O16: 9.6 | P16: 0.6 | Q16: 0 | R16: 11.28 | S16: 13.028 | T16: 1 | U16: 13.94 | V16: =D16*285.06+E16*177.37+(F16+G16)*114.51+N16*85.71653+O16*71.6475+P16*87.00383+Q16*58.25799+R16*72.16284+S16*60.90038+T16*76.51762+U16*50.57834 -> 12259.622 | W16: =SUM(X16:AA16) -> 3.5 | Z16: 3.5 | AB16: =SUM(AC16:AF16) -> 0 | AG16: =SUM(AH16:AO16) -> 0.3 | AL16: 0.3 | AP16: 100 | AQ16: =$W16/C16 -> 0.052863702 | AR16: =IF(H16=0,"-",AB16/H16) -> - | AS16: =AG16/M16 -> 0.0056895767 | AT16: =W16-'26-3'!W16 -> 2.9 | AU16: =AB16-'26-3'!AB16 -> 0 | AV16: =AG16-'26-3'!AG16 -> 0.3
A17: 9 | B17: Huyện Lộc Hà | C17: =SUM(D17:G17) -> 19.548 | D17: 0.2 | E17: 4.131 | F17: 9.057 | G17: 6.16 | H17: =SUM(I17:L17) -> 16.942 | I17: 6.95 | J17: 6.182 | K17: 3.81 | L17: 0 | M17: =SUM(N17:U17) -> 6.89 | N17: 1 | O17: 0 | P17: 0.82 | Q17: 0 | R17: 3.02 | S17: 0 | T17: 2.05 | U17: 0 | V17: =D17*285.06+E17*177.37+(F17+G17)*114.51+N17*85.71653+O17*71.6475+P17*87.00383+Q17*58.25799+R17*72.16284+S17*60.90038+T17*76.51762+U17*50.57834 -> 3064.0787 | W17: =SUM(X17:AA17) -> 0 | AB17: =SUM(AC17:AF17) -> 1.2 | AD17: 1.2 | AG17: =SUM(AH17:AO17) -> 0 | AQ17: =$W17/C17 -> 0 | AR17: =IF(H17=0,"-",AB17/H17) -> 0.07082989 | AS17: =AG17/M17 -> 0 | AT17: =W17-'26-3'!W17 -> 0 | AU17: =AB17-'26-3'!AB17 -> 1.2 | AV17: =AG17-'26-3'!AG17 -> 0
A18: 10 | B18: Thị xã Kỳ Anh | C18: =SUM(D18:G18) -> 16.323 | D18: 0 | E18: 1.791 | F18: 13.442 | G18: 1.09 | H18: =SUM(I18:L18) -> 1.805 | I18: 0 | J18: 0.93 | K18: 0.875 | L18: 0 | M18: =SUM(N18:U18) -> 7.619 | N18: 0.375 | O18: 0 | P18: 0 | Q18: 0 | R18: 0.767 | S18: 0.612 | T18: 1.851 | U18: 4.014 | V18: =D18*285.06+E18*177.37+(F18+G18)*114.51+N18*85.71653+O18*71.6475+P18*87.00383+Q18*58.25799+R18*72.16284+S18*60.90038+T18*76.51762+U18*50.57834 -> 2451.1482 | W18: =SUM(X18:AA18) -> 0.25 | Z18: 0.25 | AB18: =SUM(AC18:AF18) -> 0 | AG18: =SUM(AH18:AO18) -> 0 | AP18: 30 | AQ18: =$W18/C18 -> 0.015315812 | AR18: =IF(H18=0,"-",AB18/H18) -> 0 | AS18: =AG18/M18 -> 0 | AT18: =W18-'26-3'!W18 -> 0 | AU18: =AB18-'26-3'!AB18 -> 0 | AV18: =AG18-'26-3'!AG18 -> 0
A19: 11 | B19: Thị xã Hồng Lĩnh | C19: =SUM(D19:G19) -> 4.209 | D19: 0 | E19: 4.125 | F19: 0.084 | G19: 0 | H19: =SUM(I19:L19) -> 2.473 | I19: 0 | J19: 2.473 | K19: 0 | L19: 0 | M19: =SUM(N19:U19) -> 7.431 | N19: 0 | O19: 0 | P19: 0 | Q19: 0 | R19: 0.512 | S19: 0 | T19: 6.719 | U19: 0.2 | V19: =D19*285.06+E19*177.37+(F19+G19)*114.51+N19*85.71653+O19*71.6475+P19*87.00383+Q19*58.25799+R19*72.16284+S19*60.90038+T19*76.51762+U19*50.57834 -> 1302.455 | W19: =SUM(X19:AA19) -> 0 | AB19: =SUM(AC19:AF19) -> 0 | AG19: =SUM(AH19:AO19) -> 0 | AQ19: =$W19/C19 -> 0 | AR19: =IF(H19=0,"-",AB19/H19) -> 0 | AS19: =AG19/M19 -> 0 | AT19: =W19-'26-3'!W19 -> 0 | AU19: =AB19-'26-3'!AB19 -> 0 | AV19: =AG19-'26-3'!AG19 -> 0
A20: 12 | B20: Huyện Hương Khê | C20: =SUM(D20:G20) -> 36.434 | D20: 0.65 | E20: 7.894 | F20: 19.367 | G20: 8.523 | H20: =SUM(I20:L20) -> 13.15 | I20: 11.15 | J20: 2 | K20: 0 | L20: 0 | M20: =SUM(N20:U20) -> 8.26 | N20: 0.36 | O20: 2.13 | P20: 0 | Q20: 0 | R20: 1.5 | S20: 3.195 | T20: 0 | U20: 1.075 | V20: =D20*285.06+E20*177.37+(F20+G20)*114.51+N20*85.71653+O20*71.6475+P20*87.00383+Q20*58.25799+R20*72.16284+S20*60.90038+T20*76.51762+U20*50.57834 -> 5319.7915 | W20: =SUM(X20:AA20) -> 0 | AB20: =SUM(AC20:AF20) -> 0 | AG20: =SUM(AH20:AO20) -> 0 | AP20: 8 | AQ20: =$W20/C20 -> 0 | AR20: =IF(H20=0,"-",AB20/H20) -> 0 | AS20: =AG20/M20 -> 0 | AT20: =W20-'26-3'!W20 -> 0 | AU20: =AB20-'26-3'!AB20 -> 0 | AV20: =AG20-'26-3'!AG20 -> 0
A21: 13 | B21: Huyện Vũ Quang | C21: =SUM(D21:G21) -> 6.795 | D21: 0 | E21: 2 | F21: 3.775 | G21: 1.02 | H21: =SUM(I21:L21) -> 0 | I21: 0 | J21: 0 | K21: 0 | L21: 0 | M21: =SUM(N21:U21) -> 1.17 | N21: 0.64 | O21: 0 | P21: 0.53 | Q21: 0 | R21: 0 | S21: 0 | T21: 0 | U21: 0 | V21: =D21*285.06+E21*177.37+(F21+G21)*114.51+N21*85.71653+O21*71.6475+P21*87.00383+Q21*58.25799+R21*72.16284+S21*60.90038+T21*76.51762+U21*50.57834 -> 1004.7861 | W21: =SUM(X21:AA21) -> 0 | AB21: =SUM(AC21:AF21) -> 0 | AG21: =SUM(AH21:AO21) -> 0 | AQ21: =$W21/C21 -> 0 | AR21: =IF(H21=0,"-",AB21/H21) -> - | AS21: =AG21/M21 -> 0 | AT21: =W21-'26-3'!W21 -> 0 | AU21: =AB21-'26-3'!AB21 -> 0 | AV21: =AG21-'26-3'!AG21 -> 0
B22: Tổng cộng | C22: =SUM(C9:C21) -> 432.2993 | D22: =SUM(D9:D21) -> 8.6112 | E22: =SUM(E9:E21) -> 82.072 | F22: =SUM(F9:F21) -> 248.6441 | G22: =SUM(G9:G21) -> 92.972 | H22: =SUM(H9:H21) -> 106.947 | I22: =SUM(I9:I21) -> 31.37 | J22: =SUM(J9:J21) -> 57.017 | ... AP22: =SUM(AP9:AP21) -> 3040.6 | AQ22: =$W22/C22 -> 0.041438883 | AR22: =IF(H22=0,"-",AB22/H22) -> 0.016296457 | AS22: =AG22/M22 -> 0.05763974 | AT22: =SUM(AT9:AT21) -> 6.548 | AU22: =SUM(AU9:AU21) -> 1.7428571 | AV22: =SUM(AV9:AV21) -> 3.976
AP24: =+AP22/V22 -> 0.044966891

Sheet 09-4
B1: UỶ BAN NHÂN DÂN TỈNH HÀ TĨNH
B2: SỞ GIAO THÔNG VẬN TẢI
A3: PHỤ LỤC 1: BÁO CÁO KẾT QUẢ THỰC HIỆN KẾ HOẠCH LÀM ĐƯỜNG GTNT, RÃNH THOÁT NƯỚC, PHỤC HỒI NÂNG CẤP MẶT ĐƯỜNG BTXM ĐẾN NGÀY 09/4/2020
A5: TT | B5: Huyện, thị xã, thành phố | C5: Khối lượng theo kế hoạch UBND tỉnh | W5: Kết quả thực hiện lũy kế đến thời điểm báo cáo | AQ5: Mức độ hoàn thành kế hoạch đầu năm | AT5: Tăng so với tuần trước | AW5: Ghi chú:
C6: Đường giao thông (km) | D6: Trong đó | H6: Nâng cấp phục hồi mặt đường BTXM (km) | I6: Trong đó | M6: Rãnh thoát nước (km) | N6: Rãnh trên đường trục xã | R6: Rãnh trên đường trục thôn | V6: Tổng khối lượng xi măng (tấn) | W6: Đường giao thông (km) | X6: Trong đó | AB6: Nâng cấp phục hồi mặt đường BTXM (km) | AC6: Trong đó | AG6: Rãnh thoát nước (km) | AH6: Rãnh trên đường trục xã | AL6: Rãnh trên đường trục thôn | AP6: Tổng khối lượng xi măng đã nhận (tấn) | AQ6: Đường giao thông (%) | AR6: Nâng cấp phục hồi mặt đường BTXM (%) | AS6: Rãnh thoát nước (%) | AT6: Đường giao thông (km) | AU6: Nâng cấp phục hồi mặt đường BTXM (km) | AV6: Rãnh thoát nước (km)
D7: Đường trục xã và đường phố (km) | E7: Đường trục thôn, xóm và đường ngõ phố (km) | F7: Đường ngõ, xóm và đường ngách hẻm (km) | G7: Đường trục chính nội đồng (km) | I7: Đường trục xã và đường phố (km) | J7: Đường trục thôn, xóm và đường ngõ phố (km) | K7: Đường ngõ, xóm và đường ngách hẻm (km) | L7: Đường trục chính nội đồng (km) | N7: Rãnh BTXM có nắp đậy | O7: Rãnh BTXM không có nắp đậy | P7: Rãnh Gạch xây có nắp đậy | Q7: Rãnh Gạch xây không có nắp đậy | R7: Rãnh BTXM có nắp đậy | S7: Rãnh BTXM không có nắp đậy | T7: Rãnh Gạch xây có nắp đậy | U7: Rãnh Gạch xây không có nắp đậy | X7: Đường trục xã và đường phố (km) | Y7: Đường trục thôn, xóm và đường ngõ phố (km) | Z7: Đường ngõ, xóm và đường ngách hẻm (km) | AA7: Đường trục chính nội đồng (km) | AC7: Đường trục xã và đường phố (km) | AD7: Đường trục thôn, xóm và đường ngõ phố (km) | AE7: Đường ngõ, xóm và đường ngách hẻm (km) | AF7: Đường trục chính nội đồng (km) | AH7: Rãnh BTXM có nắp đậy | AI7: Rãnh BTXM không có nắp đậy | AJ7: Rãnh Gạch xây có nắp đậy | AK7: Rãnh Gạch xây không có nắp đậy | AL7: Rãnh BTXM có nắp đậy | AM7: Rãnh BTXM không có nắp đậy | AN7: Rãnh Gạch xây có nắp đậy | AO7: Rãnh Gạch xây không có nắp đậy
A8: 1 | B8: 2 | C8: 3 | D8: 4 | E8: 5 | F8: 6 | G8: 7 | H8: 8 | I8: 9 | J8: 10 | K8: 11 | L8: 12 | M8: 13 | N8: 14 | O8: 15 | P8: 16 | Q8: 17 | R8: 18 | S8: 19 | T8: 20 | U8: 21 | V8: 22 | W8: 23 | X8: 24 | Y8: 25 | Z8: 26 | AA8: 27 | AB8: 28 | AC8: 29 | AD8: 30 | AE8: 31 | AF8: 32 | AG8: 33 | AH8: 34 | AI8: 35 | AJ8: 36 | AK8: 37 | AL8: 38 | AM8: 39 | AN8: 40 | AO8: 41 | AP8: 42 | AQ8: 43 | AR8: 44 | AS8: 45 | AT8: 69 | AU8: 70 | AV8: 71
A9: 1 | B9: Huyện Kỳ Anh | C9: =SUM(D9:G9) -> 42.104 | D9: 0.775 | E9: 5.596 | F9: 31.403 | G9: 4.33 | H9: =SUM(I9:L9) -> 4.77 | I9: 0 | J9: 2.6 | K9: 2.17 | L9: 0 | M9: =SUM(N9:U9) -> 31.124 | N9: 0 | O9: 0 | P9: 0 | Q9: 1.6 | R9: 1.04 | S9: 14.61 | T9: 0.36 | U9: 13.514 | V9: =D9*285.06+E9*177.37+(F9+G9)*114.51+N9*85.71653+O9*71.6475+P9*87.00383+Q9*58.25799+R9*72.16284+S9*60.90038+T9*76.51762+U9*50.57834 -> 7074.3486 | W9: =SUM(X9:AA9) -> 0.98 | X9: 0 | Y9: 0.07 | Z9: 0.91 | AA9: 0 | AB9: =SUM(AC9:AF9) -> 0 | AG9: =SUM(AH9:AO9) -> 6.034 | AH9: 0 | AI9: 0 | AJ9: 0 | AK9: 0 | AL9: 0 | AM9: 0.49 | AN9: 0 | AO9: 5.544 | AP9: 544 | AQ9: =$W9/C9 -> 0.023275698 | AR9: =IF(H9=0,"-",AB9/H9) -> 0 | AS9: =AG9/M9 -> 0.19386968 | AT9: =W9-'03-4'!W9 -> 0 | AU9: =AB9-'03-4'!AB9 -> 0 | AV9: =AG9-'03-4'!AG9 -> 0
A10: 2 | B10: Huyện Cẩm Xuyên | C10: =SUM(D10:G10) -> 64.551 | D10: 0 | E10: 8.07 | F10: 39.357 | G10: 17.124 | H10: =SUM(I10:L10) -> 8.99 | I10: 1.9 | J10: 6.14 | K10: 0.95 | L10: 0 | M10: =SUM(N10:U10) -> 18.263 | N10: 1.7 | O10: 3.192 | P10: 0 | Q10: 0.066 | R10: 1.35 | S10: 9.195 | T10: 0 | U10: 2.76 | V10: =D10*285.06+E10*177.37+(F10+G10)*114.51+N10*85.71653+O10*71.6475+P10*87.00383+Q10*58.25799+R10*72.16284+S10*60.90038+T10*76.51762+U10*50.57834 -> 9074.2722 | W10: =SUM(X10:AA10) -> 2.49 | X10: 0 | Y10: 0.49 | Z10: 1.6 | AA10: 0.4 | AB10: =SUM(AC10:AF10) -> 0 | AG10: =SUM(AH10:AO10) -> 0.92 | AH10: 0 | AI10: 0 | AJ10: 0 | AK10: 0 | AL10: 0.22 | AM10: 0.7 | AN10: 0 | AO10: 0 | AP10: 372 | AQ10: =$W10/C10 -> 0.038574151 | AR10: =IF(H10=0,"-",AB10/H10) -> 0 | AS10: =AG10/M10 -> 0.050375075 | AT10: =W10-'03-4'!W10 -> 0 | AU10: =AB10-'03-4'!AB10 -> 0 | AV10: =AG10-'03-4'!AG10 -> 0
A11: 3 | B11: Thành phố Hà Tĩnh | C11: =SUM(D11:G11) -> 12.357 | D11: 0 | E11: 2.864 | F11: 6.651 | G11: 2.842 | H11: =SUM(I11:L11) -> 11.988 | I11: 0 | J11: 11.988 | K11: 0 | L11: 0 | M11: =SUM(N11:U11) -> 5.046 | N11: 1.3 | O11: 0 | P11: 0 | Q11: 0 | R11: 3.746 | S11: 0 | T11: 0 | U11: 0 | V11: =D11*285.06+E11*177.37+(F11+G11)*114.51+N11*85.71653+O11*71.6475+P11*87.00383+Q11*58.25799+R11*72.16284+S11*60.90038+T11*76.51762+U11*50.57834 -> 1976.7846 | W11: =SUM(X11:AA11) -> 0 | AB11: =SUM(AC11:AF11) -> 0.54285714 | AD11: =0.2+1200/3.5/1000 -> 0.54285714 | AG11: =SUM(AH11:AO11) -> 0 | AP11: 82 | AQ11: =$W11/C11 -> 0 | AR11: =IF(H11=0,"-",AB11/H11) -> 0.045283379 | AS11: =AG11/M11 -> 0 | AT11: =W11-'03-4'!W11 -> 0 | AU11: =AB11-'03-4'!AB11 -> 0 | AV11: =AG11-'03-4'!AG11 -> 0
A12: 4 | B12: Huyện Thạch Hà | C12: =SUM(D12:G12) -> 92.218295 | D12: 6.7862 | E12: 9.535 | F12: 50.432095 | G12: 25.465 | H12: =SUM(I12:L12) -> 33.829 | I12: 2.47 | J12: 22.904 | K12: 8.455 | L12: 0 | M12: =SUM(N12:U12) -> 16.96 | N12: 3.17 | O12: 1 | P12: 0 | Q12: 0.5 | R12: 7.52 | S12: 3.06 | T12: 0.2 | U12: 1.51 | V12: =D12*285.06+E12*177.37+(F12+G12)*114.51+N12*85.71653+O12*71.6475+P12*87.00383+Q12*58.25799+R12*72.16284+S12*60.90038+T12*76.51762+U12*50.57834 -> 13509.868 | W12: =SUM(X12:AA12) -> 7.074 | X12: 0.2 | Y12: 1.252 | Z12: 4.354 | AA12: 1.268 | AB12: =SUM(AC12:AF12) -> 0 | AG12: =SUM(AH12:AO12) -> 0.645 | AH12: 0.075 | AI12: 0.1 | AJ12: 0 | AK12: 0 | AL12: 0 | AM12: 0 | AN12: 0.27 | AO12: 0.2 | AP12: 1140 | AQ12: =$W12/C12 -> 0.076709291 | AR12: =IF(H12=0,"-",AB12/H12) -> 0 | AS12: =AG12/M12 -> 0.03803066 | AT12: =W12-'03-4'!W12 -> 0 | AU12: =AB12-'03-4'!AB12 -> 0 | AV12: =AG12-'03-4'!AG12 -> 0
A13: 5 | B13: Huyện Can Lộc | C13: =SUM(D13:G13) -> 39.072 | D13: 0 | E13: 12.368 | F13: 17.339 | G13: 9.365 | H13: =SUM(I13:L13) -> 10 | I13: 8.9 | J13: 0.8 | K13: 0.3 | L13: 0 | M13: =SUM(N13:U13) -> 14.105 | N13: 1.43 | O13: 0 | P13: 0.4 | Q13: 0.2 | R13: 2.09 | S13: 0 | T13: 8.695 | U13: 1.29 | V13: =D13*285.06+E13*177.37+(F13+G13)*114.51+N13*85.71653+O13*71.6475+P13*87.00383+Q13*58.25799+R13*72.16284+S13*60.90038+T13*76.51762+U13*50.57834 -> 6302.0021 | W13: =SUM(X13:AA13) -> 5.364 | X13: 0 | Y13: 0.2 | Z13: 5.05 | AA13: 0.114 | AB13: 0.5 | AG13: =SUM(AH13:AO13) -> 3.34 | AH13: 0 | AI13: 0 | AJ13: 0 | AK13: 0.6 | AL13: 1.65 | AM13: 0 | AN13: 0.5 | AO13: 0.59 | AP13: 968 | AQ13: =$W13/C13 -> 0.13728501 | AR13: =IF(H13=0,"-",AB13/H13) -> 0.05 | AS13: =AG13/M13 -> 0.23679546 | AT13: =W13-'03-4'!W13 -> 4.314 | AU13: =AB13-'03-4'!AB13 -> 0.5 | AV13: =AG13-'03-4'!AG13 -> 1.223
A14: 6 | B14: Huyện Nghi Xuân | C14: =SUM(D14:G14) -> 12.48 | D14: 0 | E14: 1.569 | F14: 3.717 | G14: 7.194 | H14: =SUM(I14:L14) -> 0 | I14: 0 | J14: 0 | K14: 0 | L14: 0 | M14: =SUM(N14:U14) -> 2.173 | N14: 0 | O14: 0 | P14: 0.6 | Q14: 0 | R14: 0.055 | S14: 0.605 | T14: 0.47 | U14: 0.443 | V14: =D14*285.06+E14*177.37+(F14+G14)*114.51+N14*85.71653+O14*71.6475+P14*87.00383+Q14*58.25799+R14*72.16284+S14*60.90038+T14*76.51762+U14*50.57834 -> 1679.0976 | W14: =SUM(X14:AA14) -> 0.32 | Z14: 0.32 | AB14: =SUM(AC14:AF14) -> 0 | AG14: =SUM(AH14:AO14) -> 0 | AP14: 33.6 | AQ14: =$W14/C14 -> 0.025641026 | AR14: =IF(H14=0,"-",AB14/H14) -> - | AS14: =AG14/M14 -> 0 | AT14: =W14-'03-4'!W14 -> -1.65 | AU14: =AB14-'03-4'!AB14 -> 0 | AV14: =AG14-'03-4'!AG14 -> 0
A15: 7 | B15: Huyện Đức Thọ | C15: =SUM(D15:G15) -> 20 | D15: 0 | E15: 2.5 | F15: 13.5 | G15: 4 | H15: =SUM(I15:L15) -> 3 | I15: 0 | J15: 1 | K15: 2 | L15: 0 | M15: =SUM(N15:U15) -> 2 | N15: 0 | O15: 0 | P15: 0 | Q15: 0 | R15: 0 | S15: 0 | T15: 2 | U15: 0 | V15: =D15*285.06+E15*177.37+(F15+G15)*114.51+N15*85.71653+O15*71.6475+P15*87.00383+Q15*58.25799+R15*72.16284+S15*60.90038+T15*76.51762+U15*50.57834 -> 2600.3852 | W15: =SUM(X15:AA15) -> 0.6 | Y15: 0 | Z15: 0.6 | AA15: 0 | AB15: =SUM(AC15:AF15) -> 0 | AG15: =SUM(AH15:AO15) -> 0 | AP15: 60 | AQ15: =$W15/C15 -> 0.03 | AR15: =IF(H15=0,"-",AB15/H15) -> 0 | AS15: =AG15/M15 -> 0 | AT15: =W15-'03-4'!W15 -> 0 | AU15: =AB15-'03-4'!AB15 -> 0 | AV15: =AG15-'03-4'!AG15 -> 0
A16: 8 | B16: Huyện Hương Sơn | C16: =SUM(D16:G16) -> 66.208 | D16: 0.2 | E16: 19.629 | F16: 40.52 | G16: 5.859 | H16: =SUM(I16:L16) -> 0 | I16: 0 | J16: 0 | K16: 0 | L16: 0 | M16: =SUM(N16:U16) -> 52.728 | N16: 3.28 | O16: 9.6 | P16: 0.6 | Q16: 0 | R16: 11.28 | S16: 13.028 | T16: 1 | U16: 13.94 | V16: =D16*285.06+E16*177.37+(F16+G16)*114.51+N16*85.71653+O16*71.6475+P16*87.00383+Q16*58.25799+R16*72.16284+S16*60.90038+T16*76.51762+U16*50.57834 -> 12259.622 | W16: =SUM(X16:AA16) -> 4.631 | X16: 0 | Y16: 1.292 | Z16: 3.339 | AA16: 0 | AB16: =SUM(AC16:AF16) -> 0 | AG16: =SUM(AH16:AO16) -> 3.63 | AL16: 3.63 | AP16: 1072 | AQ16: =$W16/C16 -> 0.06994623 | AR16: =IF(H16=0,"-",AB16/H16) -> - | AS16: =AG16/M16 -> 0.068843878 | AT16: =W16-'03-4'!W16 -> 1.131 | AU16: =AB16-'03-4'!AB16 -> 0 | AV16: =AG16-'03-4'!AG16 -> 3.33
A17: 9 | B17: Huyện Lộc Hà | C17: =SUM(D17:G17) -> 19.548 | D17: 0.2 | E17: 4.131 | F17: 9.057 | G17: 6.16 | H17: =SUM(I17:L17) -> 16.942 | I17: 6.95 | J17: 6.182 | K17: 3.81 | L17: 0 | M17: =SUM(N17:U17) -> 6.89 | N17: 1 | O17: 0 | P17: 0.82 | Q17: 0 | R17: 3.02 | S17: 0 | T17: 2.05 | U17: 0 | V17: =D17*285.06+E17*177.37+(F17+G17)*114.51+N17*85.71653+O17*71.6475+P17*87.00383+Q17*58.25799+R17*72.16284+S17*60.90038+T17*76.51762+U17*50.57834 -> 3064.0787 | W17: =SUM(X17:AA17) -> 0 | AB17: =SUM(AC17:AF17) -> 1.2 | AD17: 1.2 | AG17: =SUM(AH17:AO17) -> 0 | AQ17: =$W17/C17 -> 0 | AR17: =IF(H17=0,"-",AB17/H17) -> 0.07082989 | AS17: =AG17/M17 -> 0 | AT17: =W17-'03-4'!W17 -> 0 | AU17: =AB17-'03-4'!AB17 -> 0 | AV17: =AG17-'03-4'!AG17 -> 0
A18: 10 | B18: Thị xã Kỳ Anh | C18: =SUM(D18:G18) -> 16.323 | D18: 0 | E18: 1.791 | F18: 13.442 | G18: 1.09 | H18: =SUM(I18:L18) -> 1.805 | I18: 0 | J18: 0.93 | K18: 0.875 | L18: 0 | M18: =SUM(N18:U18) -> 7.619 | N18: 0.375 | O18: 0 | P18: 0 | Q18: 0 | R18: 0.767 | S18: 0.612 | T18: 1.851 | U18: 4.014 | V18: =D18*285.06+E18*177.37+(F18+G18)*114.51+N18*85.71653+O18*71.6475+P18*87.00383+Q18*58.25799+R18*72.16284+S18*60.90038+T18*76.51762+U18*50.57834 -> 2451.1482 | W18: =SUM(X18:AA18) -> 0.25 | Z18: 0.25 | AB18: =SUM(AC18:AF18) -> 0 | AG18: =SUM(AH18:AO18) -> 0 | AP18: 30 | AQ18: =$W18/C18 -> 0.015315812 | AR18: =IF(H18=0,"-",AB18/H18) -> 0 | AS18: =AG18/M18 -> 0 | AT18: =W18-'03-4'!W18 -> 0 | AU18: =AB18-'03-4'!AB18 -> 0 | AV18: =AG18-'03-4'!AG18 -> 0
A19: 11 | B19: Thị xã Hồng Lĩnh | C19: =SUM(D19:G19) -> 4.209 | D19: 0 | E19: 4.125 | F19: 0.084 | G19: 0 | H19: =SUM(I19:L19) -> 2.473 | I19: 0 | J19: 2.473 | K19: 0 | L19: 0 | M19: =SUM(N19:U19) -> 7.431 | N19: 0 | O19: 0 | P19: 0 | Q19: 0 | R19: 0.512 | S19: 0 | T19: 6.719 | U19: 0.2 | V19: =D19*285.06+E19*177.37+(F19+G19)*114.51+N19*85.71653+O19*71.6475+P19*87.00383+Q19*58.25799+R19*72.16284+S19*60.90038+T19*76.51762+U19*50.57834 -> 1302.455 | W19: =SUM(X19:AA19) -> 0 | AB19: =SUM(AC19:AF19) -> 0 | AG19: =SUM(AH19:AO19) -> 0 | AQ19: =$W19/C19 -> 0 | AR19: =IF(H19=0,"-",AB19/H19) -> 0 | AS19: =AG19/M19 -> 0 | AT19: =W19-'03-4'!W19 -> 0 | AU19: =AB19-'03-4'!AB19 -> 0 | AV19: =AG19-'03-4'!AG19 -> 0
A20: 12 | B20: Huyện Hương Khê | C20: =SUM(D20:G20) -> 36.434 | D20: 0.65 | E20: 7.894 | F20: 19.367 | G20: 8.523 | H20: =SUM(I20:L20) -> 13.15 | I20: 11.15 | J20: 2 | K20: 0 | L20: 0 | M20: =SUM(N20:U20) -> 8.26 | N20: 0.36 | O20: 2.13 | P20: 0 | Q20: 0 | R20: 1.5 | S20: 3.195 | T20: 0 | U20: 1.075 | V20: =D20*285.06+E20*177.37+(F20+G20)*114.51+N20*85.71653+O20*71.6475+P20*87.00383+Q20*58.25799+R20*72.16284+S20*60.90038+T20*76.51762+U20*50.57834 -> 5319.7915 | W20: =SUM(X20:AA20) -> 0.1 | Z20: 0.1 | AB20: =SUM(AC20:AF20) -> 0 | AG20: =SUM(AH20:AO20) -> 0 | AP20: 180 | AQ20: =$W20/C20 -> 0.002744689 | AR20: =IF(H20=0,"-",AB20/H20) -> 0 | AS20: =AG20/M20 -> 0 | AT20: =W20-'03-4'!W20 -> 0.1 | AU20: =AB20-'03-4'!AB20 -> 0 | AV20: =AG20-'03-4'!AG20 -> 0
A21: 13 | B21: Huyện Vũ Quang | C21: =SUM(D21:G21) -> 6.795 | D21: 0 | E21: 2 | F21: 3.775 | G21: 1.02 | H21: =SUM(I21:L21) -> 0 | I21: 0 | J21: 0 | K21: 0 | L21: 0 | M21: =SUM(N21:U21) -> 1.17 | N21: 0.64 | O21: 0 | P21: 0.53 | Q21: 0 | R21: 0 | S21: 0 | T21: 0 | U21: 0 | V21: =D21*285.06+E21*177.37+(F21+G21)*114.51+N21*85.71653+O21*71.6475+P21*87.00383+Q21*58.25799+R21*72.16284+S21*60.90038+T21*76.51762+U21*50.57834 -> 1004.7861 | W21: =SUM(X21:AA21) -> 0 | AB21: =SUM(AC21:AF21) -> 0 | AG21: =SUM(AH21:AO21) -> 0 | AQ21: =$W21/C21 -> 0 | AR21: =IF(H21=0,"-",AB21/H21) -> - | AS21: =AG21/M21 -> 0 | AT21: =W21-'03-4'!W21 -> 0 | AU21: =AB21-'03-4'!AB21 -> 0 | AV21: =AG21-'03-4'!AG21 -> 0
B22: Tổng cộng | C22: =SUM(C9:C21) -> 432.2993 | D22: =SUM(D9:D21) -> 8.6112 | E22: =SUM(E9:E21) -> 82.072 | F22: =SUM(F9:F21) -> 248.6441 | G22: =SUM(G9:G21) -> 92.972 | H22: =SUM(H9:H21) -> 106.947 | I22: =SUM(I9:I21) -> 31.37 | J22: =SUM(J9:J21) -> 57.017 | ... AP22: =SUM(AP9:AP21) -> 4481.6 | AQ22: =$W22/C22 -> 0.050448845 | AR22: =IF(H22=0,"-",AB22/H22) -> 0.02097167 | AS22: =AG22/M22 -> 0.083841191 | AT22: =SUM(AT9:AT21) -> 3.895 | AU22: =SUM(AU9:AU21) -> 0.5 | AV22: =SUM(AV9:AV21) -> 4.553
B24: Ghi chú: Nghi Xuân giảm 1,65km do đây là phần khối lượng làm theo cơ chế hỗ trợ 100% xi măng của xã (tuần trước huyện báo cáo nhầm). | AP24: =+AP22/V22 -> 0.066277583

Sheet 16-4
B1: UỶ BAN NHÂN DÂN TỈNH HÀ TĨNH
B2: SỞ GIAO THÔNG VẬN TẢI
A3: PHỤ LỤC 1: BÁO CÁO KẾT QUẢ THỰC HIỆN KẾ HOẠCH LÀM ĐƯỜNG GTNT, RÃNH THOÁT NƯỚC, PHỤC HỒI NÂNG CẤP MẶT ĐƯỜNG BTXM ĐẾN NGÀY 16/4/2020
A5: TT | B5: Huyện, thị xã, thành phố | C5: Khối lượng theo kế hoạch UBND tỉnh | W5: Kết quả thực hiện lũy kế đến thời điểm báo cáo | AQ5: Mức độ hoàn thành kế hoạch đầu năm | AT5: Tăng so với tuần trước | AW5: Ghi chú:
C6: Đường giao thông (km) | D6: Trong đó | H6: Nâng cấp phục hồi mặt đường BTXM (km) | I6: Trong đó | M6: Rãnh thoát nước (km) | N6: Rãnh trên đường trục xã | R6: Rãnh trên đường trục thôn | V6: Tổng khối lượng xi măng (tấn) | W6: Đường giao thông (km) | X6: Trong đó | AB6: Nâng cấp phục hồi mặt đường BTXM (km) | AC6: Trong đó | AG6: Rãnh thoát nước (km) | AH6: Rãnh trên đường trục xã | AL6: Rãnh trên đường trục thôn | AP6: Tổng khối lượng xi măng đã nhận (tấn) | AQ6: Đường giao thông (%) | AR6: Nâng cấp phục hồi mặt đường BTXM (%) | AS6: Rãnh thoát nước (%) | AT6: Đường giao thông (km) | AU6: Nâng cấp phục hồi mặt đường BTXM (km) | AV6: Rãnh thoát nước (km)
D7: Đường trục xã và đường phố (km) | E7: Đường trục thôn, xóm và đường ngõ phố (km) | F7: Đường ngõ, xóm và đường ngách hẻm (km) | G7: Đường trục chính nội đồng (km) | I7: Đường trục xã và đường phố (km) | J7: Đường trục thôn, xóm và đường ngõ phố (km) | K7: Đường ngõ, xóm và đường ngách hẻm (km) | L7: Đường trục chính nội đồng (km) | N7: Rãnh BTXM có nắp đậy | O7: Rãnh BTXM không có nắp đậy | P7: Rãnh Gạch xây có nắp đậy | Q7: Rãnh Gạch xây không có nắp đậy | R7: Rãnh BTXM có nắp đậy | S7: Rãnh BTXM không có nắp đậy | T7: Rãnh Gạch xây có nắp đậy | U7: Rãnh Gạch xây không có nắp đậy | X7: Đường trục xã và đường phố (km) | Y7: Đường trục thôn, xóm và đường ngõ phố (km) | Z7: Đường ngõ, xóm và đường ngách hẻm (km) | AA7: Đường trục chính nội đồng (km) | AC7: Đường trục xã và đường phố (km) | AD7: Đường trục thôn, xóm và đường ngõ phố (km) | AE7: Đường ngõ, xóm và đường ngách hẻm (km) | AF7: Đường trục chính nội đồng (km) | AH7: Rãnh BTXM có nắp đậy | AI7: Rãnh BTXM không có nắp đậy | AJ7: Rãnh Gạch xây có nắp đậy | AK7: Rãnh Gạch xây không có nắp đậy | AL7: Rãnh BTXM có nắp đậy | AM7: Rãnh BTXM không có nắp đậy | AN7: Rãnh Gạch xây có nắp đậy | AO7: Rãnh Gạch xây không có nắp đậy
A8: 1 | B8: 2 | C8: 3 | D8: 4 | E8: 5 | F8: 6 | G8: 7 | H8: 8 | I8: 9 | J8: 10 | K8: 11 | L8: 12 | M8: 13 | N8: 14 | O8: 15 | P8: 16 | Q8: 17 | R8: 18 | S8: 19 | T8: 20 | U8: 21 | V8: 22 | W8: 23 | X8: 24 | Y8: 25 | Z8: 26 | AA8: 27 | AB8: 28 | AC8: 29 | AD8: 30 | AE8: 31 | AF8: 32 | AG8: 33 | AH8: 34 | AI8: 35 | AJ8: 36 | AK8: 37 | AL8: 38 | AM8: 39 | AN8: 40 | AO8: 41 | AP8: 42 | AQ8: 43 | AR8: 44 | AS8: 45 | AT8: 69 | AU8: 70 | AV8: 71
A9: 1 | B9: Huyện Kỳ Anh | C9: =SUM(D9:G9) -> 42.104 | D9: 0.775 | E9: 5.596 | F9: 31.403 | G9: 4.33 | H9: =SUM(I9:L9) -> 4.77 | I9: 0 | J9: 2.6 | K9: 2.17 | L9: 0 | M9: =SUM(N9:U9) -> 31.124 | N9: 0 | O9: 0 | P9: 0 | Q9: 1.6 | R9: 1.04 | S9: 14.61 | T9: 0.36 | U9: 13.514 | V9: =D9*285.06+E9*177.37+(F9+G9)*114.51+N9*85.71653+O9*71.6475+P9*87.00383+Q9*58.25799+R9*72.16284+S9*60.90038+T9*76.51762+U9*50.57834 -> 7074.3486 | W9: =SUM(X9:AA9) -> 1.56 | X9: 0 | Y9: 0.15 | Z9: 1.41 | AA9: 0 | AB9: =SUM(AC9:AF9) -> 0 | AG9: =SUM(AH9:AO9) -> 6.634 | AH9: 0 | AI9: 0 | AJ9: 0 | AK9: 0 | AL9: 0 | AM9: 0.79 | AN9: 0 | AO9: 5.844 | AP9: 634.9 | AQ9: =$W9/C9 -> 0.037051112 | AR9: =IF(H9=0,"-",AB9/H9) -> 0 | AS9: =AG9/M9 -> 0.21314741 | AT9: =W9-'09-4'!W9 -> 0.58 | AU9: =AB9-'09-4'!AB9 -> 0 | AV9: =AG9-'09-4'!AG9 -> 0.6
A10: 2 | B10: Huyện Cẩm Xuyên | C10: =SUM(D10:G10) -> 64.551 | D10: 0 | E10: 8.07 | F10: 39.357 | G10: 17.124 | H10: =SUM(I10:L10) -> 8.99 | I10: 1.9 | J10: 6.14 | K10: 0.95 | L10: 0 | M10: =SUM(N10:U10) -> 18.263 | N10: 1.7 | O10: 3.192 | P10: 0 | Q10: 0.066 | R10: 1.35 | S10: 9.195 | T10: 0 | U10: 2.76 | V10: =D10*285.06+E10*177.37+(F10+G10)*114.51+N10*85.71653+O10*71.6475+P10*87.00383+Q10*58.25799+R10*72.16284+S10*60.90038+T10*76.51762+U10*50.57834 -> 9074.2722 | W10: =SUM(X10:AA10) -> 5.9 | X10: 0 | Y10: 1.26 | Z10: 4.24 | AA10: 0.4 | AB10: =SUM(AC10:AF10) -> 0 | AG10: =SUM(AH10:AO10) -> 1.762 | AH10: 0 | AI10: 0 | AJ10: 0 | AK10: 0 | AL10: 0.22 | AM10: 1.542 | AN10: 0 | AO10: 0 | AP10: 1122 | AQ10: =$W10/C10 -> 0.091400598 | AR10: =IF(H10=0,"-",AB10/H10) -> 0 | AS10: =AG10/M10 -> 0.09647922 | AT10: =W10-'09-4'!W10 -> 3.41 | AU10: =AB10-'09-4'!AB10 -> 0 | AV10: =AG10-'09-4'!AG10 -> 0.842
A11: 3 | B11: Thành phố Hà Tĩnh | C11: =SUM(D11:G11) -> 12.357 | D11: 0 | E11: 2.864 | F11: 6.651 | G11: 2.842 | H11: =SUM(I11:L11) -> 11.988 | I11: 0 | J11: 11.988 | K11: 0 | L11: 0 | M11: =SUM(N11:U11) -> 5.046 | N11: 1.3 | O11: 0 | P11: 0 | Q11: 0 | R11: 3.746 | S11: 0 | T11: 0 | U11: 0 | V11: =D11*285.06+E11*177.37+(F11+G11)*114.51+N11*85.71653+O11*71.6475+P11*87.00383+Q11*58.25799+R11*72.16284+S11*60.90038+T11*76.51762+U11*50.57834 -> 1976.7846 | W11: =SUM(X11:AA11) -> 0.62 | X11: 0 | Y11: 0.2 | Z11: 0.42 | AA11: 0 | AB11: =SUM(AC11:AF11) -> 1.2 | AD11: 1.2 | AG11: =SUM(AH11:AO11) -> 0.42 | AL11: 0.42 | AP11: 82 | AQ11: =$W11/C11 -> 0.05017399 | AR11: =IF(H11=0,"-",AB11/H11) -> 0.1001001 | AS11: =AG11/M11 -> 0.083234245 | AT11: =W11-'09-4'!W11 -> 0.62 | AU11: =AB11-'09-4'!AB11 -> 0.65714286 | AV11: =AG11-'09-4'!AG11 -> 0.42
A12: 4 | B12: Huyện Thạch Hà | C12: =SUM(D12:G12) -> 92.218295 | D12: 6.7862 | E12: 9.535 | F12: 50.432095 | G12: 25.465 | H12: =SUM(I12:L12) -> 33.829 | I12: 2.47 | J12: 22.904 | K12: 8.455 | L12: 0 | M12: =SUM(N12:U12) -> 16.96 | N12: 3.17 | O12: 1 | P12: 0 | Q12: 0.5 | R12: 7.52 | S12: 3.06 | T12: 0.2 | U12: 1.51 | V12: =D12*285.06+E12*177.37+(F12+G12)*114.51+N12*85.71653+O12*71.6475+P12*87.00383+Q12*58.25799+R12*72.16284+S12*60.90038+T12*76.51762+U12*50.57834 -> 13509.868 | W12: =SUM(X12:AA12) -> 7.074 | X12: 0.2 | Y12: 1.252 | Z12: 4.354 | AA12: 1.268 | AB12: =SUM(AC12:AF12) -> 0 | AG12: =SUM(AH12:AO12) -> 0.645 | AH12: 0.075 | AI12: 0.1 | AJ12: 0 | AK12: 0 | AL12: 0 | AM12: 0 | AN12: 0.27 | AO12: 0.2 | AP12: 1140 | AQ12: =$W12/C12 -> 0.076709291 | AR12: =IF(H12=0,"-",AB12/H12) -> 0 | AS12: =AG12/M12 -> 0.03803066 | AT12: =W12-'09-4'!W12 -> 0 | AU12: =AB12-'09-4'!AB12 -> 0 | AV12: =AG12-'09-4'!AG12 -> 0
A13: 5 | B13: Huyện Can Lộc | C13: =SUM(D13:G13) -> 39.072 | D13: 0 | E13: 12.368 | F13: 17.339 | G13: 9.365 | H13: =SUM(I13:L13) -> 10 | I13: 8.9 | J13: 0.8 | K13: 0.3 | L13: 0 | M13: =SUM(N13:U13) -> 14.105 | N13: 1.43 | O13: 0 | P13: 0.4 | Q13: 0.2 | R13: 2.09 | S13: 0 | T13: 8.695 | U13: 1.29 | V13: =D13*285.06+E13*177.37+(F13+G13)*114.51+N13*85.71653+O13*71.6475+P13*87.00383+Q13*58.25799+R13*72.16284+S13*60.90038+T13*76.51762+U13*50.57834 -> 6302.0021 | W13: =SUM(X13:AA13) -> 6.949 | X13: 0 | Y13: 0.2 | Z13: 6.449 | AA13: 0.3 | AB13: =SUM(AC13:AF13) -> 0.5 | AD13: 0.5 | AG13: =SUM(AH13:AO13) -> 3.89 | AH13: 0 | AI13: 0 | AJ13: 0 | AK13: 0.6 | AL13: 1.65 | AM13: 0 | AN13: 1.05 | AO13: 0.59 | AP13: 1312 | AQ13: =$W13/C13 -> 0.17785115 | AR13: =IF(H13=0,"-",AB13/H13) -> 0.05 | AS13: =AG13/M13 -> 0.27578873 | AT13: =W13-'09-4'!W13 -> 1.585 | AU13: =AB13-'09-4'!AB13 -> 0 | AV13: =AG13-'09-4'!AG13 -> 0.55
A14: 6 | B14: Huyện Nghi Xuân | C14: =SUM(D14:G14) -> 12.48 | D14: 0 | E14: 1.569 | F14: 3.717 | G14: 7.194 | H14: =SUM(I14:L14) -> 0 | I14: 0 | J14: 0 | K14: 0 | L14: 0 | M14: =SUM(N14:U14) -> 2.173 | N14: 0 | O14: 0 | P14: 0.6 | Q14: 0 | R14: 0.055 | S14: 0.605 | T14: 0.47 | U14: 0.443 | V14: =D14*285.06+E14*177.37+(F14+G14)*114.51+N14*85.71653+O14*71.6475+P14*87.00383+Q14*58.25799+R14*72.16284+S14*60.90038+T14*76.51762+U14*50.57834 -> 1679.0976 | W14: =SUM(X14:AA14) -> 0.32 | Z14: 0.32 | AB14: =SUM(AC14:AF14) -> 0 | AG14: =SUM(AH14:AO14) -> 0 | AP14: 33.6 | AQ14: =$W14/C14 -> 0.025641026 | AR14: =IF(H14=0,"-",AB14/H14) -> - | AS14: =AG14/M14 -> 0 | AT14: =W14-'09-4'!W14 -> 0 | AU14: =AB14-'09-4'!AB14 -> 0 | AV14: =AG14-'09-4'!AG14 -> 0
A15: 7 | B15: Huyện Đức Thọ | C15: =SUM(D15:G15) -> 20 | D15: 0 | E15: 2.5 | F15: 13.5 | G15: 4 | H15: =SUM(I15:L15) -> 3 | I15: 0 | J15: 1 | K15: 2 | L15: 0 | M15: =SUM(N15:U15) -> 2 | N15: 0 | O15: 0 | P15: 0 | Q15: 0 | R15: 0 | S15: 0 | T15: 2 | U15: 0 | V15: =D15*285.06+E15*177.37+(F15+G15)*114.51+N15*85.71653+O15*71.6475+P15*87.00383+Q15*58.25799+R15*72.16284+S15*60.90038+T15*76.51762+U15*50.57834 -> 2600.3852 | W15: =SUM(X15:AA15) -> 0.6 | Y15: 0 | Z15: 0.6 | AA15: 0 | AB15: =SUM(AC15:AF15) -> 0 | AG15: =SUM(AH15:AO15) -> 0 | AP15: 60 | AQ15: =$W15/C15 -> 0.03 | AR15: =IF(H15=0,"-",AB15/H15) -> 0 | AS15: =AG15/M15 -> 0 | AT15: =W15-'09-4'!W15 -> 0 | AU15: =AB15-'09-4'!AB15 -> 0 | AV15: =AG15-'09-4'!AG15 -> 0
A16: 8 | B16: Huyện Hương Sơn | C16: =SUM(D16:G16) -> 66.208 | D16: 0.2 | E16: 19.629 | F16: 40.52 | G16: 5.859 | H16: =SUM(I16:L16) -> 0 | I16: 0 | J16: 0 | K16: 0 | L16: 0 | M16: =SUM(N16:U16) -> 52.728 | N16: 3.28 | O16: 9.6 | P16: 0.6 | Q16: 0 | R16: 11.28 | S16: 13.028 | T16: 1 | U16: 13.94 | V16: =D16*285.06+E16*177.37+(F16+G16)*114.51+N16*85.71653+O16*71.6475+P16*87.00383+Q16*58.25799+R16*72.16284+S16*60.90038+T16*76.51762+U16*50.57834 -> 12259.622 | W16: =SUM(X16:AA16) -> 5.301 | X16: 0 | Y16: 1.462 | Z16: 3.839 | AA16: 0 | AB16: =SUM(AC16:AF16) -> 0 | AG16: =SUM(AH16:AO16) -> 4.13 | AL16: 4.13 | AP16: 1072 | AQ16: =$W16/C16 -> 0.080065853 | AR16: =IF(H16=0,"-",AB16/H16) -> - | AS16: =AG16/M16 -> 0.078326506 | AT16: =W16-'09-4'!W16 -> 0.67 | AU16: =AB16-'09-4'!AB16 -> 0 | AV16: =AG16-'09-4'!AG16 -> 0.5
A17: 9 | B17: Huyện Lộc Hà | C17: =SUM(D17:G17) -> 19.548 | D17: 0.2 | E17: 4.131 | F17: 9.057 | G17: 6.16 | H17: =SUM(I17:L17) -> 16.942 | I17: 6.95 | J17: 6.182 | K17: 3.81 | L17: 0 | M17: =SUM(N17:U17) -> 6.89 | N17: 1 | O17: 0 | P17: 0.82 | Q17: 0 | R17: 3.02 | S17: 0 | T17: 2.05 | U17: 0 | V17: =D17*285.06+E17*177.37+(F17+G17)*114.51+N17*85.71653+O17*71.6475+P17*87.00383+Q17*58.25799+R17*72.16284+S17*60.90038+T17*76.51762+U17*50.57834 -> 3064.0787 | W17: =SUM(X17:AA17) -> 0 | AB17: =SUM(AC17:AF17) -> 1.2 | AD17: 1.2 | AG17: =SUM(AH17:AO17) -> 0 | AQ17: =$W17/C17 -> 0 | AR17: =IF(H17=0,"-",AB17/H17) -> 0.07082989 | AS17: =AG17/M17 -> 0 | AT17: =W17-'09-4'!W17 -> 0 | AU17: =AB17-'09-4'!AB17 -> 0 | AV17: =AG17-'09-4'!AG17 -> 0
A18: 10 | B18: Thị xã Kỳ Anh | C18: =SUM(D18:G18) -> 16.323 | D18: 0 | E18: 1.791 | F18: 13.442 | G18: 1.09 | H18: =SUM(I18:L18) -> 1.805 | I18: 0 | J18: 0.93 | K18: 0.875 | L18: 0 | M18: =SUM(N18:U18) -> 7.619 | N18: 0.375 | O18: 0 | P18: 0 | Q18: 0 | R18: 0.767 | S18: 0.612 | T18: 1.851 | U18: 4.014 | V18: =D18*285.06+E18*177.37+(F18+G18)*114.51+N18*85.71653+O18*71.6475+P18*87.00383+Q18*58.25799+R18*72.16284+S18*60.90038+T18*76.51762+U18*50.57834 -> 2451.1482 | W18: =SUM(X18:AA18) -> 0.25 | Z18: 0.25 | AB18: =SUM(AC18:AF18) -> 0 | AG18: =SUM(AH18:AO18) -> 0 | AP18: 30 | AQ18: =$W18/C18 -> 0.015315812 | AR18: =IF(H18=0,"-",AB18/H18) -> 0 | AS18: =AG18/M18 -> 0 | AT18: =W18-'09-4'!W18 -> 0 | AU18: =AB18-'09-4'!AB18 -> 0 | AV18: =AG18-'09-4'!AG18 -> 0
A19: 11 | B19: Thị xã Hồng Lĩnh | C19: =SUM(D19:G19) -> 4.209 | D19: 0 | E19: 4.125 | F19: 0.084 | G19: 0 | H19: =SUM(I19:L19) -> 2.473 | I19: 0 | J19: 2.473 | K19: 0 | L19: 0 | M19: =SUM(N19:U19) -> 7.431 | N19: 0 | O19: 0 | P19: 0 | Q19: 0 | R19: 0.512 | S19: 0 | T19: 6.719 | U19: 0.2 | V19: =D19*285.06+E19*177.37+(F19+G19)*114.51+N19*85.71653+O19*71.6475+P19*87.00383+Q19*58.25799+R19*72.16284+S19*60.90038+T19*76.51762+U19*50.57834 -> 1302.455 | W19: =SUM(X19:AA19) -> 0 | AB19: =SUM(AC19:AF19) -> 0 | AG19: =SUM(AH19:AO19) -> 0 | AQ19: =$W19/C19 -> 0 | AR19: =IF(H19=0,"-",AB19/H19) -> 0 | AS19: =AG19/M19 -> 0 | AT19: =W19-'09-4'!W19 -> 0 | AU19: =AB19-'09-4'!AB19 -> 0 | AV19: =AG19-'09-4'!AG19 -> 0
A20: 12 | B20: Huyện Hương Khê | C20: =SUM(D20:G20) -> 36.434 | D20: 0.65 | E20: 7.894 | F20: 19.367 | G20: 8.523 | H20: =SUM(I20:L20) -> 13.15 | I20: 11.15 | J20: 2 | K20: 0 | L20: 0 | M20: =SUM(N20:U20) -> 8.26 | N20: 0.36 | O20: 2.13 | P20: 0 | Q20: 0 | R20: 1.5 | S20: 3.195 | T20: 0 | U20: 1.075 | V20: =D20*285.06+E20*177.37+(F20+G20)*114.51+N20*85.71653+O20*71.6475+P20*87.00383+Q20*58.25799+R20*72.16284+S20*60.90038+T20*76.51762+U20*50.57834 -> 5319.7915 | W20: =SUM(X20:AA20) -> 0.1 | Z20: 0.1 | AB20: =SUM(AC20:AF20) -> 0 | AG20: =SUM(AH20:AO20) -> 0 | AP20: 180 | AQ20: =$W20/C20 -> 0.002744689 | AR20: =IF(H20=0,"-",AB20/H20) -> 0 | AS20: =AG20/M20 -> 0 | AT20: =W20-'09-4'!W20 -> 0 | AU20: =AB20-'09-4'!AB20 -> 0 | AV20: =AG20-'09-4'!AG20 -> 0
A21: 13 | B21: Huyện Vũ Quang | C21: =SUM(D21:G21) -> 6.795 | D21: 0 | E21: 2 | F21: 3.775 | G21: 1.02 | H21: =SUM(I21:L21) -> 0 | I21: 0 | J21: 0 | K21: 0 | L21: 0 | M21: =SUM(N21:U21) -> 1.17 | N21: 0.64 | O21: 0 | P21: 0.53 | Q21: 0 | R21: 0 | S21: 0 | T21: 0 | U21: 0 | V21: =D21*285.06+E21*177.37+(F21+G21)*114.51+N21*85.71653+O21*71.6475+P21*87.00383+Q21*58.25799+R21*72.16284+S21*60.90038+T21*76.51762+U21*50.57834 -> 1004.7861 | W21: =SUM(X21:AA21) -> 0 | AB21: =SUM(AC21:AF21) -> 0 | AG21: =SUM(AH21:AO21) -> 0 | AQ21: =$W21/C21 -> 0 | AR21: =IF(H21=0,"-",AB21/H21) -> - | AS21: =AG21/M21 -> 0 | AT21: =W21-'09-4'!W21 -> 0 | AU21: =AB21-'09-4'!AB21 -> 0 | AV21: =AG21-'09-4'!AG21 -> 0
B22: Tổng cộng | C22: =SUM(C9:C21) -> 432.2993 | D22: =SUM(D9:D21) -> 8.6112 | E22: =SUM(E9:E21) -> 82.072 | F22: =SUM(F9:F21) -> 248.6441 | G22: =SUM(G9:G21) -> 92.972 | H22: =SUM(H9:H21) -> 106.947 | I22: =SUM(I9:I21) -> 31.37 | J22: =SUM(J9:J21) -> 57.017 | ... AP22: =SUM(AP9:AP21) -> 5666.5 | AQ22: =$W22/C22 -> 0.066329046 | AR22: =IF(H22=0,"-",AB22/H22) -> 0.027116235 | AS22: =AG22/M22 -> 0.10059907 | AT22: =SUM(AT9:AT21) -> 6.865 | AU22: =SUM(AU9:AU21) -> 0.65714286 | AV22: =SUM(AV9:AV21) -> 2.912
AP24: =+AP22/V22 -> 0.083800857
A27: 1 | B27: 2 | C27: 3 | D27: 4 | E27: 5 | F27: 6 | G27: 7 | H27: 8 | I27: 9 | J27: 10 | K27: 11 | L27: 12 | M27: 13 | N27: 14 | O27: 15 | P27: 16 | Q27: 17 | R27: 18 | S27: 19 | T27: 20 | U27: 21 | V27: 22 | W27: 23 | X27: 24 | Y27: 25 | Z27: 26 | AA27: 27 | AB27: 28 | AC27: 29 | AD27: 30 | AE27: 31 | AF27: 32 | AG27: 33 | AH27: 34 | AI27: 35 | AJ27: 36 | AK27: 37 | AL27: 38 | AM27: 39 | AN27: 40 | AO27: 41 | AP27: 42 | AQ27: 43 | AR27: 44 | AS27: 45 | AT27: 69 | AU27: 70 | AV27: 71
A28: 1 | B28: Huyện Kỳ Anh | C28: 49.113 | H28: 0 | I28: 0 | J28: 2.6 | K28: 2.17 | L28: 0 | M28: 66.692 | N28: 0 | O28: 0 | P28: 0 | Q28: 1.6 | R28: 1.04 | S28: 14.61 | T28: 0.36 | U28: 13.514 | W28: 5.37 | AG28: 5.48 | AQ28: =$W28/C28 -> 0.10933969 | AR28: =IF(H28=0,"-",AB28/H28) -> - | AS28: =AG28/M28 -> 0.082168776 | AT28: =W28-'09-4'!W28 -> 5.37 | AU28: =AB28-'09-4'!AB28 -> 0 | AV28: =AG28-'09-4'!AG28 -> 5.48
A29: 2 | B29: Huyện Cẩm Xuyên | C29: 78.238 | H29: 0.77 | I29: 1.9 | J29: 6.14 | K29: 0.95 | L29: 0 | M29: 38.337 | N29: 1.7 | O29: 3.192 | P29: 0 | Q29: 0.066 | R29: 1.35 | S29: 9.195 | T29: 0 | U29: 2.76 | W29: 11.75 | AG29: 38.34 | AQ29: =$W29/C29 -> 0.15018278 | AR29: =IF(H29=0,"-",AB29/H29) -> 0 | AS29: =AG29/M29 -> 1.0000783 | AT29: =W29-'09-4'!W29 -> 11.75 | AU29: =AB29-'09-4'!AB29 -> 0 | AV29: =AG29-'09-4'!AG29 -> 38.34
A30: 3 | B30: Thành phố Hà Tĩnh | C30: 23.24 | H30: 16.7 | I30: 0 | J30: 11.988 | K30: 0 | L30: 0 | M30: 9.24 | N30: 1.3 | O30: 0 | P30: 0 | Q30: 0 | R30: 3.746 | S30: 0 | T30: 0 | U30: 0 | W30: 2.8 | AG30: 1.4 | AQ30: =$W30/C30 -> 0.12048193 | AR30: =IF(H30=0,"-",AB30/H30) -> 0 | AS30: =AG30/M30 -> 0.15151515 | AT30: =W30-'09-4'!W30 -> 2.8 | AU30: =AB30-'09-4'!AB30 -> 0 | AV30: =AG30-'09-4'!AG30 -> 1.4
A31: 4 | B31: Huyện Thạch Hà | C31: 107.598 | H31: 0 | I31: 2.47 | J31: 22.904 | K31: 8.455 | L31: 0 | M31: 36.233 | N31: 3.17 | O31: 1 | P31: 0 | Q31: 0.5 | R31: 7.52 | S31: 3.06 | T31: 0.2 | U31: 1.51 | W31: 32.48 | AG31: 4.56 | AQ31: =$W31/C31 -> 0.30186435 | AR31: =IF(H31=0,"-",AB31/H31) -> - | AS31: =AG31/M31 -> 0.12585212 | AT31: =W31-'09-4'!W31 -> 32.48 | AU31: =AB31-'09-4'!AB31 -> 0 | AV31: =AG31-'09-4'!AG31 -> 4.56
A32: 5 | B32: Huyện Can Lộc | C32: 123.291 | H32: 1.7 | I32: 8.9 | J32: 0.8 | K32: 0.3 | L32: 0 | M32: 46.54 | N32: 1.43 | O32: 0 | P32: 0.4 | Q32: 0.2 | R32: 2.09 | S32: 0 | T32: 8.695 | U32: 1.29 | W32: 15.93 | AG32: 2.59 | AQ32: =$W32/C32 -> 0.12920651 | AR32: =IF(H32=0,"-",AB32/H32) -> 0 | AS32: =AG32/M32 -> 0.055651053 | AT32: =W32-'09-4'!W32 -> 15.93 | AU32: =AB32-'09-4'!AB32 -> 0 | AV32: =AG32-'09-4'!AG32 -> 2.59
A33: 6 | B33: Huyện Nghi Xuân | C33: 20.73 | H33: 0 | I33: 0 | J33: 0 | K33: 0 | L33: 0 | M33: 3.553 | N33: 0 | O33: 0 | P33: 0.6 | Q33: 0 | R33: 0.055 | S33: 0.605 | T33: 0.47 | U33: 0.443 | W33: 0.75 | AG33: 0 | AQ33: =$W33/C33 -> 0.03617945 | AR33: =IF(H33=0,"-",AB33/H33) -> - | AS33: =AG33/M33 -> 0 | AT33: =W33-'09-4'!W33 -> 0.75 | AU33: =AB33-'09-4'!AB33 -> 0 | AV33: =AG33-'09-4'!AG33 -> 0
A34: 7 | B34: Huyện Đức Thọ | C34: 35 | H34: 0 | I34: 0 | J34: 1 | K34: 2 | L34: 0 | M34: 3 | N34: 0 | O34: 0 | P34: 0 | Q34: 0 | R34: 0 | S34: 0 | T34: 2 | U34: 0 | W34: 5.87 | AG34: 0.6 | AQ34: =$W34/C34 -> 0.16771429 | AR34: =IF(H34=0,"-",AB34/H34) -> - | AS34: =AG34/M34 -> 0.2 | AT34: =W34-'09-4'!W34 -> 5.87 | AU34: =AB34-'09-4'!AB34 -> 0 | AV34: =AG34-'09-4'!AG34 -> 0.6
A35: 8 | B35: Huyện Hương Sơn | C35: 63.5 | H35: 10.78 | I35: 0 | J35: 0 | K35: 0 | L35: 0 | M35: 31.35 | N35: 3.28 | O35: 9.6 | P35: 0.6 | Q35: 0 | R35: 11.28 | S35: 13.028 | T35: 1 | U35: 13.94 | W35: 6.58 | AG35: 4.63 | AP35: 819 | AQ35: =$W35/C35 -> 0.10362205 | AR35: =IF(H35=0,"-",AB35/H35) -> 0 | AS35: =AG35/M35 -> 0.1476874 | AT35: =W35-'09-4'!W35 -> 6.58 | AU35: =AB35-'09-4'!AB35 -> 0 | AV35: =AG35-'09-4'!AG35 -> 4.63
A36: 9 | B36: Huyện Lộc Hà | C36: 45.603 | H36: 2.8 | I36: 6.95 | J36: 6.182 | K36: 3.81 | L36: 0 | M36: 17.842 | N36: 1 | O36: 0 | P36: 0.82 | Q36: 0 | R36: 3.02 | S36: 0 | T36: 2.05 | U36: 0 | W36: 0.4 | AG36: 1.05 | AQ36: =$W36/C36 -> 0.0087713528 | AR36: =IF(H36=0,"-",AB36/H36) -> 0 | AS36: =AG36/M36 -> 0.058849905 | AT36: =W36-'09-4'!W36 -> 0.4 | AU36: =AB36-'09-4'!AB36 -> 0 | AV36: =AG36-'09-4'!AG36 -> 1.05
A37: 10 | B37: Thị xã Kỳ Anh | C37: 21.248 | H37: 0.35 | I37: 0 | J37: 0.93 | K37: 0.875 | L37: 0 | M37: 15.671 | N37: 0.375 | O37: 0 | P37: 0 | Q37: 0 | R37: 0.767 | S37: 0.612 | T37: 1.851 | U37: 4.014 | W37: 2.33 | AG37: 0.59 | AQ37: =$W37/C37 -> 0.10965738 | AR37: =IF(H37=0,"-",AB37/H37) -> 0 | AS37: =AG37/M37 -> 0.037649161 | AT37: =W37-'09-4'!W37 -> 2.33 | AU37: =AB37-'09-4'!AB37 -> 0 | AV37: =AG37-'09-4'!AG37 -> 0.59
A38: 11 | B38: Thị xã Hồng Lĩnh | C38: 8.293 | H38: 1.335 | I38: 0 | J38: 2.473 | K38: 0 | L38: 0 | M38: 9.984 | N38: 0 | O38: 0 | P38: 0 | Q38: 0 | R38: 0.512 | S38: 0 | T38: 6.719 | U38: 0.2 | W38: 1.34 | AB38: 0.17 | AG38: 2.5 | AQ38: =$W38/C38 -> 0.16158206 | AR38: =IF(H38=0,"-",AB38/H38) -> 0.12734082 | AS38: =AG38/M38 -> 0.25040064 | AT38: =W38-'09-4'!W38 -> 1.34 | AU38: =AB38-'09-4'!AB38 -> 0.17 | AV38: =AG38-'09-4'!AG38 -> 2.5
A39: 12 | B39: Huyện Hương Khê | C39: 47.315 | H39: 13.747 | I39: 11.15 | J39: 2 | K39: 0 | L39: 0 | M39: 11.006 | N39: 0.36 | O39: 2.13 | P39: 0 | Q39: 0 | R39: 1.5 | S39: 3.195 | T39: 0 | U39: 1.075 | W39: 0.3 | AG39: 0 | AQ39: =$W39/C39 -> 0.006340484 | AR39: =IF(H39=0,"-",AB39/H39) -> 0 | AS39: =AG39/M39 -> 0 | AT39: =W39-'09-4'!W39 -> 0.3 | AU39: =AB39-'09-4'!AB39 -> 0 | AV39: =AG39-'09-4'!AG39 -> 0
A40: 13 | B40: Huyện Vũ Quang | C40: 8.426 | H40: 0 | I40: 0 | J40: 0 | K40: 0 | L40: 0 | M40: 0.18 | N40: 0.64 | O40: 0 | P40: 0.53 | Q40: 0 | R40: 0 | S40: 0 | T40: 0 | U40: 0 | W40: 1.62 | AG40: 0 | AQ40: =$W40/C40 -> 0.19226205 | AR40: =IF(H40=0,"-",AB40/H40) -> - | AS40: =AG40/M40 -> 0 | AT40: =W40-'09-4'!W40 -> 1.62 | AU40: =AB40-'09-4'!AB40 -> 0 | AV40: =AG40-'09-4'!AG40 -> 0
B41: Tổng cộng | C41: =SUM(C28:C40) -> 631.595 | D41: =SUM(D28:D40) -> 0 | E41: =SUM(E28:E40) -> 0 | F41: =SUM(F28:F40) -> 0 | G41: =SUM(G28:G40) -> 0 | H41: 48.182 | I41: =SUM(I28:I40) -> 31.37 | J41: =SUM(J28:J40) -> 57.017 | K41: =SUM(K28:K40) -> 18.56 | L41: =SUM(L28:L40) -> 0 | M41: =SUM(M28:M40) -> 289.628 | N41: =SUM(N28:N40) -> 13.255 | O41: =SUM(O28:O40) -> 15.922 | P41: =SUM(P28:P40) -> 2.95 | ... AP41: =SUM(AP28:AP40) -> 819 | AQ41: =$W41/C41 -> 0.13856981 | AR41: =IF(H41=0,"-",AB41/H41) -> 0.0035282886 | AS41: =AG41/M41 -> 0.21317 | AT41: =SUM(AT28:AT40) -> 87.52 | AU41: =SUM(AU28:AU40) -> 0.17 | AV41: =SUM(AV28:AV40) -> 61.74

Sheet 23-4
B1: UỶ BAN NHÂN DÂN TỈNH HÀ TĨNH
B2: SỞ GIAO THÔNG VẬN TẢI
A3: PHỤ LỤC 1: BÁO CÁO KẾT QUẢ THỰC HIỆN KẾ HOẠCH LÀM ĐƯỜNG GTNT, RÃNH THOÁT NƯỚC, PHỤC HỒI NÂNG CẤP MẶT ĐƯỜNG BTXM ĐẾN NGÀY 23/4/2020
A5: TT | B5: Huyện, thị xã, thành phố | C5: Khối lượng theo kế hoạch UBND tỉnh | W5: Kết quả thực hiện lũy kế đến thời điểm báo cáo | AQ5: Mức độ hoàn thành kế hoạch đầu năm | AT5: Tăng so với tuần trước | AW5: Ghi chú: | AZ5: Định mức cho 1 km đường (tấn/km) | BF5: Định mức xi măng tính cho 1km rãnh (tấn/km)
C6: Đường giao thông (km) | D6: Trong đó | H6: Nâng cấp phục hồi mặt đường BTXM (km) | I6: Trong đó | M6: Rãnh thoát nước (km) | N6: Rãnh trên đường trục xã | R6: Rãnh trên đường trục thôn | V6: Tổng khối lượng xi măng (tấn) | W6: Đường giao thông (km) | X6: Trong đó | AB6: Nâng cấp phục hồi mặt đường BTXM (km) | AC6: Trong đó | AG6: Rãnh thoát nước (km) | AH6: Rãnh trên đường trục xã | AL6: Rãnh trên đường trục thôn | AP6: Tổng khối lượng xi măng đã nhận (tấn) | AQ6: Đường giao thông (%) | AR6: Nâng cấp phục hồi mặt đường BTXM (%) | AS6: Rãnh thoát nước (%) | AT6: Đường giao thông (km) | AU6: Nâng cấp phục hồi mặt đường BTXM (km) | AV6: Rãnh thoát nước (km) | AZ6: Loại đường | BA6: ĐMXM theo 3212 | BB6: ĐMXM theo TT10.2019 | BC6: Chênh | BF6: Loại rãnh | BG6: ĐMXM theo 3212 | BH6: ĐMXM theo TT10.2019 | BI6: Chênh
D7: Đường trục xã và đường phố (km) | E7: Đường trục thôn, xóm và đường ngõ phố (km) | F7: Đường ngõ, xóm và đường ngách hẻm (km) | G7: Đường trục chính nội đồng (km) | I7: Đường trục xã và đường phố (km) | J7: Đường trục thôn, xóm và đường ngõ phố (km) | K7: Đường ngõ, xóm và đường ngách hẻm (km) | L7: Đường trục chính nội đồng (km) | N7: Rãnh BTXM có nắp đậy | O7: Rãnh BTXM không có nắp đậy | P7: Rãnh Gạch xây có nắp đậy | Q7: Rãnh Gạch xây không có nắp đậy | R7: Rãnh BTXM có nắp đậy | S7: Rãnh BTXM không có nắp đậy | T7: Rãnh Gạch xây có nắp đậy | U7: Rãnh Gạch xây không có nắp đậy | X7: Đường trục xã và đường phố (km) | Y7: Đường trục thôn, xóm và đường ngõ phố (km) | Z7: Đường ngõ, xóm và đường ngách hẻm (km) | AA7: Đường trục chính nội đồng (km) | AC7: Đường trục xã và đường phố (km) | AD7: Đường trục thôn, xóm và đường ngõ phố (km) | AE7: Đường ngõ, xóm và đường ngách hẻm (km) | AF7: Đường trục chính nội đồng (km) | AH7: Rãnh BTXM có nắp đậy | AI7: Rãnh BTXM không có nắp đậy | AJ7: Rãnh Gạch xây có nắp đậy | AK7: Rãnh Gạch xây không có nắp đậy | AL7: Rãnh BTXM có nắp đậy | AM7: Rãnh BTXM không có nắp đậy | AN7: Rãnh Gạch xây có nắp đậy | AO7: Rãnh Gạch xây không có nắp đậy | AZ7: Trục xã | BA7: =ROUNDUP(5*0.18*1000*309/1000*1.025,2) -> 285.06 | BB7: =ROUND(5*0.18*1000*284/1000*1.025,2) -> 261.99 | BC7: =+BB7-BA7 -> -23.07 | BF7: Rãnh trục xã
A8: 1 | B8: 2 | C8: 3 | D8: 4 | E8: 5 | F8: 6 | G8: 7 | H8: 8 | I8: 9 | J8: 10 | K8: 11 | L8: 12 | M8: 13 | N8: 14 | O8: 15 | P8: 16 | Q8: 17 | R8: 18 | S8: 19 | T8: 20 | U8: 21 | V8: 22 | W8: 23 | X8: 24 | Y8: 25 | Z8: 26 | AA8: 27 | AB8: 28 | AC8: 29 | AD8: 30 | AE8: 31 | AF8: 32 | AG8: 33 | AH8: 34 | AI8: 35 | AJ8: 36 | AK8: 37 | AL8: 38 | AM8: 39 | AN8: 40 | AO8: 41 | AP8: 42 | AQ8: 43 | AR8: 44 | AS8: 45 | AT8: 69 | AU8: 70 | AV8: 71 | AZ8: Trục thôn | BA8: =ROUND(3.5*0.16*1000*309/1000*1.025,2) -> 177.37 | BB8: =ROUND(3.5*0.16*1000*284/1000*1.025,2) -> 163.02 | BC8: =+BB8-BA8 -> -14.35 | BF8: Rãnh BTXM có nắp | BG8: 85.72 | BH8: 79.66 | BI8: =+BH8-BG8 -> -6.06
A9: 1 | B9: Huyện Kỳ Anh | C9: =SUM(D9:G9) -> 42.104 | D9: 0.775 | E9: 5.596 | F9: 31.403 | G9: 4.33 | H9: =SUM(I9:L9) -> 4.77 | I9: 0 | J9: 2.6 | K9: 2.17 | L9: 0 | M9: =SUM(N9:U9) -> 31.124 | N9: 0 | O9: 0 | P9: 0 | Q9: 1.6 | R9: 1.04 | S9: 14.61 | T9: 0.36 | U9: 13.514 | V9: 6529 | W9: =SUM(X9:AA9) -> 2.21 | X9: 0 | Y9: 0.29 | Z9: 1.82 | AA9: 0.1 | AB9: =SUM(AC9:AF9) -> 0 | AG9: =SUM(AH9:AO9) -> 7.084 | AH9: 0 | AI9: 0 | AJ9: 0 | AK9: 0 | AL9: 0 | AM9: 1.24 | AN9: 0 | AO9: 5.844 | AP9: 970 | AQ9: =$W9/C9 -> 0.052489075 | AR9: =IF(H9=0,"-",AB9/H9) -> 0 | AS9: =AG9/M9 -> 0.22760571 | AT9: =W9-'16-4'!W9 -> 0.65 | AU9: =AB9-'16-4'!AB9 -> 0 | AV9: =AG9-'16-4'!AG9 -> 0.45 | AZ9: Ngõ xóm | BA9: =ROUND(3*0.14*1000*266/1000*1.025,2) -> 114.51 | BB9: =ROUND(3*0.14*1000*244/1000*1.025,2) -> 105.04 | BC9: =+BB9-BA9 -> -9.47 | BF9: Rãnh BTXM không nắp | BG9: 71.65 | BH9: 66.73 | BI9: =+BH9-BG9 -> -4.92
A10: 2 | B10: Huyện Cẩm Xuyên | C10: =SUM(D10:G10) -> 64.551 | D10: 0 | E10: 8.07 | F10: 39.357 | G10: 17.124 | H10: =SUM(I10:L10) -> 8.99 | I10: 1.9 | J10: 6.14 | K10: 0.95 | L10: 0 | M10: =SUM(N10:U10) -> 18.263 | N10: 1.7 | O10: 3.192 | P10: 0 | Q10: 0.066 | R10: 1.35 | S10: 9.195 | T10: 0 | U10: 2.76 | V10: 8344 | W10: =SUM(X10:AA10) -> 7.09 | X10: 0 | Y10: 1.39 | Z10: 5.3 | AA10: 0.4 | AB10: =SUM(AC10:AF10) -> 0 | AG10: =SUM(AH10:AO10) -> 2.062 | AH10: 0 | AI10: 0 | AJ10: 0 | AK10: 0 | AL10: 0.22 | AM10: 1.842 | AN10: 0 | AO10: 0 | AP10: 1342 | AQ10: =$W10/C10 -> 0.10983563 | AR10: =IF(H10=0,"-",AB10/H10) -> 0 | AS10: =AG10/M10 -> 0.11290588 | AT10: =W10-'16-4'!W10 -> 1.19 | AU10: =AB10-'16-4'!AB10 -> 0 | AV10: =AG10-'16-4'!AG10 -> 0.3 | BF10: Rãnh gạch xây có nắp | BG10: 87 | BH10: 81.34 | BI10: =+BH10-BG10 -> -5.66
A11: 3 | B11: Thành phố Hà Tĩnh | C11: =SUM(D11:G11) -> 12.357 | D11: 0 | E11: 2.864 | F11: 6.651 | G11: 2.842 | H11: =SUM(I11:L11) -> 11.988 | I11: 0 | J11: 11.988 | K11: 0 | L11: 0 | M11: =SUM(N11:U11) -> 5.046 | N11: 1.3 | O11: 0 | P11: 0 | Q11: 0 | R11: 3.746 | S11: 0 | T11: 0 | U11: 0 | V11: 1819 | W11: =SUM(X11:AA11) -> 2.446 | X11: 0 | Y11: 0.28 | Z11: 2.166 | AA11: 0 | AB11: =SUM(AC11:AF11) -> 2.53 | AD11: 2.53 | AG11: =SUM(AH11:AO11) -> 1.25 | AL11: 1.25 | AP11: 500 | AQ11: =$W11/C11 -> 0.19794448 | AR11: =IF(H11=0,"-",AB11/H11) -> 0.21104438 | AS11: =AG11/M11 -> 0.24772097 | AT11: =W11-'16-4'!W11 -> 1.826 | AU11: =AB11-'16-4'!AB11 -> 1.33 | AV11: =AG11-'16-4'!AG11 -> 0.83 | BF11: Rãnh gạch xây không nắp | BG11: 58.26 | BH11: 55.2 | BI11: =+BH11-BG11 -> -3.06
A12: 4 | B12: Huyện Thạch Hà | C12: =SUM(D12:G12) -> 92.218295 | D12: 6.7862 | E12: 9.535 | F12: 50.432095 | G12: 25.465 | H12: =SUM(I12:L12) -> 33.829 | I12: 2.47 | J12: 22.904 | K12: 8.455 | L12: 0 | M12: =SUM(N12:U12) -> 16.96 | N12: 3.17 | O12: 1 | P12: 0 | Q12: 0.5 | R12: 7.52 | S12: 3.06 | T12: 0.2 | U12: 1.51 | V12: 12416 | W12: =SUM(X12:AA12) -> 8.964 | X12: 0.2 | Y12: 1.402 | Z12: 5.594 | AA12: 1.768 | AB12: =SUM(AC12:AF12) -> 0 | AG12: =SUM(AH12:AO12) -> 0.925 | AH12: 0.075 | AI12: 0.1 | AJ12: 0 | AK12: 0 | AL12: 0 | AM12: 0.28 | AN12: 0.27 | AO12: 0.2 | AP12: 1389 | AQ12: =$W12/C12 -> 0.097204139 | AR12: =IF(H12=0,"-",AB12/H12) -> 0 | AS12: =AG12/M12 -> 0.054540094 | AT12: =W12-'16-4'!W12 -> 1.89 | AU12: =AB12-'16-4'!AB12 -> 0 | AV12: =AG12-'16-4'!AG12 -> 0.28 | BF12: Rãnh trục thôn
A13: 5 | B13: Huyện Can Lộc | C13: =SUM(D13:G13) -> 39.072 | D13: 0 | E13: 12.368 | F13: 17.339 | G13: 9.365 | H13: =SUM(I13:L13) -> 10 | I13: 8.9 | J13: 0.8 | K13: 0.3 | L13: 0 | M13: =SUM(N13:U13) -> 14.105 | N13: 1.43 | O13: 0 | P13: 0.4 | Q13: 0.2 | R13: 2.09 | S13: 0 | T13: 8.695 | U13: 1.29 | V13: 5802 | W13: =SUM(X13:AA13) -> 10.744 | X13: 0 | Y13: 0.2 | Z13: 10.244 | AA13: 0.3 | AB13: =SUM(AC13:AF13) -> 0.5 | AD13: 0.5 | AG13: =SUM(AH13:AO13) -> 4.3 | AH13: 0 | AI13: 0 | AJ13: 0 | AK13: 0.6 | AL13: 1.76 | AM13: 0 | AN13: 1.35 | AO13: 0.59 | AP13: 1686 | AQ13: =$W13/C13 -> 0.27497952 | AR13: =IF(H13=0,"-",AB13/H13) -> 0.05 | AS13: =AG13/M13 -> 0.30485643 | AT13: =W13-'16-4'!W13 -> 3.795 | AU13: =AB13-'16-4'!AB13 -> 0 | AV13: =AG13-'16-4'!AG13 -> 0.41 | BF13: Rãnh BTXM có nắp | BG13: 72.16 | BH13: 67.06 | BI13: =+BH13-BG13 -> -5.1
A14: 6 | B14: Huyện Nghi Xuân | C14: =SUM(D14:G14) -> 12.48 | D14: 0 | E14: 1.569 | F14: 3.717 | G14: 7.194 | H14: =SUM(I14:L14) -> 0 | I14: 0 | J14: 0 | K14: 0 | L14: 0 | M14: =SUM(N14:U14) -> 2.173 | N14: 0 | O14: 0 | P14: 0.6 | Q14: 0 | R14: 0.055 | S14: 0.605 | T14: 0.47 | U14: 0.443 | V14: 1544 | W14: =SUM(X14:AA14) -> 0.32 | Z14: 0.32 | AB14: =SUM(AC14:AF14) -> 0 | AG14: =SUM(AH14:AO14) -> 0 | AP14: 33.6 | AQ14: =$W14/C14 -> 0.025641026 | AR14: =IF(H14=0,"-",AB14/H14) -> - | AS14: =AG14/M14 -> 0 | AT14: =W14-'16-4'!W14 -> 0 | AU14: =AB14-'16-4'!AB14 -> 0 | AV14: =AG14-'16-4'!AG14 -> 0 | BF14: Rãnh BTXM không nắp | BG14: 60.9 | BH14: 56.72 | BI14: =+BH14-BG14 -> -4.18
A15: 7 | B15: Huyện Đức Thọ | C15: =SUM(D15:G15) -> 20 | D15: 0 | E15: 2.5 | F15: 13.5 | G15: 4 | H15: =SUM(I15:L15) -> 3 | I15: 0 | J15: 1 | K15: 2 | L15: 0 | M15: =SUM(N15:U15) -> 2 | N15: 0 | O15: 0 | P15: 0 | Q15: 0 | R15: 0 | S15: 0 | T15: 2 | U15: 0 | V15: 2389 | W15: =SUM(X15:AA15) -> 1.63 | Y15: 0 | Z15: 1.63 | AA15: 0 | AB15: =SUM(AC15:AF15) -> 0 | AG15: =SUM(AH15:AO15) -> 0 | AP15: 206 | AQ15: =$W15/C15 -> 0.0815 | AR15: =IF(H15=0,"-",AB15/H15) -> 0 | AS15: =AG15/M15 -> 0 | AT15: =W15-'16-4'!W15 -> 1.03 | AU15: =AB15-'16-4'!AB15 -> 0 | AV15: =AG15-'16-4'!AG15 -> 0 | BF15: Rãnh gạch xây có nắp | BG15: 76.52 | BH15: 71.44 | BI15: =+BH15-BG15 -> -5.08
A16: 8 | B16: Huyện Hương Sơn | C16: =SUM(D16:G16) -> 66.208 | D16: 0.2 | E16: 19.629 | F16: 40.52 | G16: 5.859 | H16: =SUM(I16:L16) -> 0 | I16: 0 | J16: 0 | K16: 0 | L16: 0 | M16: =SUM(N16:U16) -> 52.728 | N16: 3.28 | O16: 9.6 | P16: 0.6 | Q16: 0 | R16: 11.28 | S16: 13.028 | T16: 1 | U16: 13.94 | V16: 11309 | W16: =SUM(X16:AA16) -> 6.501 | X16: 0 | Y16: 1.962 | Z16: 4.539 | AA16: 0 | AB16: =SUM(AC16:AF16) -> 0 | AG16: =SUM(AH16:AO16) -> 5.13 | AL16: 5.13 | AP16: 1522 | AQ16: =$W16/C16 -> 0.098190551 | AR16: =IF(H16=0,"-",AB16/H16) -> - | AS16: =AG16/M16 -> 0.097291761 | AT16: =W16-'16-4'!W16 -> 1.2 | AU16: =AB16-'16-4'!AB16 -> 0 | AV16: =AG16-'16-4'!AG16 -> 1 | BF16: Rãnh gạch xây không nắp | BG16: 50.58 | BH16: 47.89 | BI16: =+BH16-BG16 -> -2.69
A17: 9 | B17: Huyện Lộc Hà | C17: =SUM(D17:G17) -> 19.548 | D17: 0.2 | E17: 4.131 | F17: 9.057 | G17: 6.16 | H17: =SUM(I17:L17) -> 16.942 | I17: 6.95 | J17: 6.182 | K17: 3.81 | L17: 0 | M17: =SUM(N17:U17) -> 6.89 | N17: 1 | O17: 0 | P17: 0.82 | Q17: 0 | R17: 3.02 | S17: 0 | T17: 2.05 | U17: 0 | V17: 2819 | W17: =SUM(X17:AA17) -> 0 | AB17: =SUM(AC17:AF17) -> 1.2 | AD17: 1.2 | AG17: =SUM(AH17:AO17) -> 0 | AQ17: =$W17/C17 -> 0 | AR17: =IF(H17=0,"-",AB17/H17) -> 0.07082989 | AS17: =AG17/M17 -> 0 | AT17: =W17-'16-4'!W17 -> 0 | AU17: =AB17-'16-4'!AB17 -> 0 | AV17: =AG17-'16-4'!AG17 -> 0
A18: 10 | B18: Thị xã Kỳ Anh | C18: =SUM(D18:G18) -> 16.323 | D18: 0 | E18: 1.791 | F18: 13.442 | G18: 1.09 | H18: =SUM(I18:L18) -> 1.805 | I18: 0 | J18: 0.93 | K18: 0.875 | L18: 0 | M18: =SUM(N18:U18) -> 7.619 | N18: 0.375 | O18: 0 | P18: 0 | Q18: 0 | R18: 0.767 | S18: 0.612 | T18: 1.851 | U18: 4.014 | V18: 2258 | W18: =SUM(X18:AA18) -> 0.25 | Z18: 0.25 | AB18: =SUM(AC18:AF18) -> 0 | AG18: =SUM(AH18:AO18) -> 0 | AP18: 30 | AQ18: =$W18/C18 -> 0.015315812 | AR18: =IF(H18=0,"-",AB18/H18) -> 0 | AS18: =AG18/M18 -> 0 | AT18: =W18-'16-4'!W18 -> 0 | AU18: =AB18-'16-4'!AB18 -> 0 | AV18: =AG18-'16-4'!AG18 -> 0
A19: 11 | B19: Thị xã Hồng Lĩnh | C19: =SUM(D19:G19) -> 4.209 | D19: 0 | E19: 4.125 | F19: 0.084 | G19: 0 | H19: =SUM(I19:L19) -> 2.473 | I19: 0 | J19: 2.473 | K19: 0 | L19: 0 | M19: =SUM(N19:U19) -> 7.431 | N19: 0 | O19: 0 | P19: 0 | Q19: 0 | R19: 0.512 | S19: 0 | T19: 6.719 | U19: 0.2 | V19: 1205 | W19: =SUM(X19:AA19) -> 1.103 | Y19: 1.103 | AB19: =SUM(AC19:AF19) -> 0 | AG19: =SUM(AH19:AO19) -> 2.185 | AN19: 2.185 | AP19: 559 | AQ19: =$W19/C19 -> 0.2620575 | AR19: =IF(H19=0,"-",AB19/H19) -> 0 | AS19: =AG19/M19 -> 0.29403849 | AT19: =W19-'16-4'!W19 -> 1.103 | AU19: =AB19-'16-4'!AB19 -> 0 | AV19: =AG19-'16-4'!AG19 -> 2.185
A20: 12 | B20: Huyện Hương Khê | C20: =SUM(D20:G20) -> 36.434 | D20: 0.65 | E20: 7.894 | F20: 19.367 | G20: 8.523 | H20: =SUM(I20:L20) -> 13.15 | I20: 11.15 | J20: 2 | K20: 0 | L20: 0 | M20: =SUM(N20:U20) -> 8.26 | N20: 0.36 | O20: 2.13 | P20: 0 | Q20: 0 | R20: 1.5 | S20: 3.195 | T20: 0 | U20: 1.075 | V20: 4891 | W20: =SUM(X20:AA20) -> 1.83 | Z20: 1.83 | AB20: =SUM(AC20:AF20) -> 0 | AG20: =SUM(AH20:AO20) -> 0 | AP20: 600 | AQ20: =$W20/C20 -> 0.050227809 | AR20: =IF(H20=0,"-",AB20/H20) -> 0 | AS20: =AG20/M20 -> 0 | AT20: =W20-'16-4'!W20 -> 1.73 | AU20: =AB20-'16-4'!AB20 -> 0 | AV20: =AG20-'16-4'!AG20 -> 0
A21: 13 | B21: Huyện Vũ Quang | C21: =SUM(D21:G21) -> 6.795 | D21: 0 | E21: 2 | F21: 3.775 | G21: 1.02 | H21: =SUM(I21:L21) -> 0 | I21: 0 | J21: 0 | K21: 0 | L21: 0 | M21: =SUM(N21:U21) -> 1.17 | N21: 0.64 | O21: 0 | P21: 0.53 | Q21: 0 | R21: 0 | S21: 0 | T21: 0 | U21: 0 | V21: 924 | W21: =SUM(X21:AA21) -> 0 | AB21: =SUM(AC21:AF21) -> 0 | AG21: =SUM(AH21:AO21) -> 0 | AQ21: =$W21/C21 -> 0 | AR21: =IF(H21=0,"-",AB21/H21) -> - | AS21: =AG21/M21 -> 0 | AT21: =W21-'16-4'!W21 -> 0 | AU21: =AB21-'16-4'!AB21 -> 0 | AV21: =AG21-'16-4'!AG21 -> 0
B22: Tổng cộng | C22: =SUM(C9:C21) -> 432.2993 | D22: =SUM(D9:D21) -> 8.6112 | E22: =SUM(E9:E21) -> 82.072 | F22: =SUM(F9:F21) -> 248.6441 | G22: =SUM(G9:G21) -> 92.972 | H22: =SUM(H9:H21) -> 106.947 | I22: =SUM(I9:I21) -> 31.37 | J22: =SUM(J9:J21) -> 57.017 | ... AP22: =SUM(AP9:AP21) -> 8837.6 | AQ22: =$W22/C22 -> 0.099671687 | AR22: =IF(H22=0,"-",AB22/H22) -> 0.039552302 | AS22: =AG22/M22 -> 0.13199132 | AT22: =SUM(AT9:AT21) -> 14.414 | AU22: =SUM(AU9:AU21) -> 1.33 | AV22: =SUM(AV9:AV21) -> 5.455
AP24: =+AP22/V22 -> 0.14197176
A27: 1 | B27: 2 | C27: 3 | D27: 4 | E27: 5 | F27: 6 | G27: 7 | H27: 8 | I27: 9 | J27: 10 | K27: 11 | L27: 12 | M27: 13 | N27: 14 | O27: 15 | P27: 16 | Q27: 17 | R27: 18 | S27: 19 | T27: 20 | U27: 21 | V27: 22 | W27: 23 | X27: 24 | Y27: 25 | Z27: 26 | AA27: 27 | AB27: 28 | AC27: 29 | AD27: 30 | AE27: 31 | AF27: 32 | AG27: 33 | AH27: 34 | AI27: 35 | AJ27: 36 | AK27: 37 | AL27: 38 | AM27: 39 | AN27: 40 | AO27: 41 | AP27: 42 | AQ27: 43 | AR27: 44 | AS27: 45 | AT27: 69 | AU27: 70 | AV27: 71
A28: 1 | B28: Huyện Kỳ Anh | C28: 49.113 | H28: 0 | I28: 0 | J28: 2.6 | K28: 2.17 | L28: 0 | M28: 66.692 | N28: 0 | O28: 0 | P28: 0 | Q28: 1.6 | R28: 1.04 | S28: 14.61 | T28: 0.36 | U28: 13.514 | W28: 5.37 | AG28: 5.48 | AQ28: =$W28/C28 -> 0.10933969 | AR28: =IF(H28=0,"-",AB28/H28) -> - | AS28: =AG28/M28 -> 0.082168776 | AT28: =W28-'09-4'!W28 -> 5.37 | AU28: =AB28-'09-4'!AB28 -> 0 | AV28: =AG28-'09-4'!AG28 -> 5.48
A29: 2 | B29: Huyện Cẩm Xuyên | C29: 78.238 | H29: 0.77 | I29: 1.9 | J29: 6.14 | K29: 0.95 | L29: 0 | M29: 38.337 | N29: 1.7 | O29: 3.192 | P29: 0 | Q29: 0.066 | R29: 1.35 | S29: 9.195 | T29: 0 | U29: 2.76 | W29: 11.75 | AG29: 38.34 | AQ29: =$W29/C29 -> 0.15018278 | AR29: =IF(H29=0,"-",AB29/H29) -> 0 | AS29: =AG29/M29 -> 1.0000783 | AT29: =W29-'09-4'!W29 -> 11.75 | AU29: =AB29-'09-4'!AB29 -> 0 | AV29: =AG29-'09-4'!AG29 -> 38.34
A30: 3 | B30: Thành phố Hà Tĩnh | C30: 23.24 | H30: 16.7 | I30: 0 | J30: 11.988 | K30: 0 | L30: 0 | M30: 9.24 | N30: 1.3 | O30: 0 | P30: 0 | Q30: 0 | R30: 3.746 | S30: 0 | T30: 0 | U30: 0 | W30: 2.8 | AG30: 1.4 | AQ30: =$W30/C30 -> 0.12048193 | AR30: =IF(H30=0,"-",AB30/H30) -> 0 | AS30: =AG30/M30 -> 0.15151515 | AT30: =W30-'09-4'!W30 -> 2.8 | AU30: =AB30-'09-4'!AB30 -> 0 | AV30: =AG30-'09-4'!AG30 -> 1.4
A31: 4 | B31: Huyện Thạch Hà | C31: 107.598 | H31: 0 | I31: 2.47 | J31: 22.904 | K31: 8.455 | L31: 0 | M31: 36.233 | N31: 3.17 | O31: 1 | P31: 0 | Q31: 0.5 | R31: 7.52 | S31: 3.06 | T31: 0.2 | U31: 1.51 | W31: 32.48 | AG31: 4.56 | AQ31: =$W31/C31 -> 0.30186435 | AR31: =IF(H31=0,"-",AB31/H31) -> - | AS31: =AG31/M31 -> 0.12585212 | AT31: =W31-'09-4'!W31 -> 32.48 | AU31: =AB31-'09-4'!AB31 -> 0 | AV31: =AG31-'09-4'!AG31 -> 4.56
A32: 5 | B32: Huyện Can Lộc | C32: 123.291 | H32: 1.7 | I32: 8.9 | J32: 0.8 | K32: 0.3 | L32: 0 | M32: 46.54 | N32: 1.43 | O32: 0 | P32: 0.4 | Q32: 0.2 | R32: 2.09 | S32: 0 | T32: 8.695 | U32: 1.29 | W32: 15.93 | AG32: 2.59 | AQ32: =$W32/C32 -> 0.12920651 | AR32: =IF(H32=0,"-",AB32/H32) -> 0 | AS32: =AG32/M32 -> 0.055651053 | AT32: =W32-'09-4'!W32 -> 15.93 | AU32: =AB32-'09-4'!AB32 -> 0 | AV32: =AG32-'09-4'!AG32 -> 2.59
A33: 6 | B33: Huyện Nghi Xuân | C33: 20.73 | H33: 0 | I33: 0 | J33: 0 | K33: 0 | L33: 0 | M33: 3.553 | N33: 0 | O33: 0 | P33: 0.6 | Q33: 0 | R33: 0.055 | S33: 0.605 | T33: 0.47 | U33: 0.443 | W33: 0.75 | AG33: 0 | AQ33: =$W33/C33 -> 0.03617945 | AR33: =IF(H33=0,"-",AB33/H33) -> - | AS33: =AG33/M33 -> 0 | AT33: =W33-'09-4'!W33 -> 0.75 | AU33: =AB33-'09-4'!AB33 -> 0 | AV33: =AG33-'09-4'!AG33 -> 0
A34: 7 | B34: Huyện Đức Thọ | C34: 35 | H34: 0 | I34: 0 | J34: 1 | K34: 2 | L34: 0 | M34: 3 | N34: 0 | O34: 0 | P34: 0 | Q34: 0 | R34: 0 | S34: 0 | T34: 2 | U34: 0 | W34: 5.87 | AG34: 0.6 | AQ34: =$W34/C34 -> 0.16771429 | AR34: =IF(H34=0,"-",AB34/H34) -> - | AS34: =AG34/M34 -> 0.2 | AT34: =W34-'09-4'!W34 -> 5.87 | AU34: =AB34-'09-4'!AB34 -> 0 | AV34: =AG34-'09-4'!AG34 -> 0.6
A35: 8 | B35: Huyện Hương Sơn | C35: 63.5 | H35: 10.78 | I35: 0 | J35: 0 | K35: 0 | L35: 0 | M35: 31.35 | N35: 3.28 | O35: 9.6 | P35: 0.6 | Q35: 0 | R35: 11.28 | S35: 13.028 | T35: 1 | U35: 13.94 | W35: 6.58 | AG35: 4.63 | AP35: 819 | AQ35: =$W35/C35 -> 0.10362205 | AR35: =IF(H35=0,"-",AB35/H35) -> 0 | AS35: =AG35/M35 -> 0.1476874 | AT35: =W35-'09-4'!W35 -> 6.58 | AU35: =AB35-'09-4'!AB35 -> 0 | AV35: =AG35-'09-4'!AG35 -> 4.63
A36: 9 | B36: Huyện Lộc Hà | C36: 45.603 | H36: 2.8 | I36: 6.95 | J36: 6.182 | K36: 3.81 | L36: 0 | M36: 17.842 | N36: 1 | O36: 0 | P36: 0.82 | Q36: 0 | R36: 3.02 | S36: 0 | T36: 2.05 | U36: 0 | W36: 0.4 | AG36: 1.05 | AQ36: =$W36/C36 -> 0.0087713528 | AR36: =IF(H36=0,"-",AB36/H36) -> 0 | AS36: =AG36/M36 -> 0.058849905 | AT36: =W36-'09-4'!W36 -> 0.4 | AU36: =AB36-'09-4'!AB36 -> 0 | AV36: =AG36-'09-4'!AG36 -> 1.05
A37: 10 | B37: Thị xã Kỳ Anh | C37: 21.248 | H37: 0.35 | I37: 0 | J37: 0.93 | K37: 0.875 | L37: 0 | M37: 15.671 | N37: 0.375 | O37: 0 | P37: 0 | Q37: 0 | R37: 0.767 | S37: 0.612 | T37: 1.851 | U37: 4.014 | W37: 2.33 | AG37: 0.59 | AQ37: =$W37/C37 -> 0.10965738 | AR37: =IF(H37=0,"-",AB37/H37) -> 0 | AS37: =AG37/M37 -> 0.037649161 | AT37: =W37-'09-4'!W37 -> 2.33 | AU37: =AB37-'09-4'!AB37 -> 0 | AV37: =AG37-'09-4'!AG37 -> 0.59
A38: 11 | B38: Thị xã Hồng Lĩnh | C38: 8.293 | H38: 1.335 | I38: 0 | J38: 2.473 | K38: 0 | L38: 0 | M38: 9.984 | N38: 0 | O38: 0 | P38: 0 | Q38: 0 | R38: 0.512 | S38: 0 | T38: 6.719 | U38: 0.2 | W38: 1.34 | AB38: 0.17 | AG38: 2.5 | AQ38: =$W38/C38 -> 0.16158206 | AR38: =IF(H38=0,"-",AB38/H38) -> 0.12734082 | AS38: =AG38/M38 -> 0.25040064 | AT38: =W38-'09-4'!W38 -> 1.34 | AU38: =AB38-'09-4'!AB38 -> 0.17 | AV38: =AG38-'09-4'!AG38 -> 2.5
A39: 12 | B39: Huyện Hương Khê | C39: 47.315 | H39: 13.747 | I39: 11.15 | J39: 2 | K39: 0 | L39: 0 | M39: 11.006 | N39: 0.36 | O39: 2.13 | P39: 0 | Q39: 0 | R39: 1.5 | S39: 3.195 | T39: 0 | U39: 1.075 | W39: 0.3 | AG39: 0 | AQ39: =$W39/C39 -> 0.006340484 | AR39: =IF(H39=0,"-",AB39/H39) -> 0 | AS39: =AG39/M39 -> 0 | AT39: =W39-'09-4'!W39 -> 0.3 | AU39: =AB39-'09-4'!AB39 -> 0 | AV39: =AG39-'09-4'!AG39 -> 0
A40: 13 | B40: Huyện Vũ Quang | C40: 8.426 | H40: 0 | I40: 0 | J40: 0 | K40: 0 | L40: 0 | M40: 0.18 | N40: 0.64 | O40: 0 | P40: 0.53 | Q40: 0 | R40: 0 | S40: 0 | T40: 0 | U40: 0 | W40: 1.62 | AG40: 0 | AQ40: =$W40/C40 -> 0.19226205 | AR40: =IF(H40=0,"-",AB40/H40) -> - | AS40: =AG40/M40 -> 0 | AT40: =W40-'09-4'!W40 -> 1.62 | AU40: =AB40-'09-4'!AB40 -> 0 | AV40: =AG40-'09-4'!AG40 -> 0
B41: Tổng cộng | C41: =SUM(C28:C40) -> 631.595 | D41: =SUM(D28:D40) -> 0 | E41: =SUM(E28:E40) -> 0 | F41: =SUM(F28:F40) -> 0 | G41: =SUM(G28:G40) -> 0 | H41: 48.182 | I41: =SUM(I28:I40) -> 31.37 | J41: =SUM(J28:J40) -> 57.017 | K41: =SUM(K28:K40) -> 18.56 | L41: =SUM(L28:L40) -> 0 | M41: =SUM(M28:M40) -> 289.628 | N41: =SUM(N28:N40) -> 13.255 | O41: =SUM(O28:O40) -> 15.922 | P41: =SUM(P28:P40) -> 2.95 | ... AP41: =SUM(AP28:AP40) -> 819 | AQ41: =$W41/C41 -> 0.13856981 | AR41: =IF(H41=0,"-",AB41/H41) -> 0.0035282886 | AS41: =AG41/M41 -> 0.21317 | AT41: =SUM(AT28:AT40) -> 87.52 | AU41: =SUM(AU28:AU40) -> 0.17 | AV41: =SUM(AV28:AV40) -> 61.74

Sheet 29-4
B1: UỶ BAN NHÂN DÂN TỈNH HÀ TĨNH
B2: SỞ GIAO THÔNG VẬN TẢI
A3: PHỤ LỤC 1: BÁO CÁO KẾT QUẢ THỰC HIỆN KẾ HOẠCH LÀM ĐƯỜNG GTNT, RÃNH THOÁT NƯỚC, PHỤC HỒI NÂNG CẤP MẶT ĐƯỜNG BTXM ĐẾN NGÀY 29/4/2020
A5: TT | B5: Huyện, thị xã, thành phố | C5: Khối lượng theo kế hoạch UBND tỉnh | W5: Kết quả thực hiện lũy kế đến thời điểm báo cáo | AQ5: Mức độ hoàn thành kế hoạch đầu năm | AT5: Tăng so với tuần trước | AW5: Ghi chú: | AZ5: Định mức cho 1 km đường (tấn/km) | BF5: Định mức xi măng tính cho 1km rãnh (tấn/km)
C6: Đường giao thông (km) | D6: Trong đó | H6: Nâng cấp phục hồi mặt đường BTXM (km) | I6: Trong đó | M6: Rãnh thoát nước (km) | N6: Rãnh trên đường trục xã | R6: Rãnh trên đường trục thôn | V6: Tổng khối lượng xi măng (tấn) | W6: Đường giao thông (km) | X6: Trong đó | AB6: Nâng cấp phục hồi mặt đường BTXM (km) | AC6: Trong đó | AG6: Rãnh thoát nước (km) | AH6: Rãnh trên đường trục xã | AL6: Rãnh trên đường trục thôn | AP6: Tổng khối lượng xi măng đã nhận (tấn) | AQ6: Đường giao thông (%) | AR6: Nâng cấp phục hồi mặt đường BTXM (%) | AS6: Rãnh thoát nước (%) | AT6: Đường giao thông (km) | AU6: Nâng cấp phục hồi mặt đường BTXM (km) | AV6: Rãnh thoát nước (km) | AZ6: Loại đường | BA6: ĐMXM theo 3212 | BB6: ĐMXM theo TT10.2019 | BC6: Chênh | BF6: Loại rãnh | BG6: ĐMXM theo 3212 | BH6: ĐMXM theo TT10.2019 | BI6: Chênh
D7: Đường trục xã và đường phố (km) | E7: Đường trục thôn, xóm và đường ngõ phố (km) | F7: Đường ngõ, xóm và đường ngách hẻm (km) | G7: Đường trục chính nội đồng (km) | I7: Đường trục xã và đường phố (km) | J7: Đường trục thôn, xóm và đường ngõ phố (km) | K7: Đường ngõ, xóm và đường ngách hẻm (km) | L7: Đường trục chính nội đồng (km) | N7: Rãnh BTXM có nắp đậy | O7: Rãnh BTXM không có nắp đậy | P7: Rãnh Gạch xây có nắp đậy | Q7: Rãnh Gạch xây không có nắp đậy | R7: Rãnh BTXM có nắp đậy | S7: Rãnh BTXM không có nắp đậy | T7: Rãnh Gạch xây có nắp đậy | U7: Rãnh Gạch xây không có nắp đậy | X7: Đường trục xã và đường phố (km) | Y7: Đường trục thôn, xóm và đường ngõ phố (km) | Z7: Đường ngõ, xóm và đường ngách hẻm (km) | AA7: Đường trục chính nội đồng (km) | AC7: Đường trục xã và đường phố (km) | AD7: Đường trục thôn, xóm và đường ngõ phố (km) | AE7: Đường ngõ, xóm và đường ngách hẻm (km) | AF7: Đường trục chính nội đồng (km) | AH7: Rãnh BTXM có nắp đậy | AI7: Rãnh BTXM không có nắp đậy | AJ7: Rãnh Gạch xây có nắp đậy | AK7: Rãnh Gạch xây không có nắp đậy | AL7: Rãnh BTXM có nắp đậy | AM7: Rãnh BTXM không có nắp đậy | AN7: Rãnh Gạch xây có nắp đậy | AO7: Rãnh Gạch xây không có nắp đậy | AZ7: Trục xã | BA7: =ROUNDUP(5*0.18*1000*309/1000*1.025,2) -> 285.06 | BB7: =ROUND(5*0.18*1000*284/1000*1.025,2) -> 261.99 | BC7: =+BB7-BA7 -> -23.07 | BF7: Rãnh trục xã
A8: 1 | B8: 2 | C8: 3 | D8: 4 | E8: 5 | F8: 6 | G8: 7 | H8: 8 | I8: 9 | J8: 10 | K8: 11 | L8: 12 | M8: 13 | N8: 14 | O8: 15 | P8: 16 | Q8: 17 | R8: 18 | S8: 19 | T8: 20 | U8: 21 | V8: 22 | W8: 23 | X8: 24 | Y8: 25 | Z8: 26 | AA8: 27 | AB8: 28 | AC8: 29 | AD8: 30 | AE8: 31 | AF8: 32 | AG8: 33 | AH8: 34 | AI8: 35 | AJ8: 36 | AK8: 37 | AL8: 38 | AM8: 39 | AN8: 40 | AO8: 41 | AP8: 42 | AQ8: 43 | AR8: 44 | AS8: 45 | AT8: 69 | AU8: 70 | AV8: 71 | AZ8: Trục thôn | BA8: =ROUND(3.5*0.16*1000*309/1000*1.025,2) -> 177.37 | BB8: =ROUND(3.5*0.16*1000*284/1000*1.025,2) -> 163.02 | BC8: =+BB8-BA8 -> -14.35 | BF8: Rãnh BTXM có nắp | BG8: 85.72 | BH8: 79.66 | BI8: =+BH8-BG8 -> -6.06
A9: 1 | B9: Huyện Kỳ Anh | C9: =SUM(D9:G9) -> 42.104 | D9: 0.775 | E9: 5.596 | F9: 31.403 | G9: 4.33 | H9: =SUM(I9:L9) -> 4.77 | I9: 0 | J9: 2.6 | K9: 2.17 | L9: 0 | M9: =SUM(N9:U9) -> 31.124 | N9: 0 | O9: 0 | P9: 0 | Q9: 1.6 | R9: 1.04 | S9: 14.61 | T9: 0.36 | U9: 13.514 | V9: 6529 | W9: =SUM(X9:AA9) -> 2.21 | X9: 0 | Y9: 0.29 | Z9: 1.82 | AA9: 0.1 | AB9: =SUM(AC9:AF9) -> 0 | AG9: =SUM(AH9:AO9) -> 7.084 | AH9: 0 | AI9: 0 | AJ9: 0 | AK9: 0 | AL9: 0 | AM9: 1.24 | AN9: 0 | AO9: 5.844 | AP9: 970 | AQ9: =$W9/C9 -> 0.052489075 | AR9: =IF(H9=0,"-",AB9/H9) -> 0 | AS9: =AG9/M9 -> 0.22760571 | AT9: =W9-'23-4'!W9 -> 0 | AU9: =AB9-'23-4'!AB9 -> 0 | AV9: =AG9-'23-4'!AG9 -> 0 | AZ9: Ngõ xóm | BA9: =ROUND(3*0.14*1000*266/1000*1.025,2) -> 114.51 | BB9: =ROUND(3*0.14*1000*244/1000*1.025,2) -> 105.04 | BC9: =+BB9-BA9 -> -9.47 | BF9: Rãnh BTXM không nắp | BG9: 71.65 | BH9: 66.73 | BI9: =+BH9-BG9 -> -4.92
A10: 2 | B10: Huyện Cẩm Xuyên | C10: =SUM(D10:G10) -> 64.551 | D10: 0 | E10: 8.07 | F10: 39.357 | G10: 17.124 | H10: =SUM(I10:L10) -> 8.99 | I10: 1.9 | J10: 6.14 | K10: 0.95 | L10: 0 | M10: =SUM(N10:U10) -> 18.263 | N10: 1.7 | O10: 3.192 | P10: 0 | Q10: 0.066 | R10: 1.35 | S10: 9.195 | T10: 0 | U10: 2.76 | V10: 8344 | W10: =SUM(X10:AA10) -> 7.09 | X10: 0 | Y10: 1.39 | Z10: 5.3 | AA10: 0.4 | AB10: =SUM(AC10:AF10) -> 0 | AG10: =SUM(AH10:AO10) -> 2.062 | AH10: 0 | AI10: 0 | AJ10: 0 | AK10: 0 | AL10: 0.22 | AM10: 1.842 | AN10: 0 | AO10: 0 | AP10: 1342 | AQ10: =$W10/C10 -> 0.10983563 | AR10: =IF(H10=0,"-",AB10/H10) -> 0 | AS10: =AG10/M10 -> 0.11290588 | AT10: =W10-'23-4'!W10 -> 0 | AU10: =AB10-'23-4'!AB10 -> 0 | AV10: =AG10-'23-4'!AG10 -> 0 | BF10: Rãnh gạch xây có nắp | BG10: 87 | BH10: 81.34 | BI10: =+BH10-BG10 -> -5.66
A11: 3 | B11: Thành phố Hà Tĩnh | C11: =SUM(D11:G11) -> 12.357 | D11: 0 | E11: 2.864 | F11: 6.651 | G11: 2.842 | H11: =SUM(I11:L11) -> 11.988 | I11: 0 | J11: 11.988 | K11: 0 | L11: 0 | M11: =SUM(N11:U11) -> 5.046 | N11: 1.3 | O11: 0 | P11: 0 | Q11: 0 | R11: 3.746 | S11: 0 | T11: 0 | U11: 0 | V11: 1819 | W11: =SUM(X11:AA11) -> 2.656 | X11: 0 | Y11: 0.43 | Z11: 2.226 | AA11: 0 | AB11: =SUM(AC11:AF11) -> 2.53 | AD11: 2.53 | AG11: =SUM(AH11:AO11) -> 1.409 | AL11: 1.409 | AP11: 545 | AQ11: =$W11/C11 -> 0.2149389 | AR11: =IF(H11=0,"-",AB11/H11) -> 0.21104438 | AS11: =AG11/M11 -> 0.27923107 | AT11: =W11-'23-4'!W11 -> 0.21 | AU11: =AB11-'23-4'!AB11 -> 0 | AV11: =AG11-'23-4'!AG11 -> 0.159 | BF11: Rãnh gạch xây không nắp | BG11: 58.26 | BH11: 55.2 | BI11: =+BH11-BG11 -> -3.06
A12: 4 | B12: Huyện Thạch Hà | C12: =SUM(D12:G12) -> 92.218295 | D12: 6.7862 | E12: 9.535 | F12: 50.432095 | G12: 25.465 | H12: =SUM(I12:L12) -> 33.829 | I12: 2.47 | J12: 22.904 | K12: 8.455 | L12: 0 | M12: =SUM(N12:U12) -> 16.96 | N12: 3.17 | O12: 1 | P12: 0 | Q12: 0.5 | R12: 7.52 | S12: 3.06 | T12: 0.2 | U12: 1.51 | V12: 12416 | W12: =SUM(X12:AA12) -> 9.975 | X12: 0.2 | Y12: 1.402 | Z12: 6.305 | AA12: 2.068 | AB12: =SUM(AC12:AF12) -> 0 | AG12: =SUM(AH12:AO12) -> 0.925 | AH12: 0.075 | AI12: 0.1 | AJ12: 0 | AK12: 0 | AL12: 0 | AM12: 0.28 | AN12: 0.27 | AO12: 0.2 | AP12: 1553 | AQ12: =$W12/C12 -> 0.10816726 | AR12: =IF(H12=0,"-",AB12/H12) -> 0 | AS12: =AG12/M12 -> 0.054540094 | AT12: =W12-'23-4'!W12 -> 1.011 | AU12: =AB12-'23-4'!AB12 -> 0 | AV12: =AG12-'23-4'!AG12 -> 0 | BF12: Rãnh trục thôn
A13: 5 | B13: Huyện Can Lộc | C13: =SUM(D13:G13) -> 39.072 | D13: 0 | E13: 12.368 | F13: 17.339 | G13: 9.365 | H13: =SUM(I13:L13) -> 10 | I13: 8.9 | J13: 0.8 | K13: 0.3 | L13: 0 | M13: =SUM(N13:U13) -> 14.105 | N13: 1.43 | O13: 0 | P13: 0.4 | Q13: 0.2 | R13: 2.09 | S13: 0 | T13: 8.695 | U13: 1.29 | V13: 5802 | W13: =SUM(X13:AA13) -> 12.589 | X13: 0 | Y13: 0.555 | Z13: 11.734 | AA13: 0.3 | AB13: =SUM(AC13:AF13) -> 0.5 | AD13: 0.5 | AG13: =SUM(AH13:AO13) -> 5.55 | AH13: 0 | AI13: 0 | AJ13: 0 | AK13: 1.2 | AL13: 1.76 | AM13: 0 | AN13: 2 | AO13: 0.59 | AP13: 2309 | AQ13: =$W13/C13 -> 0.32220004 | AR13: =IF(H13=0,"-",AB13/H13) -> 0.05 | AS13: =AG13/M13 -> 0.39347749 | AT13: =W13-'23-4'!W13 -> 1.845 | AU13: =AB13-'23-4'!AB13 -> 0 | AV13: =AG13-'23-4'!AG13 -> 1.25 | BF13: Rãnh BTXM có nắp | BG13: 72.16 | BH13: 67.06 | BI13: =+BH13-BG13 -> -5.1
A14: 6 | B14: Huyện Nghi Xuân | C14: =SUM(D14:G14) -> 12.48 | D14: 0 | E14: 1.569 | F14: 3.717 | G14: 7.194 | H14: =SUM(I14:L14) -> 0 | I14: 0 | J14: 0 | K14: 0 | L14: 0 | M14: =SUM(N14:U14) -> 2.173 | N14: 0 | O14: 0 | P14: 0.6 | Q14: 0 | R14: 0.055 | S14: 0.605 | T14: 0.47 | U14: 0.443 | V14: 1544 | W14: =SUM(X14:AA14) -> 0.32 | Z14: 0.32 | AB14: =SUM(AC14:AF14) -> 0 | AG14: =SUM(AH14:AO14) -> 0 | AP14: 33.6 | AQ14: =$W14/C14 -> 0.025641026 | AR14: =IF(H14=0,"-",AB14/H14) -> - | AS14: =AG14/M14 -> 0 | AT14: =W14-'23-4'!W14 -> 0 | AU14: =AB14-'23-4'!AB14 -> 0 | AV14: =AG14-'23-4'!AG14 -> 0 | BF14: Rãnh BTXM không nắp | BG14: 60.9 | BH14: 56.72 | BI14: =+BH14-BG14 -> -4.18
A15: 7 | B15: Huyện Đức Thọ | C15: =SUM(D15:G15) -> 20 | D15: 0 | E15: 2.5 | F15: 13.5 | G15: 4 | H15: =SUM(I15:L15) -> 3 | I15: 0 | J15: 1 | K15: 2 | L15: 0 | M15: =SUM(N15:U15) -> 2 | N15: 0 | O15: 0 | P15: 0 | Q15: 0 | R15: 0 | S15: 0 | T15: 2 | U15: 0 | V15: 2389 | W15: =SUM(X15:AA15) -> 1.63 | Y15: 0 | Z15: 1.63 | AA15: 0 | AB15: =SUM(AC15:AF15) -> 0 | AG15: =SUM(AH15:AO15) -> 0 | AP15: 206 | AQ15: =$W15/C15 -> 0.0815 | AR15: =IF(H15=0,"-",AB15/H15) -> 0 | AS15: =AG15/M15 -> 0 | AT15: =W15-'23-4'!W15 -> 0 | AU15: =AB15-'23-4'!AB15 -> 0 | AV15: =AG15-'23-4'!AG15 -> 0 | BF15: Rãnh gạch xây có nắp | BG15: 76.52 | BH15: 71.44 | BI15: =+BH15-BG15 -> -5.08
A16: 8 | B16: Huyện Hương Sơn | C16: =SUM(D16:G16) -> 66.208 | D16: 0.2 | E16: 19.629 | F16: 40.52 | G16: 5.859 | H16: =SUM(I16:L16) -> 0 | I16: 0 | J16: 0 | K16: 0 | L16: 0 | M16: =SUM(N16:U16) -> 52.728 | N16: 3.28 | O16: 9.6 | P16: 0.6 | Q16: 0 | R16: 11.28 | S16: 13.028 | T16: 1 | U16: 13.94 | V16: 11309 | W16: =SUM(X16:AA16) -> 6.501 | X16: 0 | Y16: 1.962 | Z16: 4.539 | AA16: 0 | AB16: =SUM(AC16:AF16) -> 0 | AG16: =SUM(AH16:AO16) -> 5.13 | AL16: 5.13 | AP16: 1522 | AQ16: =$W16/C16 -> 0.098190551 | AR16: =IF(H16=0,"-",AB16/H16) -> - | AS16: =AG16/M16 -> 0.097291761 | AT16: =W16-'23-4'!W16 -> 0 | AU16: =AB16-'23-4'!AB16 -> 0 | AV16: =AG16-'23-4'!AG16 -> 0 | BF16: Rãnh gạch xây không nắp | BG16: 50.58 | BH16: 47.89 | BI16: =+BH16-BG16 -> -2.69
A17: 9 | B17: Huyện Lộc Hà | C17: =SUM(D17:G17) -> 19.548 | D17: 0.2 | E17: 4.131 | F17: 9.057 | G17: 6.16 | H17: =SUM(I17:L17) -> 16.942 | I17: 6.95 | J17: 6.182 | K17: 3.81 | L17: 0 | M17: =SUM(N17:U17) -> 6.89 | N17: 1 | O17: 0 | P17: 0.82 | Q17: 0 | R17: 3.02 | S17: 0 | T17: 2.05 | U17: 0 | V17: 2819 | W17: =SUM(X17:AA17) -> 0 | AB17: =SUM(AC17:AF17) -> 1.2 | AD17: 1.2 | AG17: =SUM(AH17:AO17) -> 0 | AQ17: =$W17/C17 -> 0 | AR17: =IF(H17=0,"-",AB17/H17) -> 0.07082989 | AS17: =AG17/M17 -> 0 | AT17: =W17-'23-4'!W17 -> 0 | AU17: =AB17-'23-4'!AB17 -> 0 | AV17: =AG17-'23-4'!AG17 -> 0
A18: 10 | B18: Thị xã Kỳ Anh | C18: =SUM(D18:G18) -> 16.323 | D18: 0 | E18: 1.791 | F18: 13.442 | G18: 1.09 | H18: =SUM(I18:L18) -> 1.805 | I18: 0 | J18: 0.93 | K18: 0.875 | L18: 0 | M18: =SUM(N18:U18) -> 7.619 | N18: 0.375 | O18: 0 | P18: 0 | Q18: 0 | R18: 0.767 | S18: 0.612 | T18: 1.851 | U18: 4.014 | V18: 2258 | W18: =SUM(X18:AA18) -> 1.05 | X18: 0 | Y18: 0.8 | Z18: 0.25 | AA18: 0 | AB18: =SUM(AC18:AF18) -> 0 | AG18: =SUM(AH18:AO18) -> 0 | AP18: 160 | AQ18: =$W18/C18 -> 0.064326411 | AR18: =IF(H18=0,"-",AB18/H18) -> 0 | AS18: =AG18/M18 -> 0 | AT18: =W18-'23-4'!W18 -> 0.8 | AU18: =AB18-'23-4'!AB18 -> 0 | AV18: =AG18-'23-4'!AG18 -> 0
A19: 11 | B19: Thị xã Hồng Lĩnh | C19: =SUM(D19:G19) -> 4.209 | D19: 0 | E19: 4.125 | F19: 0.084 | G19: 0 | H19: =SUM(I19:L19) -> 2.473 | I19: 0 | J19: 2.473 | K19: 0 | L19: 0 | M19: =SUM(N19:U19) -> 7.431 | N19: 0 | O19: 0 | P19: 0 | Q19: 0 | R19: 0.512 | S19: 0 | T19: 6.719 | U19: 0.2 | V19: 1205 | W19: =SUM(X19:AA19) -> 1.103 | Y19: 1.103 | AB19: =SUM(AC19:AF19) -> 0 | AG19: =SUM(AH19:AO19) -> 2.185 | AN19: 2.185 | AP19: 559 | AQ19: =$W19/C19 -> 0.2620575 | AR19: =IF(H19=0,"-",AB19/H19) -> 0 | AS19: =AG19/M19 -> 0.29403849 | AT19: =W19-'23-4'!W19 -> 0 | AU19: =AB19-'23-4'!AB19 -> 0 | AV19: =AG19-'23-4'!AG19 -> 0
A20: 12 | B20: Huyện Hương Khê | C20: =SUM(D20:G20) -> 36.434 | D20: 0.65 | E20: 7.894 | F20: 19.367 | G20: 8.523 | H20: =SUM(I20:L20) -> 13.15 | I20: 11.15 | J20: 2 | K20: 0 | L20: 0 | M20: =SUM(N20:U20) -> 8.26 | N20: 0.36 | O20: 2.13 | P20: 0 | Q20: 0 | R20: 1.5 | S20: 3.195 | T20: 0 | U20: 1.075 | V20: 4891 | W20: =SUM(X20:AA20) -> 1.83 | Z20: 1.83 | AB20: =SUM(AC20:AF20) -> 0 | AG20: =SUM(AH20:AO20) -> 0 | AP20: 600 | AQ20: =$W20/C20 -> 0.050227809 | AR20: =IF(H20=0,"-",AB20/H20) -> 0 | AS20: =AG20/M20 -> 0 | AT20: =W20-'23-4'!W20 -> 0 | AU20: =AB20-'23-4'!AB20 -> 0 | AV20: =AG20-'23-4'!AG20 -> 0
A21: 13 | B21: Huyện Vũ Quang | C21: =SUM(D21:G21) -> 6.795 | D21: 0 | E21: 2 | F21: 3.775 | G21: 1.02 | H21: =SUM(I21:L21) -> 0 | I21: 0 | J21: 0 | K21: 0 | L21: 0 | M21: =SUM(N21:U21) -> 1.17 | N21: 0.64 | O21: 0 | P21: 0.53 | Q21: 0 | R21: 0 | S21: 0 | T21: 0 | U21: 0 | V21: 924 | W21: =SUM(X21:AA21) -> 0 | AB21: =SUM(AC21:AF21) -> 0 | AG21: =SUM(AH21:AO21) -> 0 | AQ21: =$W21/C21 -> 0 | AR21: =IF(H21=0,"-",AB21/H21) -> - | AS21: =AG21/M21 -> 0 | AT21: =W21-'23-4'!W21 -> 0 | AU21: =AB21-'23-4'!AB21 -> 0 | AV21: =AG21-'23-4'!AG21 -> 0
B22: Tổng cộng | C22: =SUM(C9:C21) -> 432.2993 | D22: =SUM(D9:D21) -> 8.6112 | E22: =SUM(E9:E21) -> 82.072 | F22: =SUM(F9:F21) -> 248.6441 | G22: =SUM(G9:G21) -> 92.972 | H22: =SUM(H9:H21) -> 106.947 | I22: =SUM(I9:I21) -> 31.37 | J22: =SUM(J9:J21) -> 57.017 | ... AP22: =SUM(AP9:AP21) -> 9799.6 | AQ22: =$W22/C22 -> 0.10861457 | AR22: =IF(H22=0,"-",AB22/H22) -> 0.039552302 | AS22: =AG22/M22 -> 0.14009979 | AT22: =SUM(AT9:AT21) -> 3.866 | AU22: =SUM(AU9:AU21) -> 0 | AV22: =SUM(AV9:AV21) -> 1.409
AP24: =+AP22/V22 -> 0.15742582
A27: 1 | B27: 2 | C27: 3 | D27: 4 | E27: 5 | F27: 6 | G27: 7 | H27: 8 | I27: 9 | J27: 10 | K27: 11 | L27: 12 | M27: 13 | N27: 14 | O27: 15 | P27: 16 | Q27: 17 | R27: 18 | S27: 19 | T27: 20 | U27: 21 | V27: 22 | W27: 23 | X27: 24 | Y27: 25 | Z27: 26 | AA27: 27 | AB27: 28 | AC27: 29 | AD27: 30 | AE27: 31 | AF27: 32 | AG27: 33 | AH27: 34 | AI27: 35 | AJ27: 36 | AK27: 37 | AL27: 38 | AM27: 39 | AN27: 40 | AO27: 41 | AP27: 42 | AQ27: 43 | AR27: 44 | AS27: 45 | AT27: 69 | AU27: 70 | AV27: 71
A28: 1 | B28: Huyện Kỳ Anh | C28: 49.113 | H28: 0 | I28: 0 | J28: 2.6 | K28: 2.17 | L28: 0 | M28: 66.692 | N28: 0 | O28: 0 | P28: 0 | Q28: 1.6 | R28: 1.04 | S28: 14.61 | T28: 0.36 | U28: 13.514 | W28: 5.37 | AG28: 5.48 | AQ28: =$W28/C28 -> 0.10933969 | AR28: =IF(H28=0,"-",AB28/H28) -> - | AS28: =AG28/M28 -> 0.082168776 | AT28: =W28-'09-4'!W28 -> 5.37 | AU28: =AB28-'09-4'!AB28 -> 0 | AV28: =AG28-'09-4'!AG28 -> 5.48
A29: 2 | B29: Huyện Cẩm Xuyên | C29: 78.238 | H29: 0.77 | I29: 1.9 | J29: 6.14 | K29: 0.95 | L29: 0 | M29: 38.337 | N29: 1.7 | O29: 3.192 | P29: 0 | Q29: 0.066 | R29: 1.35 | S29: 9.195 | T29: 0 | U29: 2.76 | W29: 11.75 | AG29: 38.34 | AQ29: =$W29/C29 -> 0.15018278 | AR29: =IF(H29=0,"-",AB29/H29) -> 0 | AS29: =AG29/M29 -> 1.0000783 | AT29: =W29-'09-4'!W29 -> 11.75 | AU29: =AB29-'09-4'!AB29 -> 0 | AV29: =AG29-'09-4'!AG29 -> 38.34
A30: 3 | B30: Thành phố Hà Tĩnh | C30: 23.24 | H30: 16.7 | I30: 0 | J30: 11.988 | K30: 0 | L30: 0 | M30: 9.24 | N30: 1.3 | O30: 0 | P30: 0 | Q30: 0 | R30: 3.746 | S30: 0 | T30: 0 | U30: 0 | W30: 2.8 | AG30: 1.4 | AQ30: =$W30/C30 -> 0.12048193 | AR30: =IF(H30=0,"-",AB30/H30) -> 0 | AS30: =AG30/M30 -> 0.15151515 | AT30: =W30-'09-4'!W30 -> 2.8 | AU30: =AB30-'09-4'!AB30 -> 0 | AV30: =AG30-'09-4'!AG30 -> 1.4
A31: 4 | B31: Huyện Thạch Hà | C31: 107.598 | H31: 0 | I31: 2.47 | J31: 22.904 | K31: 8.455 | L31: 0 | M31: 36.233 | N31: 3.17 | O31: 1 | P31: 0 | Q31: 0.5 | R31: 7.52 | S31: 3.06 | T31: 0.2 | U31: 1.51 | W31: 32.48 | AG31: 4.56 | AQ31: =$W31/C31 -> 0.30186435 | AR31: =IF(H31=0,"-",AB31/H31) -> - | AS31: =AG31/M31 -> 0.12585212 | AT31: =W31-'09-4'!W31 -> 32.48 | AU31: =AB31-'09-4'!AB31 -> 0 | AV31: =AG31-'09-4'!AG31 -> 4.56
A32: 5 | B32: Huyện Can Lộc | C32: 123.291 | H32: 1.7 | I32: 8.9 | J32: 0.8 | K32: 0.3 | L32: 0 | M32: 46.54 | N32: 1.43 | O32: 0 | P32: 0.4 | Q32: 0.2 | R32: 2.09 | S32: 0 | T32: 8.695 | U32: 1.29 | W32: 15.93 | AG32: 2.59 | AQ32: =$W32/C32 -> 0.12920651 | AR32: =IF(H32=0,"-",AB32/H32) -> 0 | AS32: =AG32/M32 -> 0.055651053 | AT32: =W32-'09-4'!W32 -> 15.93 | AU32: =AB32-'09-4'!AB32 -> 0 | AV32: =AG32-'09-4'!AG32 -> 2.59
A33: 6 | B33: Huyện Nghi Xuân | C33: 20.73 | H33: 0 | I33: 0 | J33: 0 | K33: 0 | L33: 0 | M33: 3.553 | N33: 0 | O33: 0 | P33: 0.6 | Q33: 0 | R33: 0.055 | S33: 0.605 | T33: 0.47 | U33: 0.443 | W33: 0.75 | AG33: 0 | AQ33: =$W33/C33 -> 0.03617945 | AR33: =IF(H33=0,"-",AB33/H33) -> - | AS33: =AG33/M33 -> 0 | AT33: =W33-'09-4'!W33 -> 0.75 | AU33: =AB33-'09-4'!AB33 -> 0 | AV33: =AG33-'09-4'!AG33 -> 0
A34: 7 | B34: Huyện Đức Thọ | C34: 35 | H34: 0 | I34: 0 | J34: 1 | K34: 2 | L34: 0 | M34: 3 | N34: 0 | O34: 0 | P34: 0 | Q34: 0 | R34: 0 | S34: 0 | T34: 2 | U34: 0 | W34: 5.87 | AG34: 0.6 | AQ34: =$W34/C34 -> 0.16771429 | AR34: =IF(H34=0,"-",AB34/H34) -> - | AS34: =AG34/M34 -> 0.2 | AT34: =W34-'09-4'!W34 -> 5.87 | AU34: =AB34-'09-4'!AB34 -> 0 | AV34: =AG34-'09-4'!AG34 -> 0.6
A35: 8 | B35: Huyện Hương Sơn | C35: 63.5 | H35: 10.78 | I35: 0 | J35: 0 | K35: 0 | L35: 0 | M35: 31.35 | N35: 3.28 | O35: 9.6 | P35: 0.6 | Q35: 0 | R35: 11.28 | S35: 13.028 | T35: 1 | U35: 13.94 | W35: 6.58 | AG35: 4.63 | AP35: 819 | AQ35: =$W35/C35 -> 0.10362205 | AR35: =IF(H35=0,"-",AB35/H35) -> 0 | AS35: =AG35/M35 -> 0.1476874 | AT35: =W35-'09-4'!W35 -> 6.58 | AU35: =AB35-'09-4'!AB35 -> 0 | AV35: =AG35-'09-4'!AG35 -> 4.63
A36: 9 | B36: Huyện Lộc Hà | C36: 45.603 | H36: 2.8 | I36: 6.95 | J36: 6.182 | K36: 3.81 | L36: 0 | M36: 17.842 | N36: 1 | O36: 0 | P36: 0.82 | Q36: 0 | R36: 3.02 | S36: 0 | T36: 2.05 | U36: 0 | W36: 0.4 | AG36: 1.05 | AQ36: =$W36/C36 -> 0.0087713528 | AR36: =IF(H36=0,"-",AB36/H36) -> 0 | AS36: =AG36/M36 -> 0.058849905 | AT36: =W36-'09-4'!W36 -> 0.4 | AU36: =AB36-'09-4'!AB36 -> 0 | AV36: =AG36-'09-4'!AG36 -> 1.05
A37: 10 | B37: Thị xã Kỳ Anh | C37: 21.248 | H37: 0.35 | I37: 0 | J37: 0.93 | K37: 0.875 | L37: 0 | M37: 15.671 | N37: 0.375 | O37: 0 | P37: 0 | Q37: 0 | R37: 0.767 | S37: 0.612 | T37: 1.851 | U37: 4.014 | W37: 2.33 | AG37: 0.59 | AQ37: =$W37/C37 -> 0.10965738 | AR37: =IF(H37=0,"-",AB37/H37) -> 0 | AS37: =AG37/M37 -> 0.037649161 | AT37: =W37-'09-4'!W37 -> 2.33 | AU37: =AB37-'09-4'!AB37 -> 0 | AV37: =AG37-'09-4'!AG37 -> 0.59
A38: 11 | B38: Thị xã Hồng Lĩnh | C38: 8.293 | H38: 1.335 | I38: 0 | J38: 2.473 | K38: 0 | L38: 0 | M38: 9.984 | N38: 0 | O38: 0 | P38: 0 | Q38: 0 | R38: 0.512 | S38: 0 | T38: 6.719 | U38: 0.2 | W38: 1.34 | AB38: 0.17 | AG38: 2.5 | AQ38: =$W38/C38 -> 0.16158206 | AR38: =IF(H38=0,"-",AB38/H38) -> 0.12734082 | AS38: =AG38/M38 -> 0.25040064 | AT38: =W38-'09-4'!W38 -> 1.34 | AU38: =AB38-'09-4'!AB38 -> 0.17 | AV38: =AG38-'09-4'!AG38 -> 2.5
A39: 12 | B39: Huyện Hương Khê | C39: 47.315 | H39: 13.747 | I39: 11.15 | J39: 2 | K39: 0 | L39: 0 | M39: 11.006 | N39: 0.36 | O39: 2.13 | P39: 0 | Q39: 0 | R39: 1.5 | S39: 3.195 | T39: 0 | U39: 1.075 | W39: 0.3 | AG39: 0 | AQ39: =$W39/C39 -> 0.006340484 | AR39: =IF(H39=0,"-",AB39/H39) -> 0 | AS39: =AG39/M39 -> 0 | AT39: =W39-'09-4'!W39 -> 0.3 | AU39: =AB39-'09-4'!AB39 -> 0 | AV39: =AG39-'09-4'!AG39 -> 0
A40: 13 | B40: Huyện Vũ Quang | C40: 8.426 | H40: 0 | I40: 0 | J40: 0 | K40: 0 | L40: 0 | M40: 0.18 | N40: 0.64 | O40: 0 | P40: 0.53 | Q40: 0 | R40: 0 | S40: 0 | T40: 0 | U40: 0 | W40: 1.62 | AG40: 0 | AQ40: =$W40/C40 -> 0.19226205 | AR40: =IF(H40=0,"-",AB40/H40) -> - | AS40: =AG40/M40 -> 0 | AT40: =W40-'09-4'!W40 -> 1.62 | AU40: =AB40-'09-4'!AB40 -> 0 | AV40: =AG40-'09-4'!AG40 -> 0
B41: Tổng cộng | C41: =SUM(C28:C40) -> 631.595 | D41: =SUM(D28:D40) -> 0 | E41: =SUM(E28:E40) -> 0 | F41: =SUM(F28:F40) -> 0 | G41: =SUM(G28:G40) -> 0 | H41: 48.182 | I41: =SUM(I28:I40) -> 31.37 | J41: =SUM(J28:J40) -> 57.017 | K41: =SUM(K28:K40) -> 18.56 | L41: =SUM(L28:L40) -> 0 | M41: =SUM(M28:M40) -> 289.628 | N41: =SUM(N28:N40) -> 13.255 | O41: =SUM(O28:O40) -> 15.922 | P41: =SUM(P28:P40) -> 2.95 | ... AP41: =SUM(AP28:AP40) -> 819 | AQ41: =$W41/C41 -> 0.13856981 | AR41: =IF(H41=0,"-",AB41/H41) -> 0.0035282886 | AS41: =AG41/M41 -> 0.21317 | AT41: =SUM(AT28:AT40) -> 87.52 | AU41: =SUM(AU28:AU40) -> 0.17 | AV41: =SUM(AV28:AV40) -> 61.74

Sheet 07-5
B1: UỶ BAN NHÂN DÂN TỈNH HÀ TĨNH
B2: SỞ GIAO THÔNG VẬN TẢI
A3: PHỤ LỤC 1: BÁO CÁO KẾT QUẢ THỰC HIỆN KẾ HOẠCH LÀM ĐƯỜNG GTNT, RÃNH THOÁT NƯỚC, PHỤC HỒI NÂNG CẤP MẶT ĐƯỜNG BTXM ĐẾN NGÀY 07/5/2020
A5: TT | B5: Huyện, thị xã, thành phố | C5: Khối lượng theo kế hoạch UBND tỉnh | W5: Kết quả thực hiện lũy kế đến thời điểm báo cáo | AQ5: Mức độ hoàn thành kế hoạch đầu năm | AT5: Tăng so với tuần trước | AW5: Ghi chú: | AZ5: Định mức cho 1 km đường (tấn/km) | BF5: Định mức xi măng tính cho 1km rãnh (tấn/km)
C6: Đường giao thông (km) | D6: Trong đó | H6: Nâng cấp phục hồi mặt đường BTXM (km) | I6: Trong đó | M6: Rãnh thoát nước (km) | N6: Rãnh trên đường trục xã | R6: Rãnh trên đường trục thôn | V6: Tổng khối lượng xi măng (tấn) | W6: Đường giao thông (km) | X6: Trong đó | AB6: Nâng cấp phục hồi mặt đường BTXM (km) | AC6: Trong đó | AG6: Rãnh thoát nước (km) | AH6: Rãnh trên đường trục xã | AL6: Rãnh trên đường trục thôn | AP6: Tổng khối lượng xi măng đã nhận (tấn) | AQ6: Đường giao thông (%) | AR6: Nâng cấp phục hồi mặt đường BTXM (%) | AS6: Rãnh thoát nước (%) | AT6: Đường giao thông (km) | AU6: Nâng cấp phục hồi mặt đường BTXM (km) | AV6: Rãnh thoát nước (km) | AZ6: Loại đường | BA6: ĐMXM theo 3212 | BB6: ĐMXM theo TT10.2019 | BC6: Chênh | BF6: Loại rãnh | BG6: ĐMXM theo 3212 | BH6: ĐMXM theo TT10.2019 | BI6: Chênh
D7: Đường trục xã và đường phố (km) | E7: Đường trục thôn, xóm và đường ngõ phố (km) | F7: Đường ngõ, xóm và đường ngách hẻm (km) | G7: Đường trục chính nội đồng (km) | I7: Đường trục xã và đường phố (km) | J7: Đường trục thôn, xóm và đường ngõ phố (km) | K7: Đường ngõ, xóm và đường ngách hẻm (km) | L7: Đường trục chính nội đồng (km) | N7: Rãnh BTXM có nắp đậy | O7: Rãnh BTXM không có nắp đậy | P7: Rãnh Gạch xây có nắp đậy | Q7: Rãnh Gạch xây không có nắp đậy | R7: Rãnh BTXM có nắp đậy | S7: Rãnh BTXM không có nắp đậy | T7: Rãnh Gạch xây có nắp đậy | U7: Rãnh Gạch xây không có nắp đậy | X7: Đường trục xã và đường phố (km) | Y7: Đường trục thôn, xóm và đường ngõ phố (km) | Z7: Đường ngõ, xóm và đường ngách hẻm (km) | AA7: Đường trục chính nội đồng (km) | AC7: Đường trục xã và đường phố (km) | AD7: Đường trục thôn, xóm và đường ngõ phố (km) | AE7: Đường ngõ, xóm và đường ngách hẻm (km) | AF7: Đường trục chính nội đồng (km) | AH7: Rãnh BTXM có nắp đậy | AI7: Rãnh BTXM không có nắp đậy | AJ7: Rãnh Gạch xây có nắp đậy | AK7: Rãnh Gạch xây không có nắp đậy | AL7: Rãnh BTXM có nắp đậy | AM7: Rãnh BTXM không có nắp đậy | AN7: Rãnh Gạch xây có nắp đậy | AO7: Rãnh Gạch xây không có nắp đậy | AZ7: Trục xã | BA7: =ROUNDUP(5*0.18*1000*309/1000*1.025,2) -> 285.06 | BB7: =ROUND(5*0.18*1000*284/1000*1.025,2) -> 261.99 | BC7: =+BB7-BA7 -> -23.07 | BF7: Rãnh trục xã
A8: 1 | B8: 2 | C8: 3 | D8: 4 | E8: 5 | F8: 6 | G8: 7 | H8: 8 | I8: 9 | J8: 10 | K8: 11 | L8: 12 | M8: 13 | N8: 14 | O8: 15 | P8: 16 | Q8: 17 | R8: 18 | S8: 19 | T8: 20 | U8: 21 | V8: 22 | W8: 23 | X8: 24 | Y8: 25 | Z8: 26 | AA8: 27 | AB8: 28 | AC8: 29 | AD8: 30 | AE8: 31 | AF8: 32 | AG8: 33 | AH8: 34 | AI8: 35 | AJ8: 36 | AK8: 37 | AL8: 38 | AM8: 39 | AN8: 40 | AO8: 41 | AP8: 42 | AQ8: 43 | AR8: 44 | AS8: 45 | AT8: 69 | AU8: 70 | AV8: 71 | AZ8: Trục thôn | BA8: =ROUND(3.5*0.16*1000*309/1000*1.025,2) -> 177.37 | BB8: =ROUND(3.5*0.16*1000*284/1000*1.025,2) -> 163.02 | BC8: =+BB8-BA8 -> -14.35 | BF8: Rãnh BTXM có nắp | BG8: 85.72 | BH8: 79.66 | BI8: =+BH8-BG8 -> -6.06
A9: 1 | B9: Huyện Kỳ Anh | C9: =SUM(D9:G9) -> 42.104 | D9: 0.775 | E9: 5.596 | F9: 31.403 | G9: 4.33 | H9: =SUM(I9:L9) -> 4.77 | I9: 0 | J9: 2.6 | K9: 2.17 | L9: 0 | M9: =SUM(N9:U9) -> 31.124 | N9: 0 | O9: 0 | P9: 0 | Q9: 1.6 | R9: 1.04 | S9: 14.61 | T9: 0.36 | U9: 13.514 | V9: 6529 | W9: =SUM(X9:AA9) -> 4.795 | X9: 0.3 | Y9: 0.65 | Z9: 3.745 | AA9: 0.1 | AB9: =SUM(AC9:AF9) -> 0 | AG9: =SUM(AH9:AO9) -> 9.969 | AH9: 0 | AI9: 0 | AJ9: 0 | AK9: 0 | AL9: 0 | AM9: 1.685 | AN9: 0 | AO9: 8.284 | AP9: 1328 | AQ9: =$W9/C9 -> 0.11388467 | AR9: =IF(H9=0,"-",AB9/H9) -> 0 | AS9: =AG9/M9 -> 0.32029945 | AT9: =W9-'29-4'!W9 -> 2.585 | AU9: =AB9-'29-4'!AB9 -> 0 | AV9: =AG9-'29-4'!AG9 -> 2.885 | AZ9: Ngõ xóm | BA9: =ROUND(3*0.14*1000*266/1000*1.025,2) -> 114.51 | BB9: =ROUND(3*0.14*1000*244/1000*1.025,2) -> 105.04 | BC9: =+BB9-BA9 -> -9.47 | BF9: Rãnh BTXM không nắp | BG9: 71.65 | BH9: 66.73 | BI9: =+BH9-BG9 -> -4.92
A10: 2 | B10: Huyện Cẩm Xuyên | C10: =SUM(D10:G10) -> 64.551 | D10: 0 | E10: 8.07 | F10: 39.357 | G10: 17.124 | H10: =SUM(I10:L10) -> 8.99 | I10: 1.9 | J10: 6.14 | K10: 0.95 | L10: 0 | M10: =SUM(N10:U10) -> 18.263 | N10: 1.7 | O10: 3.192 | P10: 0 | Q10: 0.066 | R10: 1.35 | S10: 9.195 | T10: 0 | U10: 2.76 | V10: 8344 | W10: =SUM(X10:AA10) -> 7.09 | X10: 0 | Y10: 1.39 | Z10: 5.3 | AA10: 0.4 | AB10: =SUM(AC10:AF10) -> 0 | AG10: =SUM(AH10:AO10) -> 2.062 | AH10: 0 | AI10: 0 | AJ10: 0 | AK10: 0 | AL10: 0.22 | AM10: 1.842 | AN10: 0 | AO10: 0 | AP10: 1342 | AQ10: =$W10/C10 -> 0.10983563 | AR10: =IF(H10=0,"-",AB10/H10) -> 0 | AS10: =AG10/M10 -> 0.11290588 | AT10: =W10-'29-4'!W10 -> 0 | AU10: =AB10-'29-4'!AB10 -> 0 | AV10: =AG10-'29-4'!AG10 -> 0 | BF10: Rãnh gạch xây có nắp | BG10: 87 | BH10: 81.34 | BI10: =+BH10-BG10 -> -5.66
A11: 3 | B11: Thành phố Hà Tĩnh | C11: =SUM(D11:G11) -> 12.357 | D11: 0 | E11: 2.864 | F11: 6.651 | G11: 2.842 | H11: =SUM(I11:L11) -> 11.988 | I11: 0 | J11: 11.988 | K11: 0 | L11: 0 | M11: =SUM(N11:U11) -> 5.046 | N11: 1.3 | O11: 0 | P11: 0 | Q11: 0 | R11: 3.746 | S11: 0 | T11: 0 | U11: 0 | V11: 1819 | W11: =SUM(X11:AA11) -> 2.806 | X11: 0 | Y11: 0.48 | Z11: 2.326 | AA11: 0 | AB11: =SUM(AC11:AF11) -> 6.508 | AD11: 6.508 | AG11: =SUM(AH11:AO11) -> 1.568 | AL11: 1.568 | AP11: 598 | AQ11: =$W11/C11 -> 0.22707777 | AR11: =IF(H11=0,"-",AB11/H11) -> 0.54287621 | AS11: =AG11/M11 -> 0.31074118 | AT11: =W11-'29-4'!W11 -> 0.15 | AU11: =AB11-'29-4'!AB11 -> 3.978 | AV11: =AG11-'29-4'!AG11 -> 0.159 | BF11: Rãnh gạch xây không nắp | BG11: 58.26 | BH11: 55.2 | BI11: =+BH11-BG11 -> -3.06
A12: 4 | B12: Huyện Thạch Hà | C12: =SUM(D12:G12) -> 92.218295 | D12: 6.7862 | E12: 9.535 | F12: 50.432095 | G12: 25.465 | H12: =SUM(I12:L12) -> 33.829 | I12: 2.47 | J12: 22.904 | K12: 8.455 | L12: 0 | M12: =SUM(N12:U12) -> 16.96 | N12: 3.17 | O12: 1 | P12: 0 | Q12: 0.5 | R12: 7.52 | S12: 3.06 | T12: 0.2 | U12: 1.51 | V12: 12416 | W12: =SUM(X12:AA12) -> 13.939 | X12: 0.2 | Y12: 2.788 | Z12: 8.583 | AA12: 2.368 | AB12: 1.1 | AG12: =SUM(AH12:AO12) -> 0.925 | AH12: 0.075 | AI12: 0.1 | AJ12: 0 | AK12: 0 | AL12: 0 | AM12: 0.28 | AN12: 0.27 | AO12: 0.2 | AP12: 2089 | AQ12: =$W12/C12 -> 0.15115222 | AR12: =IF(H12=0,"-",AB12/H12) -> 0.03251648 | AS12: =AG12/M12 -> 0.054540094 | AT12: =W12-'29-4'!W12 -> 3.964 | AU12: =AB12-'29-4'!AB12 -> 1.1 | AV12: =AG12-'29-4'!AG12 -> 0 | BF12: Rãnh trục thôn
A13: 5 | B13: Huyện Can Lộc | C13: =SUM(D13:G13) -> 39.072 | D13: 0 | E13: 12.368 | F13: 17.339 | G13: 9.365 | H13: =SUM(I13:L13) -> 10 | I13: 8.9 | J13: 0.8 | K13: 0.3 | L13: 0 | M13: =SUM(N13:U13) -> 14.105 | N13: 1.43 | O13: 0 | P13: 0.4 | Q13: 0.2 | R13: 2.09 | S13: 0 | T13: 8.695 | U13: 1.29 | V13: 5802 | W13: =SUM(X13:AA13) -> 15.49 | X13: 0 | Y13: 2.59 | Z13: 12.6 | AA13: 0.3 | AB13: =SUM(AC13:AF13) -> 0.5 | AD13: 0.5 | AG13: =SUM(AH13:AO13) -> 7.518 | AH13: 0 | AI13: 0 | AJ13: 0.07 | AK13: 1.2 | AL13: 3.008 | AM13: 0 | AN13: 2.5 | AO13: 0.74 | AP13: 2765 | AQ13: =$W13/C13 -> 0.39644758 | AR13: =IF(H13=0,"-",AB13/H13) -> 0.05 | AS13: =AG13/M13 -> 0.53300248 | AT13: =W13-'29-4'!W13 -> 2.901 | AU13: =AB13-'29-4'!AB13 -> 0 | AV13: =AG13-'29-4'!AG13 -> 1.968 | BF13: Rãnh BTXM có nắp | BG13: 72.16 | BH13: 67.06 | BI13: =+BH13-BG13 -> -5.1
A14: 6 | B14: Huyện Nghi Xuân | C14: =SUM(D14:G14) -> 12.48 | D14: 0 | E14: 1.569 | F14: 3.717 | G14: 7.194 | H14: =SUM(I14:L14) -> 0 | I14: 0 | J14: 0 | K14: 0 | L14: 0 | M14: =SUM(N14:U14) -> 2.173 | N14: 0 | O14: 0 | P14: 0.6 | Q14: 0 | R14: 0.055 | S14: 0.605 | T14: 0.47 | U14: 0.443 | V14: 1544 | W14: =SUM(X14:AA14) -> 0.32 | AA14: 0.32 | AB14: =SUM(AC14:AF14) -> 0 | AG14: =SUM(AH14:AO14) -> 0 | AP14: 33.6 | AQ14: =$W14/C14 -> 0.025641026 | AR14: =IF(H14=0,"-",AB14/H14) -> - | AS14: =AG14/M14 -> 0 | AT14: =W14-'29-4'!W14 -> 0 | AU14: =AB14-'29-4'!AB14 -> 0 | AV14: =AG14-'29-4'!AG14 -> 0 | BF14: Rãnh BTXM không nắp | BG14: 60.9 | BH14: 56.72 | BI14: =+BH14-BG14 -> -4.18
A15: 7 | B15: Huyện Đức Thọ | C15: =SUM(D15:G15) -> 20 | D15: 0 | E15: 2.5 | F15: 13.5 | G15: 4 | H15: =SUM(I15:L15) -> 3 | I15: 0 | J15: 1 | K15: 2 | L15: 0 | M15: =SUM(N15:U15) -> 2 | N15: 0 | O15: 0 | P15: 0 | Q15: 0 | R15: 0 | S15: 0 | T15: 2 | U15: 0 | V15: 2389 | W15: =SUM(X15:AA15) -> 2.33 | Y15: 0 | Z15: 2.33 | AA15: 0 | AB15: =SUM(AC15:AF15) -> 0 | AG15: =SUM(AH15:AO15) -> 0 | AP15: 246 | AQ15: =$W15/C15 -> 0.1165 | AR15: =IF(H15=0,"-",AB15/H15) -> 0 | AS15: =AG15/M15 -> 0 | AT15: =W15-'29-4'!W15 -> 0.7 | AU15: =AB15-'29-4'!AB15 -> 0 | AV15: =AG15-'29-4'!AG15 -> 0 | BF15: Rãnh gạch xây có nắp | BG15: 76.52 | BH15: 71.44 | BI15: =+BH15-BG15 -> -5.08
A16: 8 | B16: Huyện Hương Sơn | C16: =SUM(D16:G16) -> 66.208 | D16: 0.2 | E16: 19.629 | F16: 40.52 | G16: 5.859 | H16: =SUM(I16:L16) -> 0 | I16: 0 | J16: 0 | K16: 0 | L16: 0 | M16: =SUM(N16:U16) -> 52.728 | N16: 3.28 | O16: 9.6 | P16: 0.6 | Q16: 0 | R16: 11.28 | S16: 13.028 | T16: 1 | U16: 13.94 | V16: 11309 | W16: =SUM(X16:AA16) -> 6.501 | X16: 0 | Y16: 1.962 | Z16: 4.539 | AA16: 0 | AB16: =SUM(AC16:AF16) -> 0 | AG16: =SUM(AH16:AO16) -> 5.13 | AL16: 5.13 | AP16: 1522 | AQ16: =$W16/C16 -> 0.098190551 | AR16: =IF(H16=0,"-",AB16/H16) -> - | AS16: =AG16/M16 -> 0.097291761 | AT16: =W16-'29-4'!W16 -> 0 | AU16: =AB16-'29-4'!AB16 -> 0 | AV16: =AG16-'29-4'!AG16 -> 0 | BF16: Rãnh gạch xây không nắp | BG16: 50.58 | BH16: 47.89 | BI16: =+BH16-BG16 -> -2.69
A17: 9 | B17: Huyện Lộc Hà | C17: =SUM(D17:G17) -> 19.548 | D17: 0.2 | E17: 4.131 | F17: 9.057 | G17: 6.16 | H17: =SUM(I17:L17) -> 16.942 | I17: 6.95 | J17: 6.182 | K17: 3.81 | L17: 0 | M17: =SUM(N17:U17) -> 6.89 | N17: 1 | O17: 0 | P17: 0.82 | Q17: 0 | R17: 3.02 | S17: 0 | T17: 2.05 | U17: 0 | V17: 2819 | W17: =SUM(X17:AA17) -> 0 | AB17: =SUM(AC17:AF17) -> 1.2 | AD17: 1.2 | AG17: =SUM(AH17:AO17) -> 0 | AQ17: =$W17/C17 -> 0 | AR17: =IF(H17=0,"-",AB17/H17) -> 0.07082989 | AS17: =AG17/M17 -> 0 | AT17: =W17-'29-4'!W17 -> 0 | AU17: =AB17-'29-4'!AB17 -> 0 | AV17: =AG17-'29-4'!AG17 -> 0
A18: 10 | B18: Thị xã Kỳ Anh | C18: =SUM(D18:G18) -> 16.323 | D18: 0 | E18: 1.791 | F18: 13.442 | G18: 1.09 | H18: =SUM(I18:L18) -> 1.805 | I18: 0 | J18: 0.93 | K18: 0.875 | L18: 0 | M18: =SUM(N18:U18) -> 7.619 | N18: 0.375 | O18: 0 | P18: 0 | Q18: 0 | R18: 0.767 | S18: 0.612 | T18: 1.851 | U18: 4.014 | V18: 2258 | W18: =SUM(X18:AA18) -> 1.05 | X18: 0 | Y18: 0.8 | Z18: 0.25 | AA18: 0 | AB18: =SUM(AC18:AF18) -> 0 | AG18: =SUM(AH18:AO18) -> 0 | AP18: 160 | AQ18: =$W18/C18 -> 0.064326411 | AR18: =IF(H18=0,"-",AB18/H18) -> 0 | AS18: =AG18/M18 -> 0 | AT18: =W18-'29-4'!W18 -> 0 | AU18: =AB18-'29-4'!AB18 -> 0 | AV18: =AG18-'29-4'!AG18 -> 0
A19: 11 | B19: Thị xã Hồng Lĩnh | C19: =SUM(D19:G19) -> 4.209 | D19: 0 | E19: 4.125 | F19: 0.084 | G19: 0 | H19: =SUM(I19:L19) -> 2.473 | I19: 0 | J19: 2.473 | K19: 0 | L19: 0 | M19: =SUM(N19:U19) -> 7.431 | N19: 0 | O19: 0 | P19: 0 | Q19: 0 | R19: 0.512 | S19: 0 | T19: 6.719 | U19: 0.2 | V19: 1205 | W19: =SUM(X19:AA19) -> 1.103 | Y19: 1.103 | AB19: =SUM(AC19:AF19) -> 0 | AG19: =SUM(AH19:AO19) -> 2.185 | AN19: 2.185 | AP19: 559 | AQ19: =$W19/C19 -> 0.2620575 | AR19: =IF(H19=0,"-",AB19/H19) -> 0 | AS19: =AG19/M19 -> 0.29403849 | AT19: =W19-'29-4'!W19 -> 0 | AU19: =AB19-'29-4'!AB19 -> 0 | AV19: =AG19-'29-4'!AG19 -> 0
A20: 12 | B20: Huyện Hương Khê | C20: =SUM(D20:G20) -> 36.434 | D20: 0.65 | E20: 7.894 | F20: 19.367 | G20: 8.523 | H20: =SUM(I20:L20) -> 13.15 | I20: 11.15 | J20: 2 | K20: 0 | L20: 0 | M20: =SUM(N20:U20) -> 8.26 | N20: 0.36 | O20: 2.13 | P20: 0 | Q20: 0 | R20: 1.5 | S20: 3.195 | T20: 0 | U20: 1.075 | V20: 4891 | W20: =SUM(X20:AA20) -> 3.51 | X20: 0 | Y20: 0 | Z20: 3.51 | AA20: 0 | AB20: =SUM(AC20:AF20) -> 0 | AG20: =SUM(AH20:AO20) -> 0.2 | AH20: 0 | AI20: 0.08 | AJ20: 0 | AK20: 0 | AL20: 0.12 | AM20: 0 | AN20: 0 | AO20: 0 | AP20: 726 | AQ20: =$W20/C20 -> 0.096338585 | AR20: =IF(H20=0,"-",AB20/H20) -> 0 | AS20: =AG20/M20 -> 0.024213075 | AT20: =W20-'29-4'!W20 -> 1.68 | AU20: =AB20-'29-4'!AB20 -> 0 | AV20: =AG20-'29-4'!AG20 -> 0.2
A21: 13 | B21: Huyện Vũ Quang | C21: =SUM(D21:G21) -> 6.795 | D21: 0 | E21: 2 | F21: 3.775 | G21: 1.02 | H21: =SUM(I21:L21) -> 0 | I21: 0 | J21: 0 | K21: 0 | L21: 0 | M21: =SUM(N21:U21) -> 1.17 | N21: 0.64 | O21: 0 | P21: 0.53 | Q21: 0 | R21: 0 | S21: 0 | T21: 0 | U21: 0 | V21: 924 | W21: =SUM(X21:AA21) -> 0 | AB21: =SUM(AC21:AF21) -> 0 | AG21: =SUM(AH21:AO21) -> 0 | AQ21: =$W21/C21 -> 0 | AR21: =IF(H21=0,"-",AB21/H21) -> - | AS21: =AG21/M21 -> 0 | AT21: =W21-'29-4'!W21 -> 0 | AU21: =AB21-'29-4'!AB21 -> 0 | AV21: =AG21-'29-4'!AG21 -> 0
B22: Tổng cộng | C22: =SUM(C9:C21) -> 432.2993 | D22: =SUM(D9:D21) -> 8.6112 | E22: =SUM(E9:E21) -> 82.072 | F22: =SUM(F9:F21) -> 248.6441 | G22: =SUM(G9:G21) -> 92.972 | H22: =SUM(H9:H21) -> 106.947 | I22: =SUM(I9:I21) -> 31.37 | J22: =SUM(J9:J21) -> 57.017 | ... AP22: =SUM(AP9:AP21) -> 11368.6 | AQ22: =$W22/C22 -> 0.13632685 | AR22: =IF(H22=0,"-",AB22/H22) -> 0.087033764 | AS22: =AG22/M22 -> 0.17009363 | AT22: =SUM(AT9:AT21) -> 11.98 | AU22: =SUM(AU9:AU21) -> 5.078 | AV22: =SUM(AV9:AV21) -> 5.212
B24: Ghi chú: Cẩm Xuyên, Hương Sơn, Lộc Hà, TX Hồng Lĩnh, Vũ Quang chưa báo cáo. | AP24: =+AP22/V22 -> 0.18263105
A27: 1 | B27: 2 | C27: 3 | D27: 4 | E27: 5 | F27: 6 | G27: 7 | H27: 8 | I27: 9 | J27: 10 | K27: 11 | L27: 12 | M27: 13 | N27: 14 | O27: 15 | P27: 16 | Q27: 17 | R27: 18 | S27: 19 | T27: 20 | U27: 21 | V27: 22 | W27: 23 | X27: 24 | Y27: 25 | Z27: 26 | AA27: 27 | AB27: 28 | AC27: 29 | AD27: 30 | AE27: 31 | AF27: 32 | AG27: 33 | AH27: 34 | AI27: 35 | AJ27: 36 | AK27: 37 | AL27: 38 | AM27: 39 | AN27: 40 | AO27: 41 | AP27: 42 | AQ27: 43 | AR27: 44 | AS27: 45 | AT27: 69 | AU27: 70 | AV27: 71
A28: 1 | B28: Huyện Kỳ Anh | C28: 49.113 | H28: 0 | I28: 0 | J28: 2.6 | K28: 2.17 | L28: 0 | M28: 66.692 | N28: 0 | O28: 0 | P28: 0 | Q28: 1.6 | R28: 1.04 | S28: 14.61 | T28: 0.36 | U28: 13.514 | W28: 5.37 | AG28: 5.48 | AQ28: =$W28/C28 -> 0.10933969 | AR28: =IF(H28=0,"-",AB28/H28) -> - | AS28: =AG28/M28 -> 0.082168776 | AT28: =W28-'09-4'!W28 -> 5.37 | AU28: =AB28-'09-4'!AB28 -> 0 | AV28: =AG28-'09-4'!AG28 -> 5.48
A29: 2 | B29: Huyện Cẩm Xuyên | C29: 78.238 | H29: 0.77 | I29: 1.9 | J29: 6.14 | K29: 0.95 | L29: 0 | M29: 38.337 | N29: 1.7 | O29: 3.192 | P29: 0 | Q29: 0.066 | R29: 1.35 | S29: 9.195 | T29: 0 | U29: 2.76 | W29: 11.75 | AG29: 38.34 | AQ29: =$W29/C29 -> 0.15018278 | AR29: =IF(H29=0,"-",AB29/H29) -> 0 | AS29: =AG29/M29 -> 1.0000783 | AT29: =W29-'09-4'!W29 -> 11.75 | AU29: =AB29-'09-4'!AB29 -> 0 | AV29: =AG29-'09-4'!AG29 -> 38.34
A30: 3 | B30: Thành phố Hà Tĩnh | C30: 23.24 | H30: 16.7 | I30: 0 | J30: 11.988 | K30: 0 | L30: 0 | M30: 9.24 | N30: 1.3 | O30: 0 | P30: 0 | Q30: 0 | R30: 3.746 | S30: 0 | T30: 0 | U30: 0 | W30: 2.8 | AG30: 1.4 | AQ30: =$W30/C30 -> 0.12048193 | AR30: =IF(H30=0,"-",AB30/H30) -> 0 | AS30: =AG30/M30 -> 0.15151515 | AT30: =W30-'09-4'!W30 -> 2.8 | AU30: =AB30-'09-4'!AB30 -> 0 | AV30: =AG30-'09-4'!AG30 -> 1.4
A31: 4 | B31: Huyện Thạch Hà | C31: 107.598 | H31: 0 | I31: 2.47 | J31: 22.904 | K31: 8.455 | L31: 0 | M31: 36.233 | N31: 3.17 | O31: 1 | P31: 0 | Q31: 0.5 | R31: 7.52 | S31: 3.06 | T31: 0.2 | U31: 1.51 | W31: 32.48 | AG31: 4.56 | AQ31: =$W31/C31 -> 0.30186435 | AR31: =IF(H31=0,"-",AB31/H31) -> - | AS31: =AG31/M31 -> 0.12585212 | AT31: =W31-'09-4'!W31 -> 32.48 | AU31: =AB31-'09-4'!AB31 -> 0 | AV31: =AG31-'09-4'!AG31 -> 4.56
A32: 5 | B32: Huyện Can Lộc | C32: 123.291 | H32: 1.7 | I32: 8.9 | J32: 0.8 | K32: 0.3 | L32: 0 | M32: 46.54 | N32: 1.43 | O32: 0 | P32: 0.4 | Q32: 0.2 | R32: 2.09 | S32: 0 | T32: 8.695 | U32: 1.29 | W32: 15.93 | AG32: 2.59 | AQ32: =$W32/C32 -> 0.12920651 | AR32: =IF(H32=0,"-",AB32/H32) -> 0 | AS32: =AG32/M32 -> 0.055651053 | AT32: =W32-'09-4'!W32 -> 15.93 | AU32: =AB32-'09-4'!AB32 -> 0 | AV32: =AG32-'09-4'!AG32 -> 2.59
A33: 6 | B33: Huyện Nghi Xuân | C33: 20.73 | H33: 0 | I33: 0 | J33: 0 | K33: 0 | L33: 0 | M33: 3.553 | N33: 0 | O33: 0 | P33: 0.6 | Q33: 0 | R33: 0.055 | S33: 0.605 | T33: 0.47 | U33: 0.443 | W33: 0.75 | AG33: 0 | AQ33: =$W33/C33 -> 0.03617945 | AR33: =IF(H33=0,"-",AB33/H33) -> - | AS33: =AG33/M33 -> 0 | AT33: =W33-'09-4'!W33 -> 0.75 | AU33: =AB33-'09-4'!AB33 -> 0 | AV33: =AG33-'09-4'!AG33 -> 0
A34: 7 | B34: Huyện Đức Thọ | C34: 35 | H34: 0 | I34: 0 | J34: 1 | K34: 2 | L34: 0 | M34: 3 | N34: 0 | O34: 0 | P34: 0 | Q34: 0 | R34: 0 | S34: 0 | T34: 2 | U34: 0 | W34: 5.87 | AG34: 0.6 | AQ34: =$W34/C34 -> 0.16771429 | AR34: =IF(H34=0,"-",AB34/H34) -> - | AS34: =AG34/M34 -> 0.2 | AT34: =W34-'09-4'!W34 -> 5.87 | AU34: =AB34-'09-4'!AB34 -> 0 | AV34: =AG34-'09-4'!AG34 -> 0.6
A35: 8 | B35: Huyện Hương Sơn | C35: 63.5 | H35: 10.78 | I35: 0 | J35: 0 | K35: 0 | L35: 0 | M35: 31.35 | N35: 3.28 | O35: 9.6 | P35: 0.6 | Q35: 0 | R35: 11.28 | S35: 13.028 | T35: 1 | U35: 13.94 | W35: 6.58 | AG35: 4.63 | AP35: 819 | AQ35: =$W35/C35 -> 0.10362205 | AR35: =IF(H35=0,"-",AB35/H35) -> 0 | AS35: =AG35/M35 -> 0.1476874 | AT35: =W35-'09-4'!W35 -> 6.58 | AU35: =AB35-'09-4'!AB35 -> 0 | AV35: =AG35-'09-4'!AG35 -> 4.63
A36: 9 | B36: Huyện Lộc Hà | C36: 45.603 | H36: 2.8 | I36: 6.95 | J36: 6.182 | K36: 3.81 | L36: 0 | M36: 17.842 | N36: 1 | O36: 0 | P36: 0.82 | Q36: 0 | R36: 3.02 | S36: 0 | T36: 2.05 | U36: 0 | W36: 0.4 | AG36: 1.05 | AQ36: =$W36/C36 -> 0.0087713528 | AR36: =IF(H36=0,"-",AB36/H36) -> 0 | AS36: =AG36/M36 -> 0.058849905 | AT36: =W36-'09-4'!W36 -> 0.4 | AU36: =AB36-'09-4'!AB36 -> 0 | AV36: =AG36-'09-4'!AG36 -> 1.05
A37: 10 | B37: Thị xã Kỳ Anh | C37: 21.248 | H37: 0.35 | I37: 0 | J37: 0.93 | K37: 0.875 | L37: 0 | M37: 15.671 | N37: 0.375 | O37: 0 | P37: 0 | Q37: 0 | R37: 0.767 | S37: 0.612 | T37: 1.851 | U37: 4.014 | W37: 2.33 | AG37: 0.59 | AQ37: =$W37/C37 -> 0.10965738 | AR37: =IF(H37=0,"-",AB37/H37) -> 0 | AS37: =AG37/M37 -> 0.037649161 | AT37: =W37-'09-4'!W37 -> 2.33 | AU37: =AB37-'09-4'!AB37 -> 0 | AV37: =AG37-'09-4'!AG37 -> 0.59
A38: 11 | B38: Thị xã Hồng Lĩnh | C38: 8.293 | H38: 1.335 | I38: 0 | J38: 2.473 | K38: 0 | L38: 0 | M38: 9.984 | N38: 0 | O38: 0 | P38: 0 | Q38: 0 | R38: 0.512 | S38: 0 | T38: 6.719 | U38: 0.2 | W38: 1.34 | AB38: 0.17 | AG38: 2.5 | AQ38: =$W38/C38 -> 0.16158206 | AR38: =IF(H38=0,"-",AB38/H38) -> 0.12734082 | AS38: =AG38/M38 -> 0.25040064 | AT38: =W38-'09-4'!W38 -> 1.34 | AU38: =AB38-'09-4'!AB38 -> 0.17 | AV38: =AG38-'09-4'!AG38 -> 2.5
A39: 12 | B39: Huyện Hương Khê | C39: 47.315 | H39: 13.747 | I39: 11.15 | J39: 2 | K39: 0 | L39: 0 | M39: 11.006 | N39: 0.36 | O39: 2.13 | P39: 0 | Q39: 0 | R39: 1.5 | S39: 3.195 | T39: 0 | U39: 1.075 | W39: 0.3 | AG39: 0 | AQ39: =$W39/C39 -> 0.006340484 | AR39: =IF(H39=0,"-",AB39/H39) -> 0 | AS39: =AG39/M39 -> 0 | AT39: =W39-'09-4'!W39 -> 0.3 | AU39: =AB39-'09-4'!AB39 -> 0 | AV39: =AG39-'09-4'!AG39 -> 0
A40: 13 | B40: Huyện Vũ Quang | C40: 8.426 | H40: 0 | I40: 0 | J40: 0 | K40: 0 | L40: 0 | M40: 0.18 | N40: 0.64 | O40: 0 | P40: 0.53 | Q40: 0 | R40: 0 | S40: 0 | T40: 0 | U40: 0 | W40: 1.62 | AG40: 0 | AQ40: =$W40/C40 -> 0.19226205 | AR40: =IF(H40=0,"-",AB40/H40) -> - | AS40: =AG40/M40 -> 0 | AT40: =W40-'09-4'!W40 -> 1.62 | AU40: =AB40-'09-4'!AB40 -> 0 | AV40: =AG40-'09-4'!AG40 -> 0
B41: Tổng cộng | C41: =SUM(C28:C40) -> 631.595 | D41: =SUM(D28:D40) -> 0 | E41: =SUM(E28:E40) -> 0 | F41: =SUM(F28:F40) -> 0 | G41: =SUM(G28:G40) -> 0 | H41: 48.182 | I41: =SUM(I28:I40) -> 31.37 | J41: =SUM(J28:J40) -> 57.017 | K41: =SUM(K28:K40) -> 18.56 | L41: =SUM(L28:L40) -> 0 | M41: =SUM(M28:M40) -> 289.628 | N41: =SUM(N28:N40) -> 13.255 | O41: =SUM(O28:O40) -> 15.922 | P41: =SUM(P28:P40) -> 2.95 | ... AP41: =SUM(AP28:AP40) -> 819 | AQ41: =$W41/C41 -> 0.13856981 | AR41: =IF(H41=0,"-",AB41/H41) -> 0.0035282886 | AS41: =AG41/M41 -> 0.21317 | AT41: =SUM(AT28:AT40) -> 87.52 | AU41: =SUM(AU28:AU40) -> 0.17 | AV41: =SUM(AV28:AV40) -> 61.74

Sheet 14-5
B1: UỶ BAN NHÂN DÂN TỈNH HÀ TĨNH
B2: SỞ GIAO THÔNG VẬN TẢI
A3: PHỤ LỤC 1: BÁO CÁO KẾT QUẢ THỰC HIỆN KẾ HOẠCH LÀM ĐƯỜNG GTNT, RÃNH THOÁT NƯỚC, PHỤC HỒI NÂNG CẤP MẶT ĐƯỜNG BTXM ĐẾN NGÀY 14/5/2020
A5: TT | B5: Huyện, thị xã, thành phố | C5: Khối lượng theo kế hoạch UBND tỉnh | W5: Kết quả thực hiện lũy kế đến thời điểm báo cáo | AQ5: Mức độ hoàn thành kế hoạch đầu năm | AT5: Tăng so với tuần trước | AW5: Ghi chú: | AZ5: Định mức cho 1 km đường (tấn/km) | BF5: Định mức xi măng tính cho 1km rãnh (tấn/km)
C6: Đường giao thông (km) | D6: Trong đó | H6: Nâng cấp phục hồi mặt đường BTXM (km) | I6: Trong đó | M6: Rãnh thoát nước (km) | N6: Rãnh trên đường trục xã | R6: Rãnh trên đường trục thôn | V6: Tổng khối lượng xi măng (tấn) | W6: Đường giao thông (km) | X6: Trong đó | AB6: Nâng cấp phục hồi mặt đường BTXM (km) | AC6: Trong đó | AG6: Rãnh thoát nước (km) | AH6: Rãnh trên đường trục xã | AL6: Rãnh trên đường trục thôn | AP6: Tổng khối lượng xi măng đã nhận (tấn) | AQ6: Đường giao thông (%) | AR6: Nâng cấp phục hồi mặt đường BTXM (%) | AS6: Rãnh thoát nước (%) | AT6: Đường giao thông (km) | AU6: Nâng cấp phục hồi mặt đường BTXM (km) | AV6: Rãnh thoát nước (km) | AZ6: Loại đường | BA6: ĐMXM theo 3212 | BB6: ĐMXM theo TT10.2019 | BC6: Chênh | BF6: Loại rãnh | BG6: ĐMXM theo 3212 | BH6: ĐMXM theo TT10.2019 | BI6: Chênh
D7: Đường trục xã và đường phố (km) | E7: Đường trục thôn, xóm và đường ngõ phố (km) | F7: Đường ngõ, xóm và đường ngách hẻm (km) | G7: Đường trục chính nội đồng (km) | I7: Đường trục xã và đường phố (km) | J7: Đường trục thôn, xóm và đường ngõ phố (km) | K7: Đường ngõ, xóm và đường ngách hẻm (km) | L7: Đường trục chính nội đồng (km) | N7: Rãnh BTXM có nắp đậy | O7: Rãnh BTXM không có nắp đậy | P7: Rãnh Gạch xây có nắp đậy | Q7: Rãnh Gạch xây không có nắp đậy | R7: Rãnh BTXM có nắp đậy | S7: Rãnh BTXM không có nắp đậy | T7: Rãnh Gạch xây có nắp đậy | U7: Rãnh Gạch xây không có nắp đậy | X7: Đường trục xã và đường phố (km) | Y7: Đường trục thôn, xóm và đường ngõ phố (km) | Z7: Đường ngõ, xóm và đường ngách hẻm (km) | AA7: Đường trục chính nội đồng (km) | AC7: Đường trục xã và đường phố (km) | AD7: Đường trục thôn, xóm và đường ngõ phố (km) | AE7: Đường ngõ, xóm và đường ngách hẻm (km) | AF7: Đường trục chính nội đồng (km) | AH7: Rãnh BTXM có nắp đậy | AI7: Rãnh BTXM không có nắp đậy | AJ7: Rãnh Gạch xây có nắp đậy | AK7: Rãnh Gạch xây không có nắp đậy | AL7: Rãnh BTXM có nắp đậy | AM7: Rãnh BTXM không có nắp đậy | AN7: Rãnh Gạch xây có nắp đậy | AO7: Rãnh Gạch xây không có nắp đậy | AZ7: Trục xã | BA7: =ROUNDUP(5*0.18*1000*309/1000*1.025,2) -> 285.06 | BB7: =ROUND(5*0.18*1000*284/1000*1.025,2) -> 261.99 | BC7: =+BB7-BA7 -> -23.07 | BF7: Rãnh trục xã
A8: 1 | B8: 2 | C8: 3 | D8: 4 | E8: 5 | F8: 6 | G8: 7 | H8: 8 | I8: 9 | J8: 10 | K8: 11 | L8: 12 | M8: 13 | N8: 14 | O8: 15 | P8: 16 | Q8: 17 | R8: 18 | S8: 19 | T8: 20 | U8: 21 | V8: 22 | W8: 23 | X8: 24 | Y8: 25 | Z8: 26 | AA8: 27 | AB8: 28 | AC8: 29 | AD8: 30 | AE8: 31 | AF8: 32 | AG8: 33 | AH8: 34 | AI8: 35 | AJ8: 36 | AK8: 37 | AL8: 38 | AM8: 39 | AN8: 40 | AO8: 41 | AP8: 42 | AQ8: 43 | AR8: 44 | AS8: 45 | AT8: 69 | AU8: 70 | AV8: 71 | AZ8: Trục thôn | BA8: =ROUND(3.5*0.16*1000*309/1000*1.025,2) -> 177.37 | BB8: =ROUND(3.5*0.16*1000*284/1000*1.025,2) -> 163.02 | BC8: =+BB8-BA8 -> -14.35 | BF8: Rãnh BTXM có nắp | BG8: 85.72 | BH8: 79.66 | BI8: =+BH8-BG8 -> -6.06
A9: 1 | B9: Huyện Kỳ Anh | C9: =SUM(D9:G9) -> 42.104 | D9: 0.775 | E9: 5.596 | F9: 31.403 | G9: 4.33 | H9: =SUM(I9:L9) -> 4.77 | I9: 0 | J9: 2.6 | K9: 2.17 | L9: 0 | M9: =SUM(N9:U9) -> 31.124 | N9: 0 | O9: 0 | P9: 0 | Q9: 1.6 | R9: 1.04 | S9: 14.61 | T9: 0.36 | U9: 13.514 | V9: 6529 | W9: =SUM(X9:AA9) -> 5.55 | X9: 0.33 | Y9: 0.73 | Z9: 4.39 | AA9: 0.1 | AB9: =SUM(AC9:AF9) -> 0 | AG9: =SUM(AH9:AO9) -> 10.269 | AH9: 0 | AI9: 0 | AJ9: 0 | AK9: 0 | AL9: 0 | AM9: 1.985 | AN9: 0 | AO9: 8.284 | AP9: 1823 | AQ9: =$W9/C9 -> 0.13181645 | AR9: =IF(H9=0,"-",AB9/H9) -> 0 | AS9: =AG9/M9 -> 0.32993831 | AT9: =W9-'07-5'!W9 -> 0.755 | AU9: =AB9-'07-5'!AB9 -> 0 | AV9: =AG9-'07-5'!AG9 -> 0.3 | AZ9: Ngõ xóm | BA9: =ROUND(3*0.14*1000*266/1000*1.025,2) -> 114.51 | BB9: =ROUND(3*0.14*1000*244/1000*1.025,2) -> 105.04 | BC9: =+BB9-BA9 -> -9.47 | BF9: Rãnh BTXM không nắp | BG9: 71.65 | BH9: 66.73 | BI9: =+BH9-BG9 -> -4.92
A10: 2 | B10: Huyện Cẩm Xuyên | C10: =SUM(D10:G10) -> 64.551 | D10: 0 | E10: 8.07 | F10: 39.357 | G10: 17.124 | H10: =SUM(I10:L10) -> 8.99 | I10: 1.9 | J10: 6.14 | K10: 0.95 | L10: 0 | M10: =SUM(N10:U10) -> 18.263 | N10: 1.7 | O10: 3.192 | P10: 0 | Q10: 0.066 | R10: 1.35 | S10: 9.195 | T10: 0 | U10: 2.76 | V10: 8344 | W10: =SUM(X10:AA10) -> 17.094 | X10: 0 | Y10: 2.468 | Z10: 11.89 | AA10: 2.736 | AB10: =SUM(AC10:AF10) -> 0 | AG10: =SUM(AH10:AO10) -> 5.32 | AH10: 0 | AI10: 1.2 | AJ10: 0 | AK10: 0 | AL10: 0.22 | AM10: 3.9 | AN10: 0 | AO10: 0 | AP10: 2090 | AQ10: =$W10/C10 -> 0.26481387 | AR10: =IF(H10=0,"-",AB10/H10) -> 0 | AS10: =AG10/M10 -> 0.29129935 | AT10: =W10-'07-5'!W10 -> 10.004 | AU10: =AB10-'07-5'!AB10 -> 0 | AV10: =AG10-'07-5'!AG10 -> 3.258 | BF10: Rãnh gạch xây có nắp | BG10: 87 | BH10: 81.34 | BI10: =+BH10-BG10 -> -5.66
A11: 3 | B11: Thành phố Hà Tĩnh | C11: =SUM(D11:G11) -> 12.357 | D11: 0 | E11: 2.864 | F11: 6.651 | G11: 2.842 | H11: =SUM(I11:L11) -> 11.988 | I11: 0 | J11: 11.988 | K11: 0 | L11: 0 | M11: =SUM(N11:U11) -> 5.046 | N11: 1.3 | O11: 0 | P11: 0 | Q11: 0 | R11: 3.746 | S11: 0 | T11: 0 | U11: 0 | V11: 1819 | W11: =SUM(X11:AA11) -> 3.396 | X11: 0.687 | Y11: 2.709 | Z11: 0 | AA11: 0 | AB11: =SUM(AC11:AF11) -> 6.508 | AC11: 0 | AD11: 6.508 | AE11: 0 | AF11: 0 | AG11: =SUM(AH11:AO11) -> 1.568 | AL11: 1.568 | AP11: 821 | AQ11: =$W11/C11 -> 0.27482399 | AR11: =IF(H11=0,"-",AB11/H11) -> 0.54287621 | AS11: =AG11/M11 -> 0.31074118 | AT11: =W11-'07-5'!W11 -> 0.59 | AU11: =AB11-'07-5'!AB11 -> 0 | AV11: =AG11-'07-5'!AG11 -> 0 | BF11: Rãnh gạch xây không nắp | BG11: 58.26 | BH11: 55.2 | BI11: =+BH11-BG11 -> -3.06
A12: 4 | B12: Huyện Thạch Hà | C12: =SUM(D12:G12) -> 92.218295 | D12: 6.7862 | E12: 9.535 | F12: 50.432095 | G12: 25.465 | H12: =SUM(I12:L12) -> 33.829 | I12: 2.47 | J12: 22.904 | K12: 8.455 | L12: 0 | M12: =SUM(N12:U12) -> 16.96 | N12: 3.17 | O12: 1 | P12: 0 | Q12: 0.5 | R12: 7.52 | S12: 3.06 | T12: 0.2 | U12: 1.51 | V12: 12416 | W12: =SUM(X12:AA12) -> 19.209 | X12: 0.2 | Y12: 2.988 | Z12: 10.153 | AA12: 5.868 | AB12: =SUM(AC12:AF12) -> 1.4 | AC12: 0 | AD12: 1.4 | AE12: 0 | AF12: 0 | AG12: =SUM(AH12:AO12) -> 0.925 | AH12: 0.075 | AI12: 0.1 | AJ12: 0 | AK12: 0 | AL12: 0 | AM12: 0.28 | AN12: 0.27 | AO12: 0.2 | AP12: 2865 | AQ12: =$W12/C12 -> 0.20829923 | AR12: =IF(H12=0,"-",AB12/H12) -> 0.041384611 | AS12: =AG12/M12 -> 0.054540094 | AT12: =W12-'07-5'!W12 -> 5.27 | AU12: =AB12-'07-5'!AB12 -> 0.3 | AV12: =AG12-'07-5'!AG12 -> 0 | BF12: Rãnh trục thôn
A13: 5 | B13: Huyện Can Lộc | C13: =SUM(D13:G13) -> 39.072 | D13: 0 | E13: 12.368 | F13: 17.339 | G13: 9.365 | H13: =SUM(I13:L13) -> 10 | I13: 8.9 | J13: 0.8 | K13: 0.3 | L13: 0 | M13: =SUM(N13:U13) -> 14.105 | N13: 1.43 | O13: 0 | P13: 0.4 | Q13: 0.2 | R13: 2.09 | S13: 0 | T13: 8.695 | U13: 1.29 | V13: 5802 | W13: =SUM(X13:AA13) -> 15.49 | X13: 0 | Y13: 2.59 | Z13: 12.6 | AA13: 0.3 | AB13: =SUM(AC13:AF13) -> 0.5 | AD13: 0.5 | AG13: =SUM(AH13:AO13) -> 7.518 | AH13: 0 | AI13: 0 | AJ13: 0.07 | AK13: 1.2 | AL13: 3.008 | AM13: 0 | AN13: 2.5 | AO13: 0.74 | AP13: 2765 | AQ13: =$W13/C13 -> 0.39644758 | AR13: =IF(H13=0,"-",AB13/H13) -> 0.05 | AS13: =AG13/M13 -> 0.53300248 | AT13: =W13-'07-5'!W13 -> 0 | AU13: =AB13-'07-5'!AB13 -> 0 | AV13: =AG13-'07-5'!AG13 -> 0 | BF13: Rãnh BTXM có nắp | BG13: 72.16 | BH13: 67.06 | BI13: =+BH13-BG13 -> -5.1
A14: 6 | B14: Huyện Nghi Xuân | C14: =SUM(D14:G14) -> 12.48 | D14: 0 | E14: 1.569 | F14: 3.717 | G14: 7.194 | H14: =SUM(I14:L14) -> 0 | I14: 0 | J14: 0 | K14: 0 | L14: 0 | M14: =SUM(N14:U14) -> 2.173 | N14: 0 | O14: 0 | P14: 0.6 | Q14: 0 | R14: 0.055 | S14: 0.605 | T14: 0.47 | U14: 0.443 | V14: 1544 | W14: =SUM(X14:AA14) -> 0.32 | AA14: 0.32 | AB14: =SUM(AC14:AF14) -> 0 | AG14: =SUM(AH14:AO14) -> 0 | AP14: 33.6 | AQ14: =$W14/C14 -> 0.025641026 | AR14: =IF(H14=0,"-",AB14/H14) -> - | AS14: =AG14/M14 -> 0 | AT14: =W14-'07-5'!W14 -> 0 | AU14: =AB14-'07-5'!AB14 -> 0 | AV14: =AG14-'07-5'!AG14 -> 0 | BF14: Rãnh BTXM không nắp | BG14: 60.9 | BH14: 56.72 | BI14: =+BH14-BG14 -> -4.18
A15: 7 | B15: Huyện Đức Thọ | C15: =SUM(D15:G15) -> 20 | D15: 0 | E15: 2.5 | F15: 13.5 | G15: 4 | H15: =SUM(I15:L15) -> 3 | I15: 0 | J15: 1 | K15: 2 | L15: 0 | M15: =SUM(N15:U15) -> 2 | N15: 0 | O15: 0 | P15: 0 | Q15: 0 | R15: 0 | S15: 0 | T15: 2 | U15: 0 | V15: 2389 | W15: =SUM(X15:AA15) -> 2.74 | Y15: 0 | Z15: 2.74 | AA15: 0 | AB15: =SUM(AC15:AF15) -> 0 | AG15: =SUM(AH15:AO15) -> 0 | AP15: 291 | AQ15: =$W15/C15 -> 0.137 | AR15: =IF(H15=0,"-",AB15/H15) -> 0 | AS15: =AG15/M15 -> 0 | AT15: =W15-'07-5'!W15 -> 0.41 | AU15: =AB15-'07-5'!AB15 -> 0 | AV15: =AG15-'07-5'!AG15 -> 0 | BF15: Rãnh gạch xây có nắp | BG15: 76.52 | BH15: 71.44 | BI15: =+BH15-BG15 -> -5.08
A16: 8 | B16: Huyện Hương Sơn | C16: =SUM(D16:G16) -> 66.208 | D16: 0.2 | E16: 19.629 | F16: 40.52 | G16: 5.859 | H16: =SUM(I16:L16) -> 0 | I16: 0 | J16: 0 | K16: 0 | L16: 0 | M16: =SUM(N16:U16) -> 52.728 | N16: 3.28 | O16: 9.6 | P16: 0.6 | Q16: 0 | R16: 11.28 | S16: 13.028 | T16: 1 | U16: 13.94 | V16: 11309 | W16: =SUM(X16:AA16) -> 13.135 | X16: 0 | Y16: 2.865 | Z16: 9.67 | AA16: 0.6 | AB16: =SUM(AC16:AF16) -> 0 | AG16: =SUM(AH16:AO16) -> 7.69 | AL16: 7.69 | AP16: 2416 | AQ16: =$W16/C16 -> 0.19838992 | AR16: =IF(H16=0,"-",AB16/H16) -> - | AS16: =AG16/M16 -> 0.14584282 | AT16: =W16-'07-5'!W16 -> 6.634 | AU16: =AB16-'07-5'!AB16 -> 0 | AV16: =AG16-'07-5'!AG16 -> 2.56 | BF16: Rãnh gạch xây không nắp | BG16: 50.58 | BH16: 47.89 | BI16: =+BH16-BG16 -> -2.69
A17: 9 | B17: Huyện Lộc Hà | C17: =SUM(D17:G17) -> 19.548 | D17: 0.2 | E17: 4.131 | F17: 9.057 | G17: 6.16 | H17: =SUM(I17:L17) -> 16.942 | I17: 6.95 | J17: 6.182 | K17: 3.81 | L17: 0 | M17: =SUM(N17:U17) -> 6.89 | N17: 1 | O17: 0 | P17: 0.82 | Q17: 0 | R17: 3.02 | S17: 0 | T17: 2.05 | U17: 0 | V17: 2819 | W17: =SUM(X17:AA17) -> 0.98 | X17: 0 | Y17: 0 | Z17: 0.3 | AA17: 0.68 | AB17: =SUM(AC17:AF17) -> 2.7 | AD17: 2.7 | AG17: =SUM(AH17:AO17) -> 0 | AP17: 228 | AQ17: =$W17/C17 -> 0.050133006 | AR17: =IF(H17=0,"-",AB17/H17) -> 0.15936725 | AS17: =AG17/M17 -> 0 | AT17: =W17-'07-5'!W17 -> 0.98 | AU17: =AB17-'07-5'!AB17 -> 1.5 | AV17: =AG17-'07-5'!AG17 -> 0
A18: 10 | B18: Thị xã Kỳ Anh | C18: =SUM(D18:G18) -> 16.323 | D18: 0 | E18: 1.791 | F18: 13.442 | G18: 1.09 | H18: =SUM(I18:L18) -> 1.805 | I18: 0 | J18: 0.93 | K18: 0.875 | L18: 0 | M18: =SUM(N18:U18) -> 7.619 | N18: 0.375 | O18: 0 | P18: 0 | Q18: 0 | R18: 0.767 | S18: 0.612 | T18: 1.851 | U18: 4.014 | V18: 2258 | W18: =SUM(X18:AA18) -> 1.3 | X18: 0 | Y18: 0.8 | Z18: 0.5 | AA18: 0 | AB18: =SUM(AC18:AF18) -> 0 | AG18: =SUM(AH18:AO18) -> 0 | AP18: 160 | AQ18: =$W18/C18 -> 0.079642223 | AR18: =IF(H18=0,"-",AB18/H18) -> 0 | AS18: =AG18/M18 -> 0 | AT18: =W18-'07-5'!W18 -> 0.25 | AU18: =AB18-'07-5'!AB18 -> 0 | AV18: =AG18-'07-5'!AG18 -> 0
A19: 11 | B19: Thị xã Hồng Lĩnh | C19: =SUM(D19:G19) -> 4.209 | D19: 0 | E19: 4.125 | F19: 0.084 | G19: 0 | H19: =SUM(I19:L19) -> 2.473 | I19: 0 | J19: 2.473 | K19: 0 | L19: 0 | M19: =SUM(N19:U19) -> 7.431 | N19: 0 | O19: 0 | P19: 0 | Q19: 0 | R19: 0.512 | S19: 0 | T19: 6.719 | U19: 0.2 | V19: 1205 | W19: =SUM(X19:AA19) -> 1.103 | Y19: 1.103 | AB19: =SUM(AC19:AF19) -> 0 | AG19: =SUM(AH19:AO19) -> 2.185 | AN19: 2.185 | AP19: 559 | AQ19: =$W19/C19 -> 0.2620575 | AR19: =IF(H19=0,"-",AB19/H19) -> 0 | AS19: =AG19/M19 -> 0.29403849 | AT19: =W19-'07-5'!W19 -> 0 | AU19: =AB19-'07-5'!AB19 -> 0 | AV19: =AG19-'07-5'!AG19 -> 0
A20: 12 | B20: Huyện Hương Khê | C20: =SUM(D20:G20) -> 36.434 | D20: 0.65 | E20: 7.894 | F20: 19.367 | G20: 8.523 | H20: =SUM(I20:L20) -> 13.15 | I20: 11.15 | J20: 2 | K20: 0 | L20: 0 | M20: =SUM(N20:U20) -> 8.26 | N20: 0.36 | O20: 2.13 | P20: 0 | Q20: 0 | R20: 1.5 | S20: 3.195 | T20: 0 | U20: 1.075 | V20: 4891 | W20: =SUM(X20:AA20) -> 3.51 | X20: 0 | Y20: 0 | Z20: 3.51 | AA20: 0 | AB20: =SUM(AC20:AF20) -> 0 | AG20: =SUM(AH20:AO20) -> 0.2 | AH20: 0 | AI20: 0.08 | AJ20: 0 | AK20: 0 | AL20: 0.12 | AM20: 0 | AN20: 0 | AO20: 0 | AP20: 726 | AQ20: =$W20/C20 -> 0.096338585 | AR20: =IF(H20=0,"-",AB20/H20) -> 0 | AS20: =AG20/M20 -> 0.024213075 | AT20: =W20-'07-5'!W20 -> 0 | AU20: =AB20-'07-5'!AB20 -> 0 | AV20: =AG20-'07-5'!AG20 -> 0
A21: 13 | B21: Huyện Vũ Quang | C21: =SUM(D21:G21) -> 6.795 | D21: 0 | E21: 2 | F21: 3.775 | G21: 1.02 | H21: =SUM(I21:L21) -> 0 | I21: 0 | J21: 0 | K21: 0 | L21: 0 | M21: =SUM(N21:U21) -> 1.17 | N21: 0.64 | O21: 0 | P21: 0.53 | Q21: 0 | R21: 0 | S21: 0 | T21: 0 | U21: 0 | V21: 924 | W21: =SUM(X21:AA21) -> 0 | AB21: =SUM(AC21:AF21) -> 0 | AG21: =SUM(AH21:AO21) -> 0 | AQ21: =$W21/C21 -> 0 | AR21: =IF(H21=0,"-",AB21/H21) -> - | AS21: =AG21/M21 -> 0 | AT21: =W21-'07-5'!W21 -> 0 | AU21: =AB21-'07-5'!AB21 -> 0 | AV21: =AG21-'07-5'!AG21 -> 0
B22: Tổng cộng | C22: =SUM(C9:C21) -> 432.2993 | D22: =SUM(D9:D21) -> 8.6112 | E22: =SUM(E9:E21) -> 82.072 | F22: =SUM(F9:F21) -> 248.6441 | G22: =SUM(G9:G21) -> 92.972 | H22: =SUM(H9:H21) -> 106.947 | I22: =SUM(I9:I21) -> 31.37 | J22: =SUM(J9:J21) -> 57.017 | ... AP22: =SUM(AP9:AP21) -> 14777.6 | AQ22: =$W22/C22 -> 0.19390964 | AR22: =IF(H22=0,"-",AB22/H22) -> 0.10386453 | AS22: =AG22/M22 -> 0.20530129 | AT22: =SUM(AT9:AT21) -> 24.893 | AU22: =SUM(AU9:AU21) -> 1.8 | AV22: =SUM(AV9:AV21) -> 6.118
B24: Ghi chú: Bổ sung Hương Sơn | AP24: =+AP22/V22 -> 0.23739498
A27: 1 | B27: 2 | C27: 3 | D27: 4 | E27: 5 | F27: 6 | G27: 7 | H27: 8 | I27: 9 | J27: 10 | K27: 11 | L27: 12 | M27: 13 | N27: 14 | O27: 15 | P27: 16 | Q27: 17 | R27: 18 | S27: 19 | T27: 20 | U27: 21 | V27: 22 | W27: 23 | X27: 24 | Y27: 25 | Z27: 26 | AA27: 27 | AB27: 28 | AC27: 29 | AD27: 30 | AE27: 31 | AF27: 32 | AG27: 33 | AH27: 34 | AI27: 35 | AJ27: 36 | AK27: 37 | AL27: 38 | AM27: 39 | AN27: 40 | AO27: 41 | AP27: 42 | AQ27: 43 | AR27: 44 | AS27: 45 | AT27: 69 | AU27: 70 | AV27: 71
A28: 1 | B28: Huyện Kỳ Anh | C28: 49.113 | H28: 0 | I28: 0 | J28: 2.6 | K28: 2.17 | L28: 0 | M28: 66.692 | N28: 0 | O28: 0 | P28: 0 | Q28: 1.6 | R28: 1.04 | S28: 14.61 | T28: 0.36 | U28: 13.514 | W28: 5.37 | AG28: 5.48 | AQ28: =$W28/C28 -> 0.10933969 | AR28: =IF(H28=0,"-",AB28/H28) -> - | AS28: =AG28/M28 -> 0.082168776 | AT28: =W28-'09-4'!W28 -> 5.37 | AU28: =AB28-'09-4'!AB28 -> 0 | AV28: =AG28-'09-4'!AG28 -> 5.48
A29: 2 | B29: Huyện Cẩm Xuyên | C29: 78.238 | H29: 0.77 | I29: 1.9 | J29: 6.14 | K29: 0.95 | L29: 0 | M29: 38.337 | N29: 1.7 | O29: 3.192 | P29: 0 | Q29: 0.066 | R29: 1.35 | S29: 9.195 | T29: 0 | U29: 2.76 | W29: 11.75 | AG29: 38.34 | AQ29: =$W29/C29 -> 0.15018278 | AR29: =IF(H29=0,"-",AB29/H29) -> 0 | AS29: =AG29/M29 -> 1.0000783 | AT29: =W29-'09-4'!W29 -> 11.75 | AU29: =AB29-'09-4'!AB29 -> 0 | AV29: =AG29-'09-4'!AG29 -> 38.34
A30: 3 | B30: Thành phố Hà Tĩnh | C30: 23.24 | H30: 16.7 | I30: 0 | J30: 11.988 | K30: 0 | L30: 0 | M30: 9.24 | N30: 1.3 | O30: 0 | P30: 0 | Q30: 0 | R30: 3.746 | S30: 0 | T30: 0 | U30: 0 | W30: 2.8 | AG30: 1.4 | AQ30: =$W30/C30 -> 0.12048193 | AR30: =IF(H30=0,"-",AB30/H30) -> 0 | AS30: =AG30/M30 -> 0.15151515 | AT30: =W30-'09-4'!W30 -> 2.8 | AU30: =AB30-'09-4'!AB30 -> 0 | AV30: =AG30-'09-4'!AG30 -> 1.4
A31: 4 | B31: Huyện Thạch Hà | C31: 107.598 | H31: 0 | I31: 2.47 | J31: 22.904 | K31: 8.455 | L31: 0 | M31: 36.233 | N31: 3.17 | O31: 1 | P31: 0 | Q31: 0.5 | R31: 7.52 | S31: 3.06 | T31: 0.2 | U31: 1.51 | W31: 32.48 | AG31: 4.56 | AQ31: =$W31/C31 -> 0.30186435 | AR31: =IF(H31=0,"-",AB31/H31) -> - | AS31: =AG31/M31 -> 0.12585212 | AT31: =W31-'09-4'!W31 -> 32.48 | AU31: =AB31-'09-4'!AB31 -> 0 | AV31: =AG31-'09-4'!AG31 -> 4.56
A32: 5 | B32: Huyện Can Lộc | C32: 123.291 | H32: 1.7 | I32: 8.9 | J32: 0.8 | K32: 0.3 | L32: 0 | M32: 46.54 | N32: 1.43 | O32: 0 | P32: 0.4 | Q32: 0.2 | R32: 2.09 | S32: 0 | T32: 8.695 | U32: 1.29 | W32: 15.93 | AG32: 2.59 | AQ32: =$W32/C32 -> 0.12920651 | AR32: =IF(H32=0,"-",AB32/H32) -> 0 | AS32: =AG32/M32 -> 0.055651053 | AT32: =W32-'09-4'!W32 -> 15.93 | AU32: =AB32-'09-4'!AB32 -> 0 | AV32: =AG32-'09-4'!AG32 -> 2.59
A33: 6 | B33: Huyện Nghi Xuân | C33: 20.73 | H33: 0 | I33: 0 | J33: 0 | K33: 0 | L33: 0 | M33: 3.553 | N33: 0 | O33: 0 | P33: 0.6 | Q33: 0 | R33: 0.055 | S33: 0.605 | T33: 0.47 | U33: 0.443 | W33: 0.75 | AG33: 0 | AQ33: =$W33/C33 -> 0.03617945 | AR33: =IF(H33=0,"-",AB33/H33) -> - | AS33: =AG33/M33 -> 0 | AT33: =W33-'09-4'!W33 -> 0.75 | AU33: =AB33-'09-4'!AB33 -> 0 | AV33: =AG33-'09-4'!AG33 -> 0
A34: 7 | B34: Huyện Đức Thọ | C34: 35 | H34: 0 | I34: 0 | J34: 1 | K34: 2 | L34: 0 | M34: 3 | N34: 0 | O34: 0 | P34: 0 | Q34: 0 | R34: 0 | S34: 0 | T34: 2 | U34: 0 | W34: 5.87 | AG34: 0.6 | AQ34: =$W34/C34 -> 0.16771429 | AR34: =IF(H34=0,"-",AB34/H34) -> - | AS34: =AG34/M34 -> 0.2 | AT34: =W34-'09-4'!W34 -> 5.87 | AU34: =AB34-'09-4'!AB34 -> 0 | AV34: =AG34-'09-4'!AG34 -> 0.6
A35: 8 | B35: Huyện Hương Sơn | C35: 63.5 | H35: 10.78 | I35: 0 | J35: 0 | K35: 0 | L35: 0 | M35: 31.35 | N35: 3.28 | O35: 9.6 | P35: 0.6 | Q35: 0 | R35: 11.28 | S35: 13.028 | T35: 1 | U35: 13.94 | W35: 6.58 | AG35: 4.63 | AP35: 819 | AQ35: =$W35/C35 -> 0.10362205 | AR35: =IF(H35=0,"-",AB35/H35) -> 0 | AS35: =AG35/M35 -> 0.1476874 | AT35: =W35-'09-4'!W35 -> 6.58 | AU35: =AB35-'09-4'!AB35 -> 0 | AV35: =AG35-'09-4'!AG35 -> 4.63
A36: 9 | B36: Huyện Lộc Hà | C36: 45.603 | H36: 2.8 | I36: 6.95 | J36: 6.182 | K36: 3.81 | L36: 0 | M36: 17.842 | N36: 1 | O36: 0 | P36: 0.82 | Q36: 0 | R36: 3.02 | S36: 0 | T36: 2.05 | U36: 0 | W36: 0.4 | AG36: 1.05 | AQ36: =$W36/C36 -> 0.0087713528 | AR36: =IF(H36=0,"-",AB36/H36) -> 0 | AS36: =AG36/M36 -> 0.058849905 | AT36: =W36-'09-4'!W36 -> 0.4 | AU36: =AB36-'09-4'!AB36 -> 0 | AV36: =AG36-'09-4'!AG36 -> 1.05
A37: 10 | B37: Thị xã Kỳ Anh | C37: 21.248 | H37: 0.35 | I37: 0 | J37: 0.93 | K37: 0.875 | L37: 0 | M37: 15.671 | N37: 0.375 | O37: 0 | P37: 0 | Q37: 0 | R37: 0.767 | S37: 0.612 | T37: 1.851 | U37: 4.014 | W37: 2.33 | AG37: 0.59 | AQ37: =$W37/C37 -> 0.10965738 | AR37: =IF(H37=0,"-",AB37/H37) -> 0 | AS37: =AG37/M37 -> 0.037649161 | AT37: =W37-'09-4'!W37 -> 2.33 | AU37: =AB37-'09-4'!AB37 -> 0 | AV37: =AG37-'09-4'!AG37 -> 0.59
A38: 11 | B38: Thị xã Hồng Lĩnh | C38: 8.293 | H38: 1.335 | I38: 0 | J38: 2.473 | K38: 0 | L38: 0 | M38: 9.984 | N38: 0 | O38: 0 | P38: 0 | Q38: 0 | R38: 0.512 | S38: 0 | T38: 6.719 | U38: 0.2 | W38: 1.34 | AB38: 0.17 | AG38: 2.5 | AQ38: =$W38/C38 -> 0.16158206 | AR38: =IF(H38=0,"-",AB38/H38) -> 0.12734082 | AS38: =AG38/M38 -> 0.25040064 | AT38: =W38-'09-4'!W38 -> 1.34 | AU38: =AB38-'09-4'!AB38 -> 0.17 | AV38: =AG38-'09-4'!AG38 -> 2.5
A39: 12 | B39: Huyện Hương Khê | C39: 47.315 | H39: 13.747 | I39: 11.15 | J39: 2 | K39: 0 | L39: 0 | M39: 11.006 | N39: 0.36 | O39: 2.13 | P39: 0 | Q39: 0 | R39: 1.5 | S39: 3.195 | T39: 0 | U39: 1.075 | W39: 0.3 | AG39: 0 | AQ39: =$W39/C39 -> 0.006340484 | AR39: =IF(H39=0,"-",AB39/H39) -> 0 | AS39: =AG39/M39 -> 0 | AT39: =W39-'09-4'!W39 -> 0.3 | AU39: =AB39-'09-4'!AB39 -> 0 | AV39: =AG39-'09-4'!AG39 -> 0
A40: 13 | B40: Huyện Vũ Quang | C40: 8.426 | H40: 0 | I40: 0 | J40: 0 | K40: 0 | L40: 0 | M40: 0.18 | N40: 0.64 | O40: 0 | P40: 0.53 | Q40: 0 | R40: 0 | S40: 0 | T40: 0 | U40: 0 | W40: 1.62 | AG40: 0 | AQ40: =$W40/C40 -> 0.19226205 | AR40: =IF(H40=0,"-",AB40/H40) -> - | AS40: =AG40/M40 -> 0 | AT40: =W40-'09-4'!W40 -> 1.62 | AU40: =AB40-'09-4'!AB40 -> 0 | AV40: =AG40-'09-4'!AG40 -> 0
B41: Tổng cộng | C41: =SUM(C28:C40) -> 631.595 | D41: =SUM(D28:D40) -> 0 | E41: =SUM(E28:E40) -> 0 | F41: =SUM(F28:F40) -> 0 | G41: =SUM(G28:G40) -> 0 | H41: 48.182 | I41: =SUM(I28:I40) -> 31.37 | J41: =SUM(J28:J40) -> 57.017 | K41: =SUM(K28:K40) -> 18.56 | L41: =SUM(L28:L40) -> 0 | M41: =SUM(M28:M40) -> 289.628 | N41: =SUM(N28:N40) -> 13.255 | O41: =SUM(O28:O40) -> 15.922 | P41: =SUM(P28:P40) -> 2.95 | ... AP41: =SUM(AP28:AP40) -> 819 | AQ41: =$W41/C41 -> 0.13856981 | AR41: =IF(H41=0,"-",AB41/H41) -> 0.0035282886 | AS41: =AG41/M41 -> 0.21317 | AT41: =SUM(AT28:AT40) -> 87.52 | AU41: =SUM(AU28:AU40) -> 0.17 | AV41: =SUM(AV28:AV40) -> 61.74

Sheet 21-5
B1: UỶ BAN NHÂN DÂN TỈNH HÀ TĨNH
B2: SỞ GIAO THÔNG VẬN TẢI
A3: PHỤ LỤC 1: BÁO CÁO KẾT QUẢ THỰC HIỆN KẾ HOẠCH LÀM ĐƯỜNG GTNT, RÃNH THOÁT NƯỚC, PHỤC HỒI NÂNG CẤP MẶT ĐƯỜNG BTXM ĐẾN NGÀY 21/5/2020
A5: TT | B5: Huyện, thị xã, thành phố | C5: Khối lượng theo kế hoạch UBND tỉnh | W5: Kết quả thực hiện lũy kế đến thời điểm báo cáo | AQ5: Mức độ hoàn thành kế hoạch đầu năm | AT5: Tăng so với tuần trước | AW5: Ghi chú: | AZ5: Định mức cho 1 km đường (tấn/km) | BF5: Định mức xi măng tính cho 1km rãnh (tấn/km)
C6: Đường giao thông (km) | D6: Trong đó | H6: Nâng cấp phục hồi mặt đường BTXM (km) | I6: Trong đó | M6: Rãnh thoát nước (km) | N6: Rãnh trên đường trục xã | R6: Rãnh trên đường trục thôn | V6: Tổng khối lượng xi măng (tấn) | W6: Đường giao thông (km) | X6: Trong đó | AB6: Nâng cấp phục hồi mặt đường BTXM (km) | AC6: Trong đó | AG6: Rãnh thoát nước (km) | AH6: Rãnh trên đường trục xã | AL6: Rãnh trên đường trục thôn | AP6: Tổng khối lượng xi măng đã nhận (tấn) | AQ6: Đường giao thông (%) | AR6: Nâng cấp phục hồi mặt đường BTXM (%) | AS6: Rãnh thoát nước (%) | AT6: Đường giao thông (km) | AU6: Nâng cấp phục hồi mặt đường BTXM (km) | AV6: Rãnh thoát nước (km) | AZ6: Loại đường | BA6: ĐMXM theo 3212 | BB6: ĐMXM theo TT10.2019 | BC6: Chênh | BF6: Loại rãnh | BG6: ĐMXM theo 3212 | BH6: ĐMXM theo TT10.2019 | BI6: Chênh
D7: Đường trục xã và đường phố (km) | E7: Đường trục thôn, xóm và đường ngõ phố (km) | F7: Đường ngõ, xóm và đường ngách hẻm (km) | G7: Đường trục chính nội đồng (km) | I7: Đường trục xã và đường phố (km) | J7: Đường trục thôn, xóm và đường ngõ phố (km) | K7: Đường ngõ, xóm và đường ngách hẻm (km) | L7: Đường trục chính nội đồng (km) | N7: Rãnh BTXM có nắp đậy | O7: Rãnh BTXM không có nắp đậy | P7: Rãnh Gạch xây có nắp đậy | Q7: Rãnh Gạch xây không có nắp đậy | R7: Rãnh BTXM có nắp đậy | S7: Rãnh BTXM không có nắp đậy | T7: Rãnh Gạch xây có nắp đậy | U7: Rãnh Gạch xây không có nắp đậy | X7: Đường trục xã và đường phố (km) | Y7: Đường trục thôn, xóm và đường ngõ phố (km) | Z7: Đường ngõ, xóm và đường ngách hẻm (km) | AA7: Đường trục chính nội đồng (km) | AC7: Đường trục xã và đường phố (km) | AD7: Đường trục thôn, xóm và đường ngõ phố (km) | AE7: Đường ngõ, xóm và đường ngách hẻm (km) | AF7: Đường trục chính nội đồng (km) | AH7: Rãnh BTXM có nắp đậy | AI7: Rãnh BTXM không có nắp đậy | AJ7: Rãnh Gạch xây có nắp đậy | AK7: Rãnh Gạch xây không có nắp đậy | AL7: Rãnh BTXM có nắp đậy | AM7: Rãnh BTXM không có nắp đậy | AN7: Rãnh Gạch xây có nắp đậy | AO7: Rãnh Gạch xây không có nắp đậy | AZ7: Trục xã | BA7: =ROUNDUP(5*0.18*1000*309/1000*1.025,2) -> 285.06 | BB7: =ROUND(5*0.18*1000*284/1000*1.025,2) -> 261.99 | BC7: =+BB7-BA7 -> -23.07 | BF7: Rãnh trục xã
A8: 1 | B8: 2 | C8: 3 | D8: 4 | E8: 5 | F8: 6 | G8: 7 | H8: 8 | I8: 9 | J8: 10 | K8: 11 | L8: 12 | M8: 13 | N8: 14 | O8: 15 | P8: 16 | Q8: 17 | R8: 18 | S8: 19 | T8: 20 | U8: 21 | V8: 22 | W8: 23 | X8: 24 | Y8: 25 | Z8: 26 | AA8: 27 | AB8: 28 | AC8: 29 | AD8: 30 | AE8: 31 | AF8: 32 | AG8: 33 | AH8: 34 | AI8: 35 | AJ8: 36 | AK8: 37 | AL8: 38 | AM8: 39 | AN8: 40 | AO8: 41 | AP8: 42 | AQ8: 43 | AR8: 44 | AS8: 45 | AT8: 69 | AU8: 70 | AV8: 71 | AZ8: Trục thôn | BA8: =ROUND(3.5*0.16*1000*309/1000*1.025,2) -> 177.37 | BB8: =ROUND(3.5*0.16*1000*284/1000*1.025,2) -> 163.02 | BC8: =+BB8-BA8 -> -14.35 | BF8: Rãnh BTXM có nắp | BG8: 85.72 | BH8: 79.66 | BI8: =+BH8-BG8 -> -6.06
A9: 1 | B9: Huyện Kỳ Anh | C9: =SUM(D9:G9) -> 42.104 | D9: 0.775 | E9: 5.596 | F9: 31.403 | G9: 4.33 | H9: =SUM(I9:L9) -> 4.77 | I9: 0 | J9: 2.6 | K9: 2.17 | L9: 0 | M9: =SUM(N9:U9) -> 31.124 | N9: 0 | O9: 0 | P9: 0 | Q9: 1.6 | R9: 1.04 | S9: 14.61 | T9: 0.36 | U9: 13.514 | V9: 6529 | W9: =SUM(X9:AA9) -> 6.865 | X9: 0.33 | Y9: 1.05 | Z9: 5.385 | AA9: 0.1 | AB9: =SUM(AC9:AF9) -> 0 | AG9: =SUM(AH9:AO9) -> 11.649 | AH9: 0 | AI9: 0 | AJ9: 0 | AK9: 0 | AL9: 0 | AM9: 3.005 | AN9: 0 | AO9: 8.644 | AP9: 2347.5 | AQ9: =$W9/C9 -> 0.16304864 | AR9: =IF(H9=0,"-",AB9/H9) -> 0 | AS9: =AG9/M9 -> 0.37427709 | AT9: =W9-'14-5'!W9 -> 1.315 | AU9: =AB9-'14-5'!AB9 -> 0 | AV9: =AG9-'14-5'!AG9 -> 1.38 | AZ9: Ngõ xóm | BA9: =ROUND(3*0.14*1000*266/1000*1.025,2) -> 114.51 | BB9: =ROUND(3*0.14*1000*244/1000*1.025,2) -> 105.04 | BC9: =+BB9-BA9 -> -9.47 | BF9: Rãnh BTXM không nắp | BG9: 71.65 | BH9: 66.73 | BI9: =+BH9-BG9 -> -4.92
A10: 2 | B10: Huyện Cẩm Xuyên | C10: =SUM(D10:G10) -> 64.551 | D10: 0 | E10: 8.07 | F10: 39.357 | G10: 17.124 | H10: =SUM(I10:L10) -> 8.99 | I10: 1.9 | J10: 6.14 | K10: 0.95 | L10: 0 | M10: =SUM(N10:U10) -> 18.263 | N10: 1.7 | O10: 3.192 | P10: 0 | Q10: 0.066 | R10: 1.35 | S10: 9.195 | T10: 0 | U10: 2.76 | V10: 8344 | W10: =SUM(X10:AA10) -> 19.459 | X10: 0 | Y10: 2.998 | Z10: 13.725 | AA10: 2.736 | AB10: =SUM(AC10:AF10) -> 0 | AG10: =SUM(AH10:AO10) -> 5.75 | AH10: 0 | AI10: 1.2 | AJ10: 0 | AK10: 0 | AL10: 0.65 | AM10: 3.9 | AN10: 0 | AO10: 0 | AP10: 2436 | AQ10: =$W10/C10 -> 0.30145157 | AR10: =IF(H10=0,"-",AB10/H10) -> 0 | AS10: =AG10/M10 -> 0.31484422 | AT10: =W10-'14-5'!W10 -> 2.365 | AU10: =AB10-'14-5'!AB10 -> 0 | AV10: =AG10-'14-5'!AG10 -> 0.43 | BF10: Rãnh gạch xây có nắp | BG10: 87 | BH10: 81.34 | BI10: =+BH10-BG10 -> -5.66
A11: 3 | B11: Thành phố Hà Tĩnh | C11: =SUM(D11:G11) -> 12.357 | D11: 0 | E11: 2.864 | F11: 6.651 | G11: 2.842 | H11: =SUM(I11:L11) -> 11.988 | I11: 0 | J11: 11.988 | K11: 0 | L11: 0 | M11: =SUM(N11:U11) -> 5.046 | N11: 1.3 | O11: 0 | P11: 0 | Q11: 0 | R11: 3.746 | S11: 0 | T11: 0 | U11: 0 | V11: 1819 | W11: =SUM(X11:AA11) -> 3.497 | X11: 0.687 | Y11: 2.81 | Z11: 0 | AA11: 0 | AB11: =SUM(AC11:AF11) -> 7.11 | AC11: 0 | AD11: 7.11 | AE11: 0 | AF11: 0 | AG11: =SUM(AH11:AO11) -> 1.65 | AL11: 1.65 | AP11: 833 | AQ11: =$W11/C11 -> 0.28299749 | AR11: =IF(H11=0,"-",AB11/H11) -> 0.59309309 | AS11: =AG11/M11 -> 0.32699168 | AT11: =W11-'14-5'!W11 -> 0.101 | AU11: =AB11-'14-5'!AB11 -> 0.602 | AV11: =AG11-'14-5'!AG11 -> 0.082 | BF11: Rãnh gạch xây không nắp | BG11: 58.26 | BH11: 55.2 | BI11: =+BH11-BG11 -> -3.06
A12: 4 | B12: Huyện Thạch Hà | C12: =SUM(D12:G12) -> 92.218295 | D12: 6.7862 | E12: 9.535 | F12: 50.432095 | G12: 25.465 | H12: =SUM(I12:L12) -> 33.829 | I12: 2.47 | J12: 22.904 | K12: 8.455 | L12: 0 | M12: =SUM(N12:U12) -> 16.96 | N12: 3.17 | O12: 1 | P12: 0 | Q12: 0.5 | R12: 7.52 | S12: 3.06 | T12: 0.2 | U12: 1.51 | V12: 12416 | W12: =SUM(X12:AA12) -> 21.109 | X12: 0.2 | Y12: 2.988 | Z12: 11.553 | AA12: 6.368 | AB12: =SUM(AC12:AF12) -> 2.3 | AC12: 0 | AD12: 2.3 | AE12: 0 | AF12: 0 | AG12: =SUM(AH12:AO12) -> 0.925 | AH12: 0.075 | AI12: 0.1 | AJ12: 0 | AK12: 0 | AL12: 0 | AM12: 0.28 | AN12: 0.27 | AO12: 0.2 | AP12: 3024 | AQ12: =$W12/C12 -> 0.22890252 | AR12: =IF(H12=0,"-",AB12/H12) -> 0.067989004 | AS12: =AG12/M12 -> 0.054540094 | AT12: =W12-'14-5'!W12 -> 1.9 | AU12: =AB12-'14-5'!AB12 -> 0.9 | AV12: =AG12-'14-5'!AG12 -> 0 | BF12: Rãnh trục thôn
A13: 5 | B13: Huyện Can Lộc | C13: =SUM(D13:G13) -> 39.072 | D13: 0 | E13: 12.368 | F13: 17.339 | G13: 9.365 | H13: =SUM(I13:L13) -> 10 | I13: 8.9 | J13: 0.8 | K13: 0.3 | L13: 0 | M13: =SUM(N13:U13) -> 14.105 | N13: 1.43 | O13: 0 | P13: 0.4 | Q13: 0.2 | R13: 2.09 | S13: 0 | T13: 8.695 | U13: 1.29 | V13: 5802 | W13: =SUM(X13:AA13) -> 17.1 | X13: 0 | Y13: 3.04 | Z13: 13.76 | AA13: 0.3 | AB13: =SUM(AC13:AF13) -> 0.5 | AD13: 0.5 | AG13: =SUM(AH13:AO13) -> 7.918 | AH13: 0 | AI13: 0 | AJ13: 0.07 | AK13: 1.2 | AL13: 3.008 | AM13: 0 | AN13: 2.4 | AO13: 1.24 | AP13: 2979 | AQ13: =$W13/C13 -> 0.43765356 | AR13: =IF(H13=0,"-",AB13/H13) -> 0.05 | AS13: =AG13/M13 -> 0.56136122 | AT13: =W13-'14-5'!W13 -> 1.61 | AU13: =AB13-'14-5'!AB13 -> 0 | AV13: =AG13-'14-5'!AG13 -> 0.4 | BF13: Rãnh BTXM có nắp | BG13: 72.16 | BH13: 67.06 | BI13: =+BH13-BG13 -> -5.1
A14: 6 | B14: Huyện Nghi Xuân | C14: =SUM(D14:G14) -> 12.48 | D14: 0 | E14: 1.569 | F14: 3.717 | G14: 7.194 | H14: =SUM(I14:L14) -> 0 | I14: 0 | J14: 0 | K14: 0 | L14: 0 | M14: =SUM(N14:U14) -> 2.173 | N14: 0 | O14: 0 | P14: 0.6 | Q14: 0 | R14: 0.055 | S14: 0.605 | T14: 0.47 | U14: 0.443 | V14: 1544 | W14: =SUM(X14:AA14) -> 0.32 | AA14: 0.32 | AB14: =SUM(AC14:AF14) -> 0 | AG14: =SUM(AH14:AO14) -> 0 | AP14: 33.6 | AQ14: =$W14/C14 -> 0.025641026 | AR14: =IF(H14=0,"-",AB14/H14) -> - | AS14: =AG14/M14 -> 0 | AT14: =W14-'14-5'!W14 -> 0 | AU14: =AB14-'14-5'!AB14 -> 0 | AV14: =AG14-'14-5'!AG14 -> 0 | BF14: Rãnh BTXM không nắp | BG14: 60.9 | BH14: 56.72 | BI14: =+BH14-BG14 -> -4.18
A15: 7 | B15: Huyện Đức Thọ | C15: =SUM(D15:G15) -> 20 | D15: 0 | E15: 2.5 | F15: 13.5 | G15: 4 | H15: =SUM(I15:L15) -> 3 | I15: 0 | J15: 1 | K15: 2 | L15: 0 | M15: =SUM(N15:U15) -> 2 | N15: 0 | O15: 0 | P15: 0 | Q15: 0 | R15: 0 | S15: 0 | T15: 2 | U15: 0 | V15: 2389 | W15: =SUM(X15:AA15) -> 2.74 | Y15: 0 | Z15: 2.74 | AA15: 0 | AB15: =SUM(AC15:AF15) -> 0 | AG15: =SUM(AH15:AO15) -> 0 | AP15: 291 | AQ15: =$W15/C15 -> 0.137 | AR15: =IF(H15=0,"-",AB15/H15) -> 0 | AS15: =AG15/M15 -> 0 | AT15: =W15-'14-5'!W15 -> 0 | AU15: =AB15-'14-5'!AB15 -> 0 | AV15: =AG15-'14-5'!AG15 -> 0 | BF15: Rãnh gạch xây có nắp | BG15: 76.52 | BH15: 71.44 | BI15: =+BH15-BG15 -> -5.08
A16: 8 | B16: Huyện Hương Sơn | C16: =SUM(D16:G16) -> 66.208 | D16: 0.2 | E16: 19.629 | F16: 40.52 | G16: 5.859 | H16: =SUM(I16:L16) -> 0 | I16: 0 | J16: 0 | K16: 0 | L16: 0 | M16: =SUM(N16:U16) -> 52.728 | N16: 3.28 | O16: 9.6 | P16: 0.6 | Q16: 0 | R16: 11.28 | S16: 13.028 | T16: 1 | U16: 13.94 | V16: 11309 | W16: =SUM(X16:AA16) -> 13.135 | X16: 0 | Y16: 2.865 | Z16: 9.67 | AA16: 0.6 | AB16: =SUM(AC16:AF16) -> 0 | AG16: =SUM(AH16:AO16) -> 7.69 | AL16: 7.69 | AP16: 2416 | AQ16: =$W16/C16 -> 0.19838992 | AR16: =IF(H16=0,"-",AB16/H16) -> - | AS16: =AG16/M16 -> 0.14584282 | AT16: =W16-'14-5'!W16 -> 0 | AU16: =AB16-'14-5'!AB16 -> 0 | AV16: =AG16-'14-5'!AG16 -> 0 | BF16: Rãnh gạch xây không nắp | BG16: 50.58 | BH16: 47.89 | BI16: =+BH16-BG16 -> -2.69
A17: 9 | B17: Huyện Lộc Hà | C17: =SUM(D17:G17) -> 19.548 | D17: 0.2 | E17: 4.131 | F17: 9.057 | G17: 6.16 | H17: =SUM(I17:L17) -> 16.942 | I17: 6.95 | J17: 6.182 | K17: 3.81 | L17: 0 | M17: =SUM(N17:U17) -> 6.89 | N17: 1 | O17: 0 | P17: 0.82 | Q17: 0 | R17: 3.02 | S17: 0 | T17: 2.05 | U17: 0 | V17: 2819 | W17: =SUM(X17:AA17) -> 0.98 | X17: 0 | Y17: 0 | Z17: 0.3 | AA17: 0.68 | AB17: =SUM(AC17:AF17) -> 2.7 | AD17: 2.7 | AG17: =SUM(AH17:AO17) -> 0 | AP17: 228 | AQ17: =$W17/C17 -> 0.050133006 | AR17: =IF(H17=0,"-",AB17/H17) -> 0.15936725 | AS17: =AG17/M17 -> 0 | AT17: =W17-'14-5'!W17 -> 0 | AU17: =AB17-'14-5'!AB17 -> 0 | AV17: =AG17-'14-5'!AG17 -> 0
A18: 10 | B18: Thị xã Kỳ Anh | C18: =SUM(D18:G18) -> 16.323 | D18: 0 | E18: 1.791 | F18: 13.442 | G18: 1.09 | H18: =SUM(I18:L18) -> 1.805 | I18: 0 | J18: 0.93 | K18: 0.875 | L18: 0 | M18: =SUM(N18:U18) -> 7.619 | N18: 0.375 | O18: 0 | P18: 0 | Q18: 0 | R18: 0.767 | S18: 0.612 | T18: 1.851 | U18: 4.014 | V18: 2258 | W18: =SUM(X18:AA18) -> 1.3 | X18: 0 | Y18: 0.8 | Z18: 0.5 | AA18: 0 | AB18: =SUM(AC18:AF18) -> 0 | AG18: =SUM(AH18:AO18) -> 0 | AP18: 160 | AQ18: =$W18/C18 -> 0.079642223 | AR18: =IF(H18=0,"-",AB18/H18) -> 0 | AS18: =AG18/M18 -> 0 | AT18: =W18-'14-5'!W18 -> 0 | AU18: =AB18-'14-5'!AB18 -> 0 | AV18: =AG18-'14-5'!AG18 -> 0
A19: 11 | B19: Thị xã Hồng Lĩnh | C19: =SUM(D19:G19) -> 4.209 | D19: 0 | E19: 4.125 | F19: 0.084 | G19: 0 | H19: =SUM(I19:L19) -> 2.473 | I19: 0 | J19: 2.473 | K19: 0 | L19: 0 | M19: =SUM(N19:U19) -> 7.431 | N19: 0 | O19: 0 | P19: 0 | Q19: 0 | R19: 0.512 | S19: 0 | T19: 6.719 | U19: 0.2 | V19: 1205 | W19: =SUM(X19:AA19) -> 1.103 | Y19: 1.103 | AB19: =SUM(AC19:AF19) -> 0 | AG19: =SUM(AH19:AO19) -> 2.185 | AN19: 2.185 | AP19: 559 | AQ19: =$W19/C19 -> 0.2620575 | AR19: =IF(H19=0,"-",AB19/H19) -> 0 | AS19: =AG19/M19 -> 0.29403849 | AT19: =W19-'14-5'!W19 -> 0 | AU19: =AB19-'14-5'!AB19 -> 0 | AV19: =AG19-'14-5'!AG19 -> 0
A20: 12 | B20: Huyện Hương Khê | C20: =SUM(D20:G20) -> 36.434 | D20: 0.65 | E20: 7.894 | F20: 19.367 | G20: 8.523 | H20: =SUM(I20:L20) -> 13.15 | I20: 11.15 | J20: 2 | K20: 0 | L20: 0 | M20: =SUM(N20:U20) -> 8.26 | N20: 0.36 | O20: 2.13 | P20: 0 | Q20: 0 | R20: 1.5 | S20: 3.195 | T20: 0 | U20: 1.075 | V20: 4891 | W20: =SUM(X20:AA20) -> 3.51 | X20: 0 | Y20: 0 | Z20: 3.51 | AA20: 0 | AB20: =SUM(AC20:AF20) -> 0 | AG20: =SUM(AH20:AO20) -> 0.2 | AH20: 0 | AI20: 0.08 | AJ20: 0 | AK20: 0 | AL20: 0.12 | AM20: 0 | AN20: 0 | AO20: 0 | AP20: 726 | AQ20: =$W20/C20 -> 0.096338585 | AR20: =IF(H20=0,"-",AB20/H20) -> 0 | AS20: =AG20/M20 -> 0.024213075 | AT20: =W20-'14-5'!W20 -> 0 | AU20: =AB20-'14-5'!AB20 -> 0 | AV20: =AG20-'14-5'!AG20 -> 0
A21: 13 | B21: Huyện Vũ Quang | C21: =SUM(D21:G21) -> 6.795 | D21: 0 | E21: 2 | F21: 3.775 | G21: 1.02 | H21: =SUM(I21:L21) -> 0 | I21: 0 | J21: 0 | K21: 0 | L21: 0 | M21: =SUM(N21:U21) -> 1.17 | N21: 0.64 | O21: 0 | P21: 0.53 | Q21: 0 | R21: 0 | S21: 0 | T21: 0 | U21: 0 | V21: 924 | W21: =SUM(X21:AA21) -> 0.53 | Z21: 0.53 | AB21: =SUM(AC21:AF21) -> 0 | AG21: =SUM(AH21:AO21) -> 0 | AP21: 95.7 | AQ21: =$W21/C21 -> 0.077998528 | AR21: =IF(H21=0,"-",AB21/H21) -> - | AS21: =AG21/M21 -> 0 | AT21: =W21-'14-5'!W21 -> 0.53 | AU21: =AB21-'14-5'!AB21 -> 0 | AV21: =AG21-'14-5'!AG21 -> 0
B22: Tổng cộng | C22: =SUM(C9:C21) -> 432.2993 | D22: =SUM(D9:D21) -> 8.6112 | E22: =SUM(E9:E21) -> 82.072 | F22: =SUM(F9:F21) -> 248.6441 | G22: =SUM(G9:G21) -> 92.972 | H22: =SUM(H9:H21) -> 106.947 | I22: =SUM(I9:I21) -> 31.37 | J22: =SUM(J9:J21) -> 57.017 | ... AP22: =SUM(AP9:AP21) -> 16128.8 | AQ22: =$W22/C22 -> 0.21200127 | AR22: =IF(H22=0,"-",AB22/H22) -> 0.11790887 | AS22: =AG22/M22 -> 0.21849122 | AT22: =SUM(AT9:AT21) -> 7.821 | AU22: =SUM(AU9:AU21) -> 1.502 | AV22: =SUM(AV9:AV21) -> 2.292
AP24: =+AP22/V22 -> 0.25910135
A27: 1 | B27: 2 | C27: 3 | D27: 4 | E27: 5 | F27: 6 | G27: 7 | H27: 8 | I27: 9 | J27: 10 | K27: 11 | L27: 12 | M27: 13 | N27: 14 | O27: 15 | P27: 16 | Q27: 17 | R27: 18 | S27: 19 | T27: 20 | U27: 21 | V27: 22 | W27: 23 | X27: 24 | Y27: 25 | Z27: 26 | AA27: 27 | AB27: 28 | AC27: 29 | AD27: 30 | AE27: 31 | AF27: 32 | AG27: 33 | AH27: 34 | AI27: 35 | AJ27: 36 | AK27: 37 | AL27: 38 | AM27: 39 | AN27: 40 | AO27: 41 | AP27: 42 | AQ27: 43 | AR27: 44 | AS27: 45 | AT27: 69 | AU27: 70 | AV27: 71
A28: 1 | B28: Huyện Kỳ Anh | C28: 49.113 | H28: 0 | I28: 0 | J28: 2.6 | K28: 2.17 | L28: 0 | M28: 66.692 | N28: 0 | O28: 0 | P28: 0 | Q28: 1.6 | R28: 1.04 | S28: 14.61 | T28: 0.36 | U28: 13.514 | W28: 5.37 | AG28: 5.48 | AQ28: =$W28/C28 -> 0.10933969 | AR28: =IF(H28=0,"-",AB28/H28) -> - | AS28: =AG28/M28 -> 0.082168776 | AT28: =W28-'09-4'!W28 -> 5.37 | AU28: =AB28-'09-4'!AB28 -> 0 | AV28: =AG28-'09-4'!AG28 -> 5.48
A29: 2 | B29: Huyện Cẩm Xuyên | C29: 78.238 | H29: 0.77 | I29: 1.9 | J29: 6.14 | K29: 0.95 | L29: 0 | M29: 38.337 | N29: 1.7 | O29: 3.192 | P29: 0 | Q29: 0.066 | R29: 1.35 | S29: 9.195 | T29: 0 | U29: 2.76 | W29: 11.75 | AG29: 38.34 | AQ29: =$W29/C29 -> 0.15018278 | AR29: =IF(H29=0,"-",AB29/H29) -> 0 | AS29: =AG29/M29 -> 1.0000783 | AT29: =W29-'09-4'!W29 -> 11.75 | AU29: =AB29-'09-4'!AB29 -> 0 | AV29: =AG29-'09-4'!AG29 -> 38.34
