Workbook
Name ad: #REF!
Name d: #REF!

Sheet 05-3
B1: UỶ BAN NHÂN DÂN TỈNH HÀ TĨNH
B2: SỞ GIAO THÔNG VẬN TẢI
A3: PHỤ LỤC 1: BÁO CÁO KẾT QUẢ THỰC HIỆN KẾ HOẠCH LÀM ĐƯỜNG GTNT, RÃNH THOÁT NƯỚC, PHỤC HỒI NÂNG CẤP MẶT ĐƯỜNG BTXM ĐẾN NGÀY 05/3/2020
A5: TT | B5: Huyện, thị xã, thành phố | C5: Khối lượng theo kế hoạch UBND tỉnh | W5: Kết quả thực hiện lũy kế đến thời điểm báo cáo | AQ5: Mức độ hoàn thành kế hoạch đầu năm | AT5: Tăng so với tuần trước
C6: Đường giao thông (km) | D6: Trong đó | H6: Nâng cấp phục hồi mặt đường BTXM (km) | I6: Trong đó | M6: Rãnh thoát nước (km) | N6: Rãnh trên đường trục xã | R6: Rãnh trên đường trục thôn | V6: Tổng khối lượng xi măng (tấn) | W6: Đường giao thông (km) | X6: Trong đó | AB6: Nâng cấp phục hồi mặt đường BTXM (km) | AC6: Trong đó | AG6: Rãnh thoát nước (km) | AH6: Rãnh trên đường trục xã | AL6: Rãnh trên đường trục thôn | AP6: Tổng khối lượng xi măng sử dụng (tấn) | AQ6: Đường giao thông (%) | AR6: Nâng cấp phục hồi mặt đường BTXM (%) | AS6: Rãnh thoát nước (%) | AT6: Đường giao thông (km) | AU6: Nâng cấp phục hồi mặt đường BTXM (km) | AV6: Rãnh thoát nước (km)
D7: Đường trục xã và đường phố (km) | E7: Đường trục thôn, xóm và đường ngõ phố (km) | F7: Đường ngõ, xóm và đường ngách hẻm (km) | G7: Đường trục chính nội đồng (km) | I7: Đường trục xã và đường phố (km) | J7: Đường trục thôn, xóm và đường ngõ phố (km) | K7: Đường ngõ, xóm và đường ngách hẻm (km) | L7: Đường trục chính nội đồng (km) | N7: Rãnh BTXM có nắp đậy | O7: Rãnh BTXM không có nắp đậy | P7: Rãnh Gạch xây có nắp đậy | Q7: Rãnh Gạch xây không có nắp đậy | R7: Rãnh BTXM có nắp đậy | S7: Rãnh BTXM không có nắp đậy | T7: Rãnh Gạch xây có nắp đậy | U7: Rãnh Gạch xây không có nắp đậy | X7: Đường trục xã và đường phố (km) | Y7: Đường trục thôn, xóm và đường ngõ phố (km) | Z7: Đường ngõ, xóm và đường ngách hẻm (km) | AA7: Đường trục chính nội đồng (km) | AC7: Đường trục xã và đường phố (km) | AD7: Đường trục thôn, xóm và đường ngõ phố (km) | AE7: Đường ngõ, xóm và đường ngách hẻm (km) | AF7: Đường trục chính nội đồng (km) | AH7: Rãnh BTXM có nắp đậy | AI7: Rãnh BTXM không có nắp đậy | AJ7: Rãnh Gạch xây có nắp đậy | AK7: Rãnh Gạch xây không có nắp đậy | AL7: Rãnh BTXM có nắp đậy | AM7: Rãnh BTXM không có nắp đậy | AN7: Rãnh Gạch xây có nắp đậy | AO7: Rãnh Gạch xây không có nắp đậy
A8: 1 | B8: 2 | C8: 3 | D8: 4 | E8: 5 | F8: 6 | G8: 7 | H8: 8 | I8: 9 | J8: 10 | K8: 11 | L8: 12 | M8: 13 | N8: 14 | O8: 15 | P8: 16 | Q8: 17 | R8: 18 | S8: 19 | T8: 20 | U8: 21 | V8: 22 | W8: 23 | X8: 24 | Y8: 25 | Z8: 26 | AA8: 27 | AB8: 28 | AC8: 29 | AD8: 30 | AE8: 31 | AF8: 32 | AG8: 33 | AH8: 34 | AI8: 35 | AJ8: 36 | AK8: 37 | AL8: 38 | AM8: 39 | AN8: 40 | AO8: 41 | AP8: 42 | AQ8: 43 | AR8: 44 | AS8: 45 | AT8: 69 | AU8: 70 | AV8: 71
A9: 1 | B9: Huyện Kỳ Anh | C9: =SUM(D9:G9) -> 42.104 | D9: 0.775 | E9: 5.596 | F9: 31.403 | G9: 4.33 | H9: =SUM(I9:L9) -> 4.77 | I9: 0 | J9: 2.6 | K9: 2.17 | L9: 0 | M9: =SUM(N9:U9) -> 31.124 | N9: 0 | O9: 0 | P9: 0 | Q9: 1.6 | R9: 1.04 | S9: 14.61 | T9: 0.36 | U9: 13.514 | V9: =D9*285.06+E9*177.37+(F9+G9)*114.51+N9*85.71653+O9*71.6475+P9*87.00383+Q9*58.25799+R9*72.16284+S9*60.90038+T9*76.51762+U9*50.57834 -> 7074.3486 | W9: =SUM(X9:AA9) -> 0 | AB9: =SUM(AC9:AF9) -> 0 | AG9: =SUM(AH9:AO9) -> 0 | AP9: =X9*285.06+Y9*177.37+(Z9+AA9)*114.51+AH9*85.71653+AI9*71.6475+AJ9*87.00383+AK9*58.25799+AL9*72.16284+AM9*60.90038+AN9*76.51762+AO9*50.57834 -> 0 | AQ9: =$W9/C9 -> 0 | AR9: =IF(H9=0,"-",AB9/H9) -> 0 | AS9: =AG9/M9 -> 0 | AT9: =W9-'[1]26-12'!AS9 -> -50.793 | AU9: =AB9-'[1]26-12'!AX9 -> 0 | AV9: =AG9-'[1]26-12'!BC9 -> -70.28
A10: 2 | B10: Huyện Cẩm Xuyên | C10: =SUM(D10:G10) -> 64.551 | D10: 0 | E10: 8.07 | F10: 39.357 | G10: 17.124 | H10: =SUM(I10:L10) -> 8.99 | I10: 1.9 | J10: 6.14 | K10: 0.95 | L10: 0 | M10: =SUM(N10:U10) -> 18.263 | N10: 1.7 | O10: 3.192 | P10: 0 | Q10: 0.066 | R10: 1.35 | S10: 9.195 | T10: 0 | U10: 2.76 | V10: =D10*285.06+E10*177.37+(F10+G10)*114.51+N10*85.71653+O10*71.6475+P10*87.00383+Q10*58.25799+R10*72.16284+S10*60.90038+T10*76.51762+U10*50.57834 -> 9074.2722 | W10: =SUM(X10:AA10) -> 0 | AB10: =SUM(AC10:AF10) -> 0 | AG10: =SUM(AH10:AO10) -> 0.5 | AM10: 0.5 | AP10: =X10*285.06+Y10*177.37+(Z10+AA10)*114.51+AH10*85.71653+AI10*71.6475+AJ10*87.00383+AK10*58.25799+AL10*72.16284+AM10*60.90038+AN10*76.51762+AO10*50.57834 -> 30.45019 | AQ10: =$W10/C10 -> 0 | AR10: =IF(H10=0,"-",AB10/H10) -> 0 | AS10: =AG10/M10 -> 0.027377758 | AT10: =W10-'[1]26-12'!AS10 -> -82.15108 | AU10: =AB10-'[1]26-12'!AX10 -> -4.9 | AV10: =AG10-'[1]26-12'!BC10 -> -23.6404
A11: 3 | B11: Thành phố Hà Tĩnh | C11: =SUM(D11:G11) -> 12.357 | D11: 0 | E11: 2.864 | F11: 6.651 | G11: 2.842 | H11: =SUM(I11:L11) -> 11.988 | I11: 0 | J11: 11.988 | K11: 0 | L11: 0 | M11: =SUM(N11:U11) -> 5.046 | N11: 1.3 | O11: 0 | P11: 0 | Q11: 0 | R11: 3.746 | S11: 0 | T11: 0 | U11: 0 | V11: =D11*285.06+E11*177.37+(F11+G11)*114.51+N11*85.71653+O11*71.6475+P11*87.00383+Q11*58.25799+R11*72.16284+S11*60.90038+T11*76.51762+U11*50.57834 -> 1976.7846 | W11: =SUM(X11:AA11) -> 0 | AB11: =SUM(AC11:AF11) -> 0 | AG11: =SUM(AH11:AO11) -> 0 | AP11: =X11*285.06+Y11*177.37+(Z11+AA11)*114.51+AH11*85.71653+AI11*71.6475+AJ11*87.00383+AK11*58.25799+AL11*72.16284+AM11*60.90038+AN11*76.51762+AO11*50.57834 -> 0 | AQ11: =$W11/C11 -> 0 | AR11: =IF(H11=0,"-",AB11/H11) -> 0 | AS11: =AG11/M11 -> 0 | AT11: =W11-'[1]26-12'!AS11 -> -24.786 | AU11: =AB11-'[1]26-12'!AX11 -> -17.436 | AV11: =AG11-'[1]26-12'!BC11 -> -7.339
A12: 4 | B12: Huyện Thạch Hà | C12: =SUM(D12:G12) -> 92.218295 | D12: 6.7862 | E12: 9.535 | F12: 50.432095 | G12: 25.465 | H12: =SUM(I12:L12) -> 33.829 | I12: 2.47 | J12: 22.904 | K12: 8.455 | L12: 0 | M12: =SUM(N12:U12) -> 16.96 | N12: 3.17 | O12: 1 | P12: 0 | Q12: 0.5 | R12: 7.52 | S12: 3.06 | T12: 0.2 | U12: 1.51 | V12: =D12*285.06+E12*177.37+(F12+G12)*114.51+N12*85.71653+O12*71.6475+P12*87.00383+Q12*58.25799+R12*72.16284+S12*60.90038+T12*76.51762+U12*50.57834 -> 13509.868 | W12: =SUM(X12:AA12) -> 2.43 | X12: 0.2 | Y12: 0.97 | Z12: 1.26 | AB12: =SUM(AC12:AF12) -> 0 | AG12: =SUM(AH12:AO12) -> 0.2 | AO12: 0.2 | AP12: =X12*285.06+Y12*177.37+(Z12+AA12)*114.51+AH12*85.71653+AI12*71.6475+AJ12*87.00383+AK12*58.25799+AL12*72.16284+AM12*60.90038+AN12*76.51762+AO12*50.57834 -> 383.45917 | AQ12: =$W12/C12 -> 0.02635052 | AR12: =IF(H12=0,"-",AB12/H12) -> 0 | AS12: =AG12/M12 -> 0.011792453 | AT12: =W12-'[1]26-12'!AS12 -> -120.855 | AU12: =AB12-'[1]26-12'!AX12 -> -3.333 | AV12: =AG12-'[1]26-12'!BC12 -> -23.616
A13: 5 | B13: Huyện Can Lộc | C13: =SUM(D13:G13) -> 39.072 | D13: 0 | E13: 12.368 | F13: 17.339 | G13: 9.365 | H13: =SUM(I13:L13) -> 10 | I13: 8.9 | J13: 0.8 | K13: 0.3 | L13: 0 | M13: =SUM(N13:U13) -> 14.105 | N13: 1.43 | O13: 0 | P13: 0.4 | Q13: 0.2 | R13: 2.09 | S13: 0 | T13: 8.695 | U13: 1.29 | V13: =D13*285.06+E13*177.37+(F13+G13)*114.51+N13*85.71653+O13*71.6475+P13*87.00383+Q13*58.25799+R13*72.16284+S13*60.90038+T13*76.51762+U13*50.57834 -> 6302.0021 | W13: =SUM(X13:AA13) -> 0 | AB13: =SUM(AC13:AF13) -> 0 | AG13: =SUM(AH13:AO13) -> 0 | AP13: =X13*285.06+Y13*177.37+(Z13+AA13)*114.51+AH13*85.71653+AI13*71.6475+AJ13*87.00383+AK13*58.25799+AL13*72.16284+AM13*60.90038+AN13*76.51762+AO13*50.57834 -> 0 | AQ13: =$W13/C13 -> 0 | AR13: =IF(H13=0,"-",AB13/H13) -> 0 | AS13: =AG13/M13 -> 0 | AT13: =W13-'[1]26-12'!AS13 -> -103.1544 | AU13: =AB13-'[1]26-12'!AX13 -> -0.7 | AV13: =AG13-'[1]26-12'!BC13 -> -19.394
A14: 6 | B14: Huyện Nghi Xuân | C14: =SUM(D14:G14) -> 12.48 | D14: 0 | E14: 1.569 | F14: 3.717 | G14: 7.194 | H14: =SUM(I14:L14) -> 0 | I14: 0 | J14: 0 | K14: 0 | L14: 0 | M14: =SUM(N14:U14) -> 2.173 | N14: 0 | O14: 0 | P14: 0.6 | Q14: 0 | R14: 0.055 | S14: 0.605 | T14: 0.47 | U14: 0.443 | V14: =D14*285.06+E14*177.37+(F14+G14)*114.51+N14*85.71653+O14*71.6475+P14*87.00383+Q14*58.25799+R14*72.16284+S14*60.90038+T14*76.51762+U14*50.57834 -> 1679.0976 | W14: =SUM(X14:AA14) -> 0.33 | Z14: 0.33 | AB14: =SUM(AC14:AF14) -> 0 | AG14: =SUM(AH14:AO14) -> 0 | AP14: =X14*285.06+Y14*177.37+(Z14+AA14)*114.51+AH14*85.71653+AI14*71.6475+AJ14*87.00383+AK14*58.25799+AL14*72.16284+AM14*60.90038+AN14*76.51762+AO14*50.57834 -> 37.7883 | AQ14: =$W14/C14 -> 0.026442308 | AR14: =IF(H14=0,"-",AB14/H14) -> - | AS14: =AG14/M14 -> 0 | AT14: =W14-'[1]26-12'!AS14 -> -19.248 | AU14: =AB14-'[1]26-12'!AX14 -> 0 | AV14: =AG14-'[1]26-12'!BC14 -> -2.767
A15: 7 | B15: Huyện Đức Thọ | C15: =SUM(D15:G15) -> 20 | D15: 0 | E15: 2.5 | F15: 13.5 | G15: 4 | H15: =SUM(I15:L15) -> 3 | I15: 0 | J15: 1 | K15: 2 | L15: 0 | M15: =SUM(N15:U15) -> 2 | N15: 0 | O15: 0 | P15: 0 | Q15: 0 | R15: 0 | S15: 0 | T15: 2 | U15: 0 | V15: =D15*285.06+E15*177.37+(F15+G15)*114.51+N15*85.71653+O15*71.6475+P15*87.00383+Q15*58.25799+R15*72.16284+S15*60.90038+T15*76.51762+U15*50.57834 -> 2600.3852 | W15: =SUM(X15:AA15) -> 0 | AB15: =SUM(AC15:AF15) -> 0 | AG15: =SUM(AH15:AO15) -> 0 | AP15: =X15*285.06+Y15*177.37+(Z15+AA15)*114.51+AH15*85.71653+AI15*71.6475+AJ15*87.00383+AK15*58.25799+AL15*72.16284+AM15*60.90038+AN15*76.51762+AO15*50.57834 -> 0 | AQ15: =$W15/C15 -> 0 | AR15: =IF(H15=0,"-",AB15/H15) -> 0 | AS15: =AG15/M15 -> 0 | AT15: =W15-'[1]26-12'!AS15 -> -31.85 | AU15: =AB15-'[1]26-12'!AX15 -> 0 | AV15: =AG15-'[1]26-12'!BC15 -> -2.5
A16: 8 | B16: Huyện Hương Sơn | C16: =SUM(D16:G16) -> 66.208 | D16: 0.2 | E16: 19.629 | F16: 40.52 | G16: 5.859 | H16: =SUM(I16:L16) -> 0 | I16: 0 | J16: 0 | K16: 0 | L16: 0 | M16: =SUM(N16:U16) -> 52.728 | N16: 3.28 | O16: 9.6 | P16: 0.6 | Q16: 0 | R16: 11.28 | S16: 13.028 | T16: 1 | U16: 13.94 | V16: =D16*285.06+E16*177.37+(F16+G16)*114.51+N16*85.71653+O16*71.6475+P16*87.00383+Q16*58.25799+R16*72.16284+S16*60.90038+T16*76.51762+U16*50.57834 -> 12259.622 | W16: =SUM(X16:AA16) -> 0.6 | Z16: 0.6 | AB16: =SUM(AC16:AF16) -> 0 | AG16: =SUM(AH16:AO16) -> 0 | AP16: =X16*285.06+Y16*177.37+(Z16+AA16)*114.51+AH16*85.71653+AI16*71.6475+AJ16*87.00383+AK16*58.25799+AL16*72.16284+AM16*60.90038+AN16*76.51762+AO16*50.57834 -> 68.706 | AQ16: =$W16/C16 -> 0.009062349 | AR16: =IF(H16=0,"-",AB16/H16) -> - | AS16: =AG16/M16 -> 0 | AT16: =W16-'[1]26-12'!AS16 -> -62.963 | AU16: =AB16-'[1]26-12'!AX16 -> 0 | AV16: =AG16-'[1]26-12'!BC16 -> -34.51
A17: 9 | B17: Huyện Lộc Hà | C17: =SUM(D17:G17) -> 19.548 | D17: 0.2 | E17: 4.131 | F17: 9.057 | G17: 6.16 | H17: =SUM(I17:L17) -> 16.942 | I17: 6.95 | J17: 6.182 | K17: 3.81 | L17: 0 | M17: =SUM(N17:U17) -> 6.89 | N17: 1 | O17: 0 | P17: 0.82 | Q17: 0 | R17: 3.02 | S17: 0 | T17: 2.05 | U17: 0 | V17: =D17*285.06+E17*177.37+(F17+G17)*114.51+N17*85.71653+O17*71.6475+P17*87.00383+Q17*58.25799+R17*72.16284+S17*60.90038+T17*76.51762+U17*50.57834 -> 3064.0787 | W17: =SUM(X17:AA17) -> 0 | AB17: =SUM(AC17:AF17) -> 0 | AG17: =SUM(AH17:AO17) -> 0 | AP17: =X17*285.06+Y17*177.37+(Z17+AA17)*114.51+AH17*85.71653+AI17*71.6475+AJ17*87.00383+AK17*58.25799+AL17*72.16284+AM17*60.90038+AN17*76.51762+AO17*50.57834 -> 0 | AQ17: =$W17/C17 -> 0 | AR17: =IF(H17=0,"-",AB17/H17) -> 0 | AS17: =AG17/M17 -> 0 | AT17: =W17-'[1]26-12'!AS17 -> -37.836 | AU17: =AB17-'[1]26-12'!AX17 -> -2.79 | AV17: =AG17-'[1]26-12'!BC17 -> -12.088
A18: 10 | B18: Thị xã Kỳ Anh | C18: =SUM(D18:G18) -> 16.323 | D18: 0 | E18: 1.791 | F18: 13.442 | G18: 1.09 | H18: =SUM(I18:L18) -> 1.805 | I18: 0 | J18: 0.93 | K18: 0.875 | L18: 0 | M18: =SUM(N18:U18) -> 7.619 | N18: 0.375 | O18: 0 | P18: 0 | Q18: 0 | R18: 0.767 | S18: 0.612 | T18: 1.851 | U18: 4.014 | V18: =D18*285.06+E18*177.37+(F18+G18)*114.51+N18*85.71653+O18*71.6475+P18*87.00383+Q18*58.25799+R18*72.16284+S18*60.90038+T18*76.51762+U18*50.57834 -> 2451.1482 | W18: =SUM(X18:AA18) -> 0 | AB18: =SUM(AC18:AF18) -> 0 | AG18: =SUM(AH18:AO18) -> 0 | AP18: =X18*285.06+Y18*177.37+(Z18+AA18)*114.51+AH18*85.71653+AI18*71.6475+AJ18*87.00383+AK18*58.25799+AL18*72.16284+AM18*60.90038+AN18*76.51762+AO18*50.57834 -> 0 | AQ18: =$W18/C18 -> 0 | AR18: =IF(H18=0,"-",AB18/H18) -> 0 | AS18: =AG18/M18 -> 0 | AT18: =W18-'[1]26-12'!AS18 -> -20.073 | AU18: =AB18-'[1]26-12'!AX18 -> 0 | AV18: =AG18-'[1]26-12'!BC18 -> -12.0013
A19: 11 | B19: Thị xã Hồng Lĩnh | C19: =SUM(D19:G19) -> 4.209 | D19: 0 | E19: 4.125 | F19: 0.084 | G19: 0 | H19: =SUM(I19:L19) -> 2.473 | I19: 0 | J19: 2.473 | K19: 0 | L19: 0 | M19: =SUM(N19:U19) -> 7.431 | N19: 0 | O19: 0 | P19: 0 | Q19: 0 | R19: 0.512 | S19: 0 | T19: 6.719 | U19: 0.2 | V19: =D19*285.06+E19*177.37+(F19+G19)*114.51+N19*85.71653+O19*71.6475+P19*87.00383+Q19*58.25799+R19*72.16284+S19*60.90038+T19*76.51762+U19*50.57834 -> 1302.455 | W19: =SUM(X19:AA19) -> 0 | AB19: =SUM(AC19:AF19) -> 0 | AG19: =SUM(AH19:AO19) -> 0 | AP19: =X19*285.06+Y19*177.37+(Z19+AA19)*114.51+AH19*85.71653+AI19*71.6475+AJ19*87.00383+AK19*58.25799+AL19*72.16284+AM19*60.90038+AN19*76.51762+AO19*50.57834 -> 0 | AQ19: =$W19/C19 -> 0 | AR19: =IF(H19=0,"-",AB19/H19) -> 0 | AS19: =AG19/M19 -> 0 | AT19: =W19-'[1]26-12'!AS19 -> -9.644 | AU19: =AB19-'[1]26-12'!AX19 -> -4.715 | AV19: =AG19-'[1]26-12'!BC19 -> -11.483
A20: 12 | B20: Huyện Hương Khê | C20: =SUM(D20:G20) -> 36.434 | D20: 0.65 | E20: 7.894 | F20: 19.367 | G20: 8.523 | H20: =SUM(I20:L20) -> 13.15 | I20: 11.15 | J20: 2 | K20: 0 | L20: 0 | M20: =SUM(N20:U20) -> 8.26 | N20: 0.36 | O20: 2.13 | P20: 0 | Q20: 0 | R20: 1.5 | S20: 3.195 | T20: 0 | U20: 1.075 | V20: =D20*285.06+E20*177.37+(F20+G20)*114.51+N20*85.71653+O20*71.6475+P20*87.00383+Q20*58.25799+R20*72.16284+S20*60.90038+T20*76.51762+U20*50.57834 -> 5319.7915 | W20: =SUM(X20:AA20) -> 0 | AB20: =SUM(AC20:AF20) -> 0 | AG20: =SUM(AH20:AO20) -> 0 | AP20: =X20*285.06+Y20*177.37+(Z20+AA20)*114.51+AH20*85.71653+AI20*71.6475+AJ20*87.00383+AK20*58.25799+AL20*72.16284+AM20*60.90038+AN20*76.51762+AO20*50.57834 -> 0 | AQ20: =$W20/C20 -> 0 | AR20: =IF(H20=0,"-",AB20/H20) -> 0 | AS20: =AG20/M20 -> 0 | AT20: =W20-'[1]26-12'!AS20 -> -42.0205 | AU20: =AB20-'[1]26-12'!AX20 -> 0 | AV20: =AG20-'[1]26-12'!BC20 -> -11.2078
A21: 13 | B21: Huyện Vũ Quang | C21: =SUM(D21:G21) -> 6.795 | D21: 0 | E21: 2 | F21: 3.775 | G21: 1.02 | H21: =SUM(I21:L21) -> 0 | I21: 0 | J21: 0 | K21: 0 | L21: 0 | M21: =SUM(N21:U21) -> 1.17 | N21: 0.64 | O21: 0 | P21: 0.53 | Q21: 0 | R21: 0 | S21: 0 | T21: 0 | U21: 0 | V21: =D21*285.06+E21*177.37+(F21+G21)*114.51+N21*85.71653+O21*71.6475+P21*87.00383+Q21*58.25799+R21*72.16284+S21*60.90038+T21*76.51762+U21*50.57834 -> 1004.7861 | W21: =SUM(X21:AA21) -> 0 | AB21: =SUM(AC21:AF21) -> 0 | AG21: =SUM(AH21:AO21) -> 0 | AP21: =X21*285.06+Y21*177.37+(Z21+AA21)*114.51+AH21*85.71653+AI21*71.6475+AJ21*87.00383+AK21*58.25799+AL21*72.16284+AM21*60.90038+AN21*76.51762+AO21*50.57834 -> 0 | AQ21: =$W21/C21 -> 0 | AR21: =IF(H21=0,"-",AB21/H21) -> - | AS21: =AG21/M21 -> 0 | AT21: =W21-'[1]26-12'!AS21 -> -8.236 | AU21: =AB21-'[1]26-12'!AX21 -> 0 | AV21: =AG21-'[1]26-12'!BC21 -> -0.18
B22: Tổng cộng | C22: =SUM(C9:C21) -> 432.2993 | D22: =SUM(D9:D21) -> 8.6112 | E22: =SUM(E9:E21) -> 82.072 | F22: =SUM(F9:F21) -> 248.6441 | G22: =SUM(G9:G21) -> 92.972 | H22: =SUM(H9:H21) -> 106.947 | I22: =SUM(I9:I21) -> 31.37 | J22: =SUM(J9:J21) -> 57.017 | ... V22: =SUM(V9:V21) -> 67618.64 | W22: 2.36 | X22: =SUM(X9:X21) -> 0.2 | Y22: =SUM(Y9:Y21) -> 0.97 | Z22: =SUM(Z9:Z21) -> 2.19 | AA22: =SUM(AA9:AA21) -> 0 | AB22: =SUM(AB9:AB21) -> 0 | AC22: =SUM(AC9:AC21) -> 0 | AD22: =SUM(AD9:AD21) -> 0 | AE22: =SUM(AE9:AE21) -> 0 | ... AP22: =SUM(AP9:AP21) -> 520.40366 | AQ22: =$W22/C22 -> 0.0054591808 | AR22: =IF(H22=0,"-",AB22/H22) -> 0 | AS22: =AG22/M22 -> 0.0040283365 | AT22: =SUM(AT9:AT21) -> -613.60998 | AU22: =SUM(AU9:AU21) -> -33.874 | AV22: =SUM(AV9:AV21) -> -231.0065

Sheet 13-3
B1: UỶ BAN NHÂN DÂN TỈNH HÀ TĨNH
B2: SỞ GIAO THÔNG VẬN TẢI
A3: PHỤ LỤC 1: BÁO CÁO KẾT QUẢ THỰC HIỆN KẾ HOẠCH LÀM ĐƯỜNG GTNT, RÃNH THOÁT NƯỚC, PHỤC HỒI NÂNG CẤP MẶT ĐƯỜNG BTXM ĐẾN NGÀY 13/3/2020
A5: TT | B5: Huyện, thị xã, thành phố | C5: Khối lượng theo kế hoạch UBND tỉnh | W5: Kết quả thực hiện lũy kế đến thời điểm báo cáo | AQ5: Mức độ hoàn thành kế hoạch đầu năm | AT5: Tăng so với tuần trước
C6: Đường giao thông (km) | D6: Trong đó | H6: Nâng cấp phục hồi mặt đường BTXM (km) | I6: Trong đó | M6: Rãnh thoát nước (km) | N6: Rãnh trên đường trục xã | R6: Rãnh trên đường trục thôn | V6: Tổng khối lượng xi măng (tấn) | W6: Đường giao thông (km) | X6: Trong đó | AB6: Nâng cấp phục hồi mặt đường BTXM (km) | AC6: Trong đó | AG6: Rãnh thoát nước (km) | AH6: Rãnh trên đường trục xã | AL6: Rãnh trên đường trục thôn | AP6: Tổng khối lượng xi măng sử dụng (tấn) | AQ6: Đường giao thông (%) | AR6: Nâng cấp phục hồi mặt đường BTXM (%) | AS6: Rãnh thoát nước (%) | AT6: Đường giao thông (km) | AU6: Nâng cấp phục hồi mặt đường BTXM (km) | AV6: Rãnh thoát nước (km)
D7: Đường trục xã và đường phố (km) | E7: Đường trục thôn, xóm và đường ngõ phố (km) | F7: Đường ngõ, xóm và đường ngách hẻm (km) | G7: Đường trục chính nội đồng (km) | I7: Đường trục xã và đường phố (km) | J7: Đường trục thôn, xóm và đường ngõ phố (km) | K7: Đường ngõ, xóm và đường ngách hẻm (km) | L7: Đường trục chính nội đồng (km) | N7: Rãnh BTXM có nắp đậy | O7: Rãnh BTXM không có nắp đậy | P7: Rãnh Gạch xây có nắp đậy | Q7: Rãnh Gạch xây không có nắp đậy | R7: Rãnh BTXM có nắp đậy | S7: Rãnh BTXM không có nắp đậy | T7: Rãnh Gạch xây có nắp đậy | U7: Rãnh Gạch xây không có nắp đậy | X7: Đường trục xã và đường phố (km) | Y7: Đường trục thôn, xóm và đường ngõ phố (km) | Z7: Đường ngõ, xóm và đường ngách hẻm (km) | AA7: Đường trục chính nội đồng (km) | AC7: Đường trục xã và đường phố (km) | AD7: Đường trục thôn, xóm và đường ngõ phố (km) | AE7: Đường ngõ, xóm và đường ngách hẻm (km) | AF7: Đường trục chính nội đồng (km) | AH7: Rãnh BTXM có nắp đậy | AI7: Rãnh BTXM không có nắp đậy | AJ7: Rãnh Gạch xây có nắp đậy | AK7: Rãnh Gạch xây không có nắp đậy | AL7: Rãnh BTXM có nắp đậy | AM7: Rãnh BTXM không có nắp đậy | AN7: Rãnh Gạch xây có nắp đậy | AO7: Rãnh Gạch xây không có nắp đậy
A8: 1 | B8: 2 | C8: 3 | D8: 4 | E8: 5 | F8: 6 | G8: 7 | H8: 8 | I8: 9 | J8: 10 | K8: 11 | L8: 12 | M8: 13 | N8: 14 | O8: 15 | P8: 16 | Q8: 17 | R8: 18 | S8: 19 | T8: 20 | U8: 21 | V8: 22 | W8: 23 | X8: 24 | Y8: 25 | Z8: 26 | AA8: 27 | AB8: 28 | AC8: 29 | AD8: 30 | AE8: 31 | AF8: 32 | AG8: 33 | AH8: 34 | AI8: 35 | AJ8: 36 | AK8: 37 | AL8: 38 | AM8: 39 | AN8: 40 | AO8: 41 | AP8: 42 | AQ8: 43 | AR8: 44 | AS8: 45 | AT8: 69 | AU8: 70 | AV8: 71
A9: 1 | B9: Huyện Kỳ Anh | C9: =SUM(D9:G9) -> 42.104 | D9: 0.775 | E9: 5.596 | F9: 31.403 | G9: 4.33 | H9: =SUM(I9:L9) -> 4.77 | I9: 0 | J9: 2.6 | K9: 2.17 | L9: 0 | M9: =SUM(N9:U9) -> 31.124 | N9: 0 | O9: 0 | P9: 0 | Q9: 1.6 | R9: 1.04 | S9: 14.61 | T9: 0.36 | U9: 13.514 | V9: =D9*285.06+E9*177.37+(F9+G9)*114.51+N9*85.71653+O9*71.6475+P9*87.00383+Q9*58.25799+R9*72.16284+S9*60.90038+T9*76.51762+U9*50.57834 -> 7074.3486 | W9: =SUM(X9:AA9) -> 0 | AB9: =SUM(AC9:AF9) -> 0 | AG9: =SUM(AH9:AO9) -> 0 | AP9: =X9*285.06+Y9*177.37+(Z9+AA9)*114.51+AH9*85.71653+AI9*71.6475+AJ9*87.00383+AK9*58.25799+AL9*72.16284+AM9*60.90038+AN9*76.51762+AO9*50.57834 -> 0 | AQ9: =$W9/C9 -> 0 | AR9: =IF(H9=0,"-",AB9/H9) -> 0 | AS9: =AG9/M9 -> 0 | AT9: =W9-'05-3'!W9 -> 0 | AU9: =AB9-'05-3'!AB9 -> 0 | AV9: =AG9-'05-3'!AG9 -> 0
A10: 2 | B10: Huyện Cẩm Xuyên | C10: =SUM(D10:G10) -> 64.551 | D10: 0 | E10: 8.07 | F10: 39.357 | G10: 17.124 | H10: =SUM(I10:L10) -> 8.99 | I10: 1.9 | J10: 6.14 | K10: 0.95 | L10: 0 | M10: =SUM(N10:U10) -> 18.263 | N10: 1.7 | O10: 3.192 | P10: 0 | Q10: 0.066 | R10: 1.35 | S10: 9.195 | T10: 0 | U10: 2.76 | V10: =D10*285.06+E10*177.37+(F10+G10)*114.51+N10*85.71653+O10*71.6475+P10*87.00383+Q10*58.25799+R10*72.16284+S10*60.90038+T10*76.51762+U10*50.57834 -> 9074.2722 | W10: =SUM(X10:AA10) -> 0.666 | Y10: 0.13 | Z10: =0.13+0.406 -> 0.536 | AB10: =SUM(AC10:AF10) -> 0 | AG10: =SUM(AH10:AO10) -> 0.87 | AM10: =0.65+0.22 -> 0.87 | AP10: =X10*285.06+Y10*177.37+(Z10+AA10)*114.51+AH10*85.71653+AI10*71.6475+AJ10*87.00383+AK10*58.25799+AL10*72.16284+AM10*60.90038+AN10*76.51762+AO10*50.57834 -> 137.41879 | AQ10: =$W10/C10 -> 0.010317423 | AR10: =IF(H10=0,"-",AB10/H10) -> 0 | AS10: =AG10/M10 -> 0.047637299 | AT10: =W10-'05-3'!W10 -> 0.666 | AU10: =AB10-'05-3'!AB10 -> 0 | AV10: =AG10-'05-3'!AG10 -> 0.37
A11: 3 | B11: Thành phố Hà Tĩnh | C11: =SUM(D11:G11) -> 12.357 | D11: 0 | E11: 2.864 | F11: 6.651 | G11: 2.842 | H11: =SUM(I11:L11) -> 11.988 | I11: 0 | J11: 11.988 | K11: 0 | L11: 0 | M11: =SUM(N11:U11) -> 5.046 | N11: 1.3 | O11: 0 | P11: 0 | Q11: 0 | R11: 3.746 | S11: 0 | T11: 0 | U11: 0 | V11: =D11*285.06+E11*177.37+(F11+G11)*114.51+N11*85.71653+O11*71.6475+P11*87.00383+Q11*58.25799+R11*72.16284+S11*60.90038+T11*76.51762+U11*50.57834 -> 1976.7846 | W11: =SUM(X11:AA11) -> 0 | AB11: =SUM(AC11:AF11) -> 0 | AG11: =SUM(AH11:AO11) -> 0 | AP11: =X11*285.06+Y11*177.37+(Z11+AA11)*114.51+AH11*85.71653+AI11*71.6475+AJ11*87.00383+AK11*58.25799+AL11*72.16284+AM11*60.90038+AN11*76.51762+AO11*50.57834 -> 0 | AQ11: =$W11/C11 -> 0 | AR11: =IF(H11=0,"-",AB11/H11) -> 0 | AS11: =AG11/M11 -> 0 | AT11: =W11-'05-3'!W11 -> 0 | AU11: =AB11-'05-3'!AB11 -> 0 | AV11: =AG11-'05-3'!AG11 -> 0
A12: 4 | B12: Huyện Thạch Hà | C12: =SUM(D12:G12) -> 92.218295 | D12: 6.7862 | E12: 9.535 | F12: 50.432095 | G12: 25.465 | H12: =SUM(I12:L12) -> 33.829 | I12: 2.47 | J12: 22.904 | K12: 8.455 | L12: 0 | M12: =SUM(N12:U12) -> 16.96 | N12: 3.17 | O12: 1 | P12: 0 | Q12: 0.5 | R12: 7.52 | S12: 3.06 | T12: 0.2 | U12: 1.51 | V12: =D12*285.06+E12*177.37+(F12+G12)*114.51+N12*85.71653+O12*71.6475+P12*87.00383+Q12*58.25799+R12*72.16284+S12*60.90038+T12*76.51762+U12*50.57834 -> 13509.868 | W12: =SUM(X12:AA12) -> 2.43 | X12: 0.2 | Y12: 0.97 | Z12: 1.26 | AB12: =SUM(AC12:AF12) -> 0 | AG12: =SUM(AH12:AO12) -> 0.2 | AO12: 0.2 | AP12: =X12*285.06+Y12*177.37+(Z12+AA12)*114.51+AH12*85.71653+AI12*71.6475+AJ12*87.00383+AK12*58.25799+AL12*72.16284+AM12*60.90038+AN12*76.51762+AO12*50.57834 -> 383.45917 | AQ12: =$W12/C12 -> 0.02635052 | AR12: =IF(H12=0,"-",AB12/H12) -> 0 | AS12: =AG12/M12 -> 0.011792453 | AT12: =W12-'05-3'!W12 -> 0 | AU12: =AB12-'05-3'!AB12 -> 0 | AV12: =AG12-'05-3'!AG12 -> 0
A13: 5 | B13: Huyện Can Lộc | C13: =SUM(D13:G13) -> 39.072 | D13: 0 | E13: 12.368 | F13: 17.339 | G13: 9.365 | H13: =SUM(I13:L13) -> 10 | I13: 8.9 | J13: 0.8 | K13: 0.3 | L13: 0 | M13: =SUM(N13:U13) -> 14.105 | N13: 1.43 | O13: 0 | P13: 0.4 | Q13: 0.2 | R13: 2.09 | S13: 0 | T13: 8.695 | U13: 1.29 | V13: =D13*285.06+E13*177.37+(F13+G13)*114.51+N13*85.71653+O13*71.6475+P13*87.00383+Q13*58.25799+R13*72.16284+S13*60.90038+T13*76.51762+U13*50.57834 -> 6302.0021 | W13: =SUM(X13:AA13) -> 0 | AB13: =SUM(AC13:AF13) -> 0 | AG13: =SUM(AH13:AO13) -> 0 | AP13: =X13*285.06+Y13*177.37+(Z13+AA13)*114.51+AH13*85.71653+AI13*71.6475+AJ13*87.00383+AK13*58.25799+AL13*72.16284+AM13*60.90038+AN13*76.51762+AO13*50.57834 -> 0 | AQ13: =$W13/C13 -> 0 | AR13: =IF(H13=0,"-",AB13/H13) -> 0 | AS13: =AG13/M13 -> 0 | AT13: =W13-'05-3'!W13 -> 0 | AU13: =AB13-'05-3'!AB13 -> 0 | AV13: =AG13-'05-3'!AG13 -> 0
A14: 6 | B14: Huyện Nghi Xuân | C14: =SUM(D14:G14) -> 12.48 | D14: 0 | E14: 1.569 | F14: 3.717 | G14: 7.194 | H14: =SUM(I14:L14) -> 0 | I14: 0 | J14: 0 | K14: 0 | L14: 0 | M14: =SUM(N14:U14) -> 2.173 | N14: 0 | O14: 0 | P14: 0.6 | Q14: 0 | R14: 0.055 | S14: 0.605 | T14: 0.47 | U14: 0.443 | V14: =D14*285.06+E14*177.37+(F14+G14)*114.51+N14*85.71653+O14*71.6475+P14*87.00383+Q14*58.25799+R14*72.16284+S14*60.90038+T14*76.51762+U14*50.57834 -> 1679.0976 | W14: =SUM(X14:AA14) -> 0.33 | Z14: 0.33 | AB14: =SUM(AC14:AF14) -> 0 | AG14: =SUM(AH14:AO14) -> 0 | AP14: =X14*285.06+Y14*177.37+(Z14+AA14)*114.51+AH14*85.71653+AI14*71.6475+AJ14*87.00383+AK14*58.25799+AL14*72.16284+AM14*60.90038+AN14*76.51762+AO14*50.57834 -> 37.7883 | AQ14: =$W14/C14 -> 0.026442308 | AR14: =IF(H14=0,"-",AB14/H14) -> - | AS14: =AG14/M14 -> 0 | AT14: =W14-'05-3'!W14 -> 0 | AU14: =AB14-'05-3'!AB14 -> 0 | AV14: =AG14-'05-3'!AG14 -> 0
A15: 7 | B15: Huyện Đức Thọ | C15: =SUM(D15:G15) -> 20 | D15: 0 | E15: 2.5 | F15: 13.5 | G15: 4 | H15: =SUM(I15:L15) -> 3 | I15: 0 | J15: 1 | K15: 2 | L15: 0 | M15: =SUM(N15:U15) -> 2 | N15: 0 | O15: 0 | P15: 0 | Q15: 0 | R15: 0 | S15: 0 | T15: 2 | U15: 0 | V15: =D15*285.06+E15*177.37+(F15+G15)*114.51+N15*85.71653+O15*71.6475+P15*87.00383+Q15*58.25799+R15*72.16284+S15*60.90038+T15*76.51762+U15*50.57834 -> 2600.3852 | W15: =SUM(X15:AA15) -> 0 | AB15: =SUM(AC15:AF15) -> 0 | AG15: =SUM(AH15:AO15) -> 0 | AP15: =X15*285.06+Y15*177.37+(Z15+AA15)*114.51+AH15*85.71653+AI15*71.6475+AJ15*87.00383+AK15*58.25799+AL15*72.16284+AM15*60.90038+AN15*76.51762+AO15*50.57834 -> 0 | AQ15: =$W15/C15 -> 0 | AR15: =IF(H15=0,"-",AB15/H15) -> 0 | AS15: =AG15/M15 -> 0 | AT15: =W15-'05-3'!W15 -> 0 | AU15: =AB15-'05-3'!AB15 -> 0 | AV15: =AG15-'05-3'!AG15 -> 0
A16: 8 | B16: Huyện Hương Sơn | C16: =SUM(D16:G16) -> 66.208 | D16: 0.2 | E16: 19.629 | F16: 40.52 | G16: 5.859 | H16: =SUM(I16:L16) -> 0 | I16: 0 | J16: 0 | K16: 0 | L16: 0 | M16: =SUM(N16:U16) -> 52.728 | N16: 3.28 | O16: 9.6 | P16: 0.6 | Q16: 0 | R16: 11.28 | S16: 13.028 | T16: 1 | U16: 13.94 | V16: =D16*285.06+E16*177.37+(F16+G16)*114.51+N16*85.71653+O16*71.6475+P16*87.00383+Q16*58.25799+R16*72.16284+S16*60.90038+T16*76.51762+U16*50.57834 -> 12259.622 | W16: =SUM(X16:AA16) -> 0.6 | Z16: 0.6 | AB16: =SUM(AC16:AF16) -> 0 | AG16: =SUM(AH16:AO16) -> 0 | AP16: =X16*285.06+Y16*177.37+(Z16+AA16)*114.51+AH16*85.71653+AI16*71.6475+AJ16*87.00383+AK16*58.25799+AL16*72.16284+AM16*60.90038+AN16*76.51762+AO16*50.57834 -> 68.706 | AQ16: =$W16/C16 -> 0.009062349 | AR16: =IF(H16=0,"-",AB16/H16) -> - | AS16: =AG16/M16 -> 0 | AT16: =W16-'05-3'!W16 -> 0 | AU16: =AB16-'05-3'!AB16 -> 0 | AV16: =AG16-'05-3'!AG16 -> 0
A17: 9 | B17: Huyện Lộc Hà | C17: =SUM(D17:G17) -> 19.548 | D17: 0.2 | E17: 4.131 | F17: 9.057 | G17: 6.16 | H17: =SUM(I17:L17) -> 16.942 | I17: 6.95 | J17: 6.182 | K17: 3.81 | L17: 0 | M17: =SUM(N17:U17) -> 6.89 | N17: 1 | O17: 0 | P17: 0.82 | Q17: 0 | R17: 3.02 | S17: 0 | T17: 2.05 | U17: 0 | V17: =D17*285.06+E17*177.37+(F17+G17)*114.51+N17*85.71653+O17*71.6475+P17*87.00383+Q17*58.25799+R17*72.16284+S17*60.90038+T17*76.51762+U17*50.57834 -> 3064.0787 | W17: =SUM(X17:AA17) -> 0 | AB17: =SUM(AC17:AF17) -> 0 | AG17: =SUM(AH17:AO17) -> 0 | AP17: =X17*285.06+Y17*177.37+(Z17+AA17)*114.51+AH17*85.71653+AI17*71.6475+AJ17*87.00383+AK17*58.25799+AL17*72.16284+AM17*60.90038+AN17*76.51762+AO17*50.57834 -> 0 | AQ17: =$W17/C17 -> 0 | AR17: =IF(H17=0,"-",AB17/H17) -> 0 | AS17: =AG17/M17 -> 0 | AT17: =W17-'05-3'!W17 -> 0 | AU17: =AB17-'05-3'!AB17 -> 0 | AV17: =AG17-'05-3'!AG17 -> 0
A18: 10 | B18: Thị xã Kỳ Anh | C18: =SUM(D18:G18) -> 16.323 | D18: 0 | E18: 1.791 | F18: 13.442 | G18: 1.09 | H18: =SUM(I18:L18) -> 1.805 | I18: 0 | J18: 0.93 | K18: 0.875 | L18: 0 | M18: =SUM(N18:U18) -> 7.619 | N18: 0.375 | O18: 0 | P18: 0 | Q18: 0 | R18: 0.767 | S18: 0.612 | T18: 1.851 | U18: 4.014 | V18: =D18*285.06+E18*177.37+(F18+G18)*114.51+N18*85.71653+O18*71.6475+P18*87.00383+Q18*58.25799+R18*72.16284+S18*60.90038+T18*76.51762+U18*50.57834 -> 2451.1482 | W18: =SUM(X18:AA18) -> 0 | AB18: =SUM(AC18:AF18) -> 0 | AG18: =SUM(AH18:AO18) -> 0 | AP18: =X18*285.06+Y18*177.37+(Z18+AA18)*114.51+AH18*85.71653+AI18*71.6475+AJ18*87.00383+AK18*58.25799+AL18*72.16284+AM18*60.90038+AN18*76.51762+AO18*50.57834 -> 0 | AQ18: =$W18/C18 -> 0 | AR18: =IF(H18=0,"-",AB18/H18) -> 0 | AS18: =AG18/M18 -> 0 | AT18: =W18-'05-3'!W18 -> 0 | AU18: =AB18-'05-3'!AB18 -> 0 | AV18: =AG18-'05-3'!AG18 -> 0
A19: 11 | B19: Thị xã Hồng Lĩnh | C19: =SUM(D19:G19) -> 4.209 | D19: 0 | E19: 4.125 | F19: 0.084 | G19: 0 | H19: =SUM(I19:L19) -> 2.473 | I19: 0 | J19: 2.473 | K19: 0 | L19: 0 | M19: =SUM(N19:U19) -> 7.431 | N19: 0 | O19: 0 | P19: 0 | Q19: 0 | R19: 0.512 | S19: 0 | T19: 6.719 | U19: 0.2 | V19: =D19*285.06+E19*177.37+(F19+G19)*114.51+N19*85.71653+O19*71.6475+P19*87.00383+Q19*58.25799+R19*72.16284+S19*60.90038+T19*76.51762+U19*50.57834 -> 1302.455 | W19: =SUM(X19:AA19) -> 0 | AB19: =SUM(AC19:AF19) -> 0 | AG19: =SUM(AH19:AO19) -> 0 | AP19: =X19*285.06+Y19*177.37+(Z19+AA19)*114.51+AH19*85.71653+AI19*71.6475+AJ19*87.00383+AK19*58.25799+AL19*72.16284+AM19*60.90038+AN19*76.51762+AO19*50.57834 -> 0 | AQ19: =$W19/C19 -> 0 | AR19: =IF(H19=0,"-",AB19/H19) -> 0 | AS19: =AG19/M19 -> 0 | AT19: =W19-'05-3'!W19 -> 0 | AU19: =AB19-'05-3'!AB19 -> 0 | AV19: =AG19-'05-3'!AG19 -> 0
A20: 12 | B20: Huyện Hương Khê | C20: =SUM(D20:G20) -> 36.434 | D20: 0.65 | E20: 7.894 | F20: 19.367 | G20: 8.523 | H20: =SUM(I20:L20) -> 13.15 | I20: 11.15 | J20: 2 | K20: 0 | L20: 0 | M20: =SUM(N20:U20) -> 8.26 | N20: 0.36 | O20: 2.13 | P20: 0 | Q20: 0 | R20: 1.5 | S20: 3.195 | T20: 0 | U20: 1.075 | V20: =D20*285.06+E20*177.37+(F20+G20)*114.51+N20*85.71653+O20*71.6475+P20*87.00383+Q20*58.25799+R20*72.16284+S20*60.90038+T20*76.51762+U20*50.57834 -> 5319.7915 | W20: =SUM(X20:AA20) -> 0 | AB20: =SUM(AC20:AF20) -> 0 | AG20: =SUM(AH20:AO20) -> 0 | AP20: =X20*285.06+Y20*177.37+(Z20+AA20)*114.51+AH20*85.71653+AI20*71.6475+AJ20*87.00383+AK20*58.25799+AL20*72.16284+AM20*60.90038+AN20*76.51762+AO20*50.57834 -> 0 | AQ20: =$W20/C20 -> 0 | AR20: =IF(H20=0,"-",AB20/H20) -> 0 | AS20: =AG20/M20 -> 0 | AT20: =W20-'05-3'!W20 -> 0 | AU20: =AB20-'05-3'!AB20 -> 0 | AV20: =AG20-'05-3'!AG20 -> 0
A21: 13 | B21: Huyện Vũ Quang | C21: =SUM(D21:G21) -> 6.795 | D21: 0 | E21: 2 | F21: 3.775 | G21: 1.02 | H21: =SUM(I21:L21) -> 0 | I21: 0 | J21: 0 | K21: 0 | L21: 0 | M21: =SUM(N21:U21) -> 1.17 | N21: 0.64 | O21: 0 | P21: 0.53 | Q21: 0 | R21: 0 | S21: 0 | T21: 0 | U21: 0 | V21: =D21*285.06+E21*177.37+(F21+G21)*114.51+N21*85.71653+O21*71.6475+P21*87.00383+Q21*58.25799+R21*72.16284+S21*60.90038+T21*76.51762+U21*50.57834 -> 1004.7861 | W21: =SUM(X21:AA21) -> 0 | AB21: =SUM(AC21:AF21) -> 0 | AG21: =SUM(AH21:AO21) -> 0 | AP21: =X21*285.06+Y21*177.37+(Z21+AA21)*114.51+AH21*85.71653+AI21*71.6475+AJ21*87.00383+AK21*58.25799+AL21*72.16284+AM21*60.90038+AN21*76.51762+AO21*50.57834 -> 0 | AQ21: =$W21/C21 -> 0 | AR21: =IF(H21=0,"-",AB21/H21) -> - | AS21: =AG21/M21 -> 0 | AT21: =W21-'05-3'!W21 -> 0 | AU21: =AB21-'05-3'!AB21 -> 0 | AV21: =AG21-'05-3'!AG21 -> 0
B22: Tổng cộng | C22: =SUM(C9:C21) -> 432.2993 | D22: =SUM(D9:D21) -> 8.6112 | E22: =SUM(E9:E21) -> 82.072 | F22: =SUM(F9:F21) -> 248.6441 | G22: =SUM(G9:G21) -> 92.972 | H22: =SUM(H9:H21) -> 106.947 | I22: =SUM(I9:I21) -> 31.37 | J22: =SUM(J9:J21) -> 57.017 | ... AP22: =SUM(AP9:AP21) -> 627.37226 | AQ22: =$W22/C22 -> 0.0093129923 | AR22: =IF(H22=0,"-",AB22/H22) -> 0 | AS22: =AG22/M22 -> 0.0061576 | AT22: =W22-'05-3'!W22 -> 1.666 | AU22: =SUM(AU9:AU21) -> 0 | AV22: =AG22-'05-3'!AG22 -> 0.37

Sheet 19-03
B1: UỶ BAN NHÂN DÂN TỈNH HÀ TĨNH
B2: SỞ GIAO THÔNG VẬN TẢI
A3: PHỤ LỤC 1: BÁO CÁO KẾT QUẢ THỰC HIỆN KẾ HOẠCH LÀM ĐƯỜNG GTNT, RÃNH THOÁT NƯỚC, PHỤC HỒI NÂNG CẤP MẶT ĐƯỜNG BTXM ĐẾN NGÀY 19/3/2020
A5: TT | B5: Huyện, thị xã, thành phố | C5: Khối lượng theo kế hoạch UBND tỉnh | W5: Kết quả thực hiện lũy kế đến thời điểm báo cáo | AQ5: Mức độ hoàn thành kế hoạch đầu năm | AT5: Tăng so với tuần trước | AW5: Ghi chú:
C6: Đường giao thông (km) | D6: Trong đó | H6: Nâng cấp phục hồi mặt đường BTXM (km) | I6: Trong đó | M6: Rãnh thoát nước (km) | N6: Rãnh trên đường trục xã | R6: Rãnh trên đường trục thôn | V6: Tổng khối lượng xi măng (tấn) | W6: Đường giao thông (km) | X6: Trong đó | AB6: Nâng cấp phục hồi mặt đường BTXM (km) | AC6: Trong đó | AG6: Rãnh thoát nước (km) | AH6: Rãnh trên đường trục xã | AL6: Rãnh trên đường trục thôn | AP6: Tổng khối lượng xi măng đã nhận (tấn) | AQ6: Đường giao thông (%) | AR6: Nâng cấp phục hồi mặt đường BTXM (%) | AS6: Rãnh thoát nước (%) | AT6: Đường giao thông (km) | AU6: Nâng cấp phục hồi mặt đường BTXM (km) | AV6: Rãnh thoát nước (km)
D7: Đường trục xã và đường phố (km) | E7: Đường trục thôn, xóm và đường ngõ phố (km) | F7: Đường ngõ, xóm và đường ngách hẻm (km) | G7: Đường trục chính nội đồng (km) | I7: Đường trục xã và đường phố (km) | J7: Đường trục thôn, xóm và đường ngõ phố (km) | K7: Đường ngõ, xóm và đường ngách hẻm (km) | L7: Đường trục chính nội đồng (km) | N7: Rãnh BTXM có nắp đậy | O7: Rãnh BTXM không có nắp đậy | P7: Rãnh Gạch xây có nắp đậy | Q7: Rãnh Gạch xây không có nắp đậy | R7: Rãnh BTXM có nắp đậy | S7: Rãnh BTXM không có nắp đậy | T7: Rãnh Gạch xây có nắp đậy | U7: Rãnh Gạch xây không có nắp đậy | X7: Đường trục xã và đường phố (km) | Y7: Đường trục thôn, xóm và đường ngõ phố (km) | Z7: Đường ngõ, xóm và đường ngách hẻm (km) | AA7: Đường trục chính nội đồng (km) | AC7: Đường trục xã và đường phố (km) | AD7: Đường trục thôn, xóm và đường ngõ phố (km) | AE7: Đường ngõ, xóm và đường ngách hẻm (km) | AF7: Đường trục chính nội đồng (km) | AH7: Rãnh BTXM có nắp đậy | AI7: Rãnh BTXM không có nắp đậy | AJ7: Rãnh Gạch xây có nắp đậy | AK7: Rãnh Gạch xây không có nắp đậy | AL7: Rãnh BTXM có nắp đậy | AM7: Rãnh BTXM không có nắp đậy | AN7: Rãnh Gạch xây có nắp đậy | AO7: Rãnh Gạch xây không có nắp đậy
A8: 1 | B8: 2 | C8: 3 | D8: 4 | E8: 5 | F8: 6 | G8: 7 | H8: 8 | I8: 9 | J8: 10 | K8: 11 | L8: 12 | M8: 13 | N8: 14 | O8: 15 | P8: 16 | Q8: 17 | R8: 18 | S8: 19 | T8: 20 | U8: 21 | V8: 22 | W8: 23 | X8: 24 | Y8: 25 | Z8: 26 | AA8: 27 | AB8: 28 | AC8: 29 | AD8: 30 | AE8: 31 | AF8: 32 | AG8: 33 | AH8: 34 | AI8: 35 | AJ8: 36 | AK8: 37 | AL8: 38 | AM8: 39 | AN8: 40 | AO8: 41 | AP8: 42 | AQ8: 43 | AR8: 44 | AS8: 45 | AT8: 69 | AU8: 70 | AV8: 71
A9: 1 | B9: Huyện Kỳ Anh | C9: =SUM(D9:G9) -> 42.104 | D9: 0.775 | E9: 5.596 | F9: 31.403 | G9: 4.33 | H9: =SUM(I9:L9) -> 4.77 | I9: 0 | J9: 2.6 | K9: 2.17 | L9: 0 | M9: =SUM(N9:U9) -> 31.124 | N9: 0 | O9: 0 | P9: 0 | Q9: 1.6 | R9: 1.04 | S9: 14.61 | T9: 0.36 | U9: 13.514 | V9: =D9*285.06+E9*177.37+(F9+G9)*114.51+N9*85.71653+O9*71.6475+P9*87.00383+Q9*58.25799+R9*72.16284+S9*60.90038+T9*76.51762+U9*50.57834 -> 7074.3486 | W9: =SUM(X9:AA9) -> 0 | AB9: =SUM(AC9:AF9) -> 0 | AG9: =SUM(AH9:AO9) -> 0 | AP9: 0 | AQ9: =$W9/C9 -> 0 | AR9: =IF(H9=0,"-",AB9/H9) -> 0 | AS9: =AG9/M9 -> 0 | AT9: =W9-'13-3'!W9 -> 0 | AU9: =AB9-'13-3'!AB9 -> 0 | AV9: =AG9-'13-3'!AG9 -> 0
A10: 2 | B10: Huyện Cẩm Xuyên | C10: =SUM(D10:G10) -> 64.551 | D10: 0 | E10: 8.07 | F10: 39.357 | G10: 17.124 | H10: =SUM(I10:L10) -> 8.99 | I10: 1.9 | J10: 6.14 | K10: 0.95 | L10: 0 | M10: =SUM(N10:U10) -> 18.263 | N10: 1.7 | O10: 3.192 | P10: 0 | Q10: 0.066 | R10: 1.35 | S10: 9.195 | T10: 0 | U10: 2.76 | V10: =D10*285.06+E10*177.37+(F10+G10)*114.51+N10*85.71653+O10*71.6475+P10*87.00383+Q10*58.25799+R10*72.16284+S10*60.90038+T10*76.51762+U10*50.57834 -> 9074.2722 | W10: =SUM(X10:AA10) -> 0.666 | Y10: 0.13 | Z10: =0.13+0.406 -> 0.536 | AB10: =SUM(AC10:AF10) -> 0 | AG10: =SUM(AH10:AO10) -> 0.87 | AM10: =0.65+0.22 -> 0.87 | AP10: =180+60+124 -> 364 | AQ10: =$W10/C10 -> 0.010317423 | AR10: =IF(H10=0,"-",AB10/H10) -> 0 | AS10: =AG10/M10 -> 0.047637299 | AT10: =W10-'13-3'!W10 -> 0 | AU10: =AB10-'13-3'!AB10 -> 0 | AV10: =AG10-'13-3'!AG10 -> 0
A11: 3 | B11: Thành phố Hà Tĩnh | C11: =SUM(D11:G11) -> 12.357 | D11: 0 | E11: 2.864 | F11: 6.651 | G11: 2.842 | H11: =SUM(I11:L11) -> 11.988 | I11: 0 | J11: 11.988 | K11: 0 | L11: 0 | M11: =SUM(N11:U11) -> 5.046 | N11: 1.3 | O11: 0 | P11: 0 | Q11: 0 | R11: 3.746 | S11: 0 | T11: 0 | U11: 0 | V11: =D11*285.06+E11*177.37+(F11+G11)*114.51+N11*85.71653+O11*71.6475+P11*87.00383+Q11*58.25799+R11*72.16284+S11*60.90038+T11*76.51762+U11*50.57834 -> 1976.7846 | W11: =SUM(X11:AA11) -> 0 | AB11: =SUM(AC11:AF11) -> 0 | AG11: =SUM(AH11:AO11) -> 0 | AP11: 35 | AQ11: =$W11/C11 -> 0 | AR11: =IF(H11=0,"-",AB11/H11) -> 0 | AS11: =AG11/M11 -> 0 | AT11: =W11-'13-3'!W11 -> 0 | AU11: =AB11-'13-3'!AB11 -> 0 | AV11: =AG11-'13-3'!AG11 -> 0
A12: 4 | B12: Huyện Thạch Hà | C12: =SUM(D12:G12) -> 92.218295 | D12: 6.7862 | E12: 9.535 | F12: 50.432095 | G12: 25.465 | H12: =SUM(I12:L12) -> 33.829 | I12: 2.47 | J12: 22.904 | K12: 8.455 | L12: 0 | M12: =SUM(N12:U12) -> 16.96 | N12: 3.17 | O12: 1 | P12: 0 | Q12: 0.5 | R12: 7.52 | S12: 3.06 | T12: 0.2 | U12: 1.51 | V12: =D12*285.06+E12*177.37+(F12+G12)*114.51+N12*85.71653+O12*71.6475+P12*87.00383+Q12*58.25799+R12*72.16284+S12*60.90038+T12*76.51762+U12*50.57834 -> 13509.868 | W12: =SUM(X12:AA12) -> 4.406 | X12: 0.2 | Y12: 1.252 | Z12: 2.754 | AA12: 0.2 | AB12: =SUM(AC12:AF12) -> 0 | AG12: =SUM(AH12:AO12) -> 0.57 | AH12: 0 | AI12: 0.1 | AJ12: 0 | AK12: 0 | AL12: 0 | AM12: 0 | AN12: 0.27 | AO12: 0.2 | AP12: 725 | AQ12: =$W12/C12 -> 0.047777938 | AR12: =IF(H12=0,"-",AB12/H12) -> 0 | AS12: =AG12/M12 -> 0.033608491 | AT12: =W12-'13-3'!W12 -> 1.976 | AU12: =AB12-'13-3'!AB12 -> 0 | AV12: =AG12-'13-3'!AG12 -> 0.37
A13: 5 | B13: Huyện Can Lộc | C13: =SUM(D13:G13) -> 39.072 | D13: 0 | E13: 12.368 | F13: 17.339 | G13: 9.365 | H13: =SUM(I13:L13) -> 10 | I13: 8.9 | J13: 0.8 | K13: 0.3 | L13: 0 | M13: =SUM(N13:U13) -> 14.105 | N13: 1.43 | O13: 0 | P13: 0.4 | Q13: 0.2 | R13: 2.09 | S13: 0 | T13: 8.695 | U13: 1.29 | V13: =D13*285.06+E13*177.37+(F13+G13)*114.51+N13*85.71653+O13*71.6475+P13*87.00383+Q13*58.25799+R13*72.16284+S13*60.90038+T13*76.51762+U13*50.57834 -> 6302.0021 | W13: =SUM(X13:AA13) -> 0 | AB13: =SUM(AC13:AF13) -> 0 | AG13: =SUM(AH13:AO13) -> 0 | AP13: 0 | AQ13: =$W13/C13 -> 0 | AR13: =IF(H13=0,"-",AB13/H13) -> 0 | AS13: =AG13/M13 -> 0 | AT13: =W13-'13-3'!W13 -> 0 | AU13: =AB13-'13-3'!AB13 -> 0 | AV13: =AG13-'13-3'!AG13 -> 0
A14: 6 | B14: Huyện Nghi Xuân | C14: =SUM(D14:G14) -> 12.48 | D14: 0 | E14: 1.569 | F14: 3.717 | G14: 7.194 | H14: =SUM(I14:L14) -> 0 | I14: 0 | J14: 0 | K14: 0 | L14: 0 | M14: =SUM(N14:U14) -> 2.173 | N14: 0 | O14: 0 | P14: 0.6 | Q14: 0 | R14: 0.055 | S14: 0.605 | T14: 0.47 | U14: 0.443 | V14: =D14*285.06+E14*177.37+(F14+G14)*114.51+N14*85.71653+O14*71.6475+P14*87.00383+Q14*58.25799+R14*72.16284+S14*60.90038+T14*76.51762+U14*50.57834 -> 1679.0976 | W14: =SUM(X14:AA14) -> 1.04 | Z14: 0.33 | AA14: 0.71 | AB14: =SUM(AC14:AF14) -> 0 | AG14: =SUM(AH14:AO14) -> 0 | AP14: 0 | AQ14: =$W14/C14 -> 0.083333333 | AR14: =IF(H14=0,"-",AB14/H14) -> - | AS14: =AG14/M14 -> 0 | AT14: =W14-'13-3'!W14 -> 0.71 | AU14: =AB14-'13-3'!AB14 -> 0 | AV14: =AG14-'13-3'!AG14 -> 0
A15: 7 | B15: Huyện Đức Thọ | C15: =SUM(D15:G15) -> 20 | D15: 0 | E15: 2.5 | F15: 13.5 | G15: 4 | H15: =SUM(I15:L15) -> 3 | I15: 0 | J15: 1 | K15: 2 | L15: 0 | M15: =SUM(N15:U15) -> 2 | N15: 0 | O15: 0 | P15: 0 | Q15: 0 | R15: 0 | S15: 0 | T15: 2 | U15: 0 | V15: =D15*285.06+E15*177.37+(F15+G15)*114.51+N15*85.71653+O15*71.6475+P15*87.00383+Q15*58.25799+R15*72.16284+S15*60.90038+T15*76.51762+U15*50.57834 -> 2600.3852 | W15: =SUM(X15:AA15) -> 0 | AB15: =SUM(AC15:AF15) -> 0 | AG15: =SUM(AH15:AO15) -> 0 | AP15: 0 | AQ15: =$W15/C15 -> 0 | AR15: =IF(H15=0,"-",AB15/H15) -> 0 | AS15: =AG15/M15 -> 0 | AT15: =W15-'13-3'!W15 -> 0 | AU15: =AB15-'13-3'!AB15 -> 0 | AV15: =AG15-'13-3'!AG15 -> 0
A16: 8 | B16: Huyện Hương Sơn | C16: =SUM(D16:G16) -> 66.208 | D16: 0.2 | E16: 19.629 | F16: 40.52 | G16: 5.859 | H16: =SUM(I16:L16) -> 0 | I16: 0 | J16: 0 | K16: 0 | L16: 0 | M16: =SUM(N16:U16) -> 52.728 | N16: 3.28 | O16: 9.6 | P16: 0.6 | Q16: 0 | R16: 11.28 | S16: 13.028 | T16: 1 | U16: 13.94 | V16: =D16*285.06+E16*177.37+(F16+G16)*114.51+N16*85.71653+O16*71.6475+P16*87.00383+Q16*58.25799+R16*72.16284+S16*60.90038+T16*76.51762+U16*50.57834 -> 12259.622 | W16: =SUM(X16:AA16) -> 0.6 | Z16: 0.6 | AB16: =SUM(AC16:AF16) -> 0 | AG16: =SUM(AH16:AO16) -> 0 | AP16: 100 | AQ16: =$W16/C16 -> 0.009062349 | AR16: =IF(H16=0,"-",AB16/H16) -> - | AS16: =AG16/M16 -> 0 | AT16: =W16-'13-3'!W16 -> 0 | AU16: =AB16-'13-3'!AB16 -> 0 | AV16: =AG16-'13-3'!AG16 -> 0 | AW16: Xi măng Ứng trước 13/3
A17: 9 | B17: Huyện Lộc Hà | C17: =SUM(D17:G17) -> 19.548 | D17: 0.2 | E17: 4.131 | F17: 9.057 | G17: 6.16 | H17: =SUM(I17:L17) -> 16.942 | I17: 6.95 | J17: 6.182 | K17: 3.81 | L17: 0 | M17: =SUM(N17:U17) -> 6.89 | N17: 1 | O17: 0 | P17: 0.82 | Q17: 0 | R17: 3.02 | S17: 0 | T17: 2.05 | U17: 0 | V17: =D17*285.06+E17*177.37+(F17+G17)*114.51+N17*85.71653+O17*71.6475+P17*87.00383+Q17*58.25799+R17*72.16284+S17*60.90038+T17*76.51762+U17*50.57834 -> 3064.0787 | W17: =SUM(X17:AA17) -> 0 | AB17: =SUM(AC17:AF17) -> 0 | AG17: =SUM(AH17:AO17) -> 0 | AP17: 0 | AQ17: =$W17/C17 -> 0 | AR17: =IF(H17=0,"-",AB17/H17) -> 0 | AS17: =AG17/M17 -> 0 | AT17: =W17-'13-3'!W17 -> 0 | AU17: =AB17-'13-3'!AB17 -> 0 | AV17: =AG17-'13-3'!AG17 -> 0
A18: 10 | B18: Thị xã Kỳ Anh | C18: =SUM(D18:G18) -> 16.323 | D18: 0 | E18: 1.791 | F18: 13.442 | G18: 1.09 | H18: =SUM(I18:L18) -> 1.805 | I18: 0 | J18: 0.93 | K18: 0.875 | L18: 0 | M18: =SUM(N18:U18) -> 7.619 | N18: 0.375 | O18: 0 | P18: 0 | Q18: 0 | R18: 0.767 | S18: 0.612 | T18: 1.851 | U18: 4.014 | V18: =D18*285.06+E18*177.37+(F18+G18)*114.51+N18*85.71653+O18*71.6475+P18*87.00383+Q18*58.25799+R18*72.16284+S18*60.90038+T18*76.51762+U18*50.57834 -> 2451.1482 | W18: =SUM(X18:AA18) -> 0 | AB18: =SUM(AC18:AF18) -> 0 | AG18: =SUM(AH18:AO18) -> 0 | AP18: 0 | AQ18: =$W18/C18 -> 0 | AR18: =IF(H18=0,"-",AB18/H18) -> 0 | AS18: =AG18/M18 -> 0 | AT18: =W18-'13-3'!W18 -> 0 | AU18: =AB18-'13-3'!AB18 -> 0 | AV18: =AG18-'13-3'!AG18 -> 0
A19: 11 | B19: Thị xã Hồng Lĩnh | C19: =SUM(D19:G19) -> 4.209 | D19: 0 | E19: 4.125 | F19: 0.084 | G19: 0 | H19: =SUM(I19:L19) -> 2.473 | I19: 0 | J19: 2.473 | K19: 0 | L19: 0 | M19: =SUM(N19:U19) -> 7.431 | N19: 0 | O19: 0 | P19: 0 | Q19: 0 | R19: 0.512 | S19: 0 | T19: 6.719 | U19: 0.2 | V19: =D19*285.06+E19*177.37+(F19+G19)*114.51+N19*85.71653+O19*71.6475+P19*87.00383+Q19*58.25799+R19*72.16284+S19*60.90038+T19*76.51762+U19*50.57834 -> 1302.455 | W19: =SUM(X19:AA19) -> 0 | AB19: =SUM(AC19:AF19) -> 0 | AG19: =SUM(AH19:AO19) -> 0 | AP19: 0 | AQ19: =$W19/C19 -> 0 | AR19: =IF(H19=0,"-",AB19/H19) -> 0 | AS19: =AG19/M19 -> 0 | AT19: =W19-'13-3'!W19 -> 0 | AU19: =AB19-'13-3'!AB19 -> 0 | AV19: =AG19-'13-3'!AG19 -> 0
A20: 12 | B20: Huyện Hương Khê | C20: =SUM(D20:G20) -> 36.434 | D20: 0.65 | E20: 7.894 | F20: 19.367 | G20: 8.523 | H20: =SUM(I20:L20) -> 13.15 | I20: 11.15 | J20: 2 | K20: 0 | L20: 0 | M20: =SUM(N20:U20) -> 8.26 | N20: 0.36 | O20: 2.13 | P20: 0 | Q20: 0 | R20: 1.5 | S20: 3.195 | T20: 0 | U20: 1.075 | V20: =D20*285.06+E20*177.37+(F20+G20)*114.51+N20*85.71653+O20*71.6475+P20*87.00383+Q20*58.25799+R20*72.16284+S20*60.90038+T20*76.51762+U20*50.57834 -> 5319.7915 | W20: =SUM(X20:AA20) -> 0 | AB20: =SUM(AC20:AF20) -> 0 | AG20: =SUM(AH20:AO20) -> 0 | AP20: 0 | AQ20: =$W20/C20 -> 0 | AR20: =IF(H20=0,"-",AB20/H20) -> 0 | AS20: =AG20/M20 -> 0 | AT20: =W20-'13-3'!W20 -> 0 | AU20: =AB20-'13-3'!AB20 -> 0 | AV20: =AG20-'13-3'!AG20 -> 0
A21: 13 | B21: Huyện Vũ Quang | C21: =SUM(D21:G21) -> 6.795 | D21: 0 | E21: 2 | F21: 3.775 | G21: 1.02 | H21: =SUM(I21:L21) -> 0 | I21: 0 | J21: 0 | K21: 0 | L21: 0 | M21: =SUM(N21:U21) -> 1.17 | N21: 0.64 | O21: 0 | P21: 0.53 | Q21: 0 | R21: 0 | S21: 0 | T21: 0 | U21: 0 | V21: =D21*285.06+E21*177.37+(F21+G21)*114.51+N21*85.71653+O21*71.6475+P21*87.00383+Q21*58.25799+R21*72.16284+S21*60.90038+T21*76.51762+U21*50.57834 -> 1004.7861 | W21: =SUM(X21:AA21) -> 0 | AB21: =SUM(AC21:AF21) -> 0 | AG21: =SUM(AH21:AO21) -> 0 | AP21: 0 | AQ21: =$W21/C21 -> 0 | AR21: =IF(H21=0,"-",AB21/H21) -> - | AS21: =AG21/M21 -> 0 | AT21: =W21-'13-3'!W21 -> 0 | AU21: =AB21-'13-3'!AB21 -> 0 | AV21: =AG21-'13-3'!AG21 -> 0
B22: Tổng cộng | C22: =SUM(C9:C21) -> 432.2993 | D22: =SUM(D9:D21) -> 8.6112 | E22: =SUM(E9:E21) -> 82.072 | F22: =SUM(F9:F21) -> 248.6441 | G22: =SUM(G9:G21) -> 92.972 | H22: =SUM(H9:H21) -> 106.947 | I22: =SUM(I9:I21) -> 31.37 | J22: =SUM(J9:J21) -> 57.017 | ... AP22: =SUM(AP9:AP21) -> 1224 | AQ22: =$W22/C22 -> 0.01552628 | AR22: =IF(H22=0,"-",AB22/H22) -> 0 | AS22: =AG22/M22 -> 0.0082868636 | AT22: =W22-'13-3'!W22 -> 2.686 | AU22: =SUM(AU9:AU21) -> 0 | AV22: =SUM(AV9:AV21) -> 0.37

Sheet 26-3
B1: UỶ BAN NHÂN DÂN TỈNH HÀ TĨNH
B2: SỞ GIAO THÔNG VẬN TẢI
A3: PHỤ LỤC 1: BÁO CÁO KẾT QUẢ THỰC HIỆN KẾ HOẠCH LÀM ĐƯỜNG GTNT, RÃNH THOÁT NƯỚC, PHỤC HỒI NÂNG CẤP MẶT ĐƯỜNG BTXM ĐẾN NGÀY 26/3/2020
A5: TT | B5: Huyện, thị xã, thành phố | C5: Khối lượng theo kế hoạch UBND tỉnh | W5: Kết quả thực hiện lũy kế đến thời điểm báo cáo | AQ5: Mức độ hoàn thành kế hoạch đầu năm | AT5: Tăng so với tuần trước | AW5: Ghi chú:
C6: Đường giao thông (km) | D6: Trong đó | H6: Nâng cấp phục hồi mặt đường BTXM (km) | I6: Trong đó | M6: Rãnh thoát nước (km) | N6: Rãnh trên đường trục xã | R6: Rãnh trên đường trục thôn | V6: Tổng khối lượng xi măng (tấn) | W6: Đường giao thông (km) | X6: Trong đó | AB6: Nâng cấp phục hồi mặt đường BTXM (km) | AC6: Trong đó | AG6: Rãnh thoát nước (km) | AH6: Rãnh trên đường trục xã | AL6: Rãnh trên đường trục thôn | AP6: Tổng khối lượng xi măng đã nhận (tấn) | AQ6: Đường giao thông (%) | AR6: Nâng cấp phục hồi mặt đường BTXM (%) | AS6: Rãnh thoát nước (%) | AT6: Đường giao thông (km) | AU6: Nâng cấp phục hồi mặt đường BTXM (km) | AV6: Rãnh thoát nước (km)
D7: Đường trục xã và đường phố (km) | E7: Đường trục thôn, xóm và đường ngõ phố (km) | F7: Đường ngõ, xóm và đường ngách hẻm (km) | G7: Đường trục chính nội đồng (km) | I7: Đường trục xã và đường phố (km) | J7: Đường trục thôn, xóm và đường ngõ phố (km) | K7: Đường ngõ, xóm và đường ngách hẻm (km) | L7: Đường trục chính nội đồng (km) | N7: Rãnh BTXM có nắp đậy | O7: Rãnh BTXM không có nắp đậy | P7: Rãnh Gạch xây có nắp đậy | Q7: Rãnh Gạch xây không có nắp đậy | R7: Rãnh BTXM có nắp đậy | S7: Rãnh BTXM không có nắp đậy | T7: Rãnh Gạch xây có nắp đậy | U7: Rãnh Gạch xây không có nắp đậy | X7: Đường trục xã và đường phố (km) | Y7: Đường trục thôn, xóm và đường ngõ phố (km) | Z7: Đường ngõ, xóm và đường ngách hẻm (km) | AA7: Đường trục chính nội đồng (km) | AC7: Đường trục xã và đường phố (km) | AD7: Đường trục thôn, xóm và đường ngõ phố (km) | AE7: Đường ngõ, xóm và đường ngách hẻm (km) | AF7: Đường trục chính nội đồng (km) | AH7: Rãnh BTXM có nắp đậy | AI7: Rãnh BTXM không có nắp đậy | AJ7: Rãnh Gạch xây có nắp đậy | AK7: Rãnh Gạch xây không có nắp đậy | AL7: Rãnh BTXM có nắp đậy | AM7: Rãnh BTXM không có nắp đậy | AN7: Rãnh Gạch xây có nắp đậy | AO7: Rãnh Gạch xây không có nắp đậy
A8: 1 | B8: 2 | C8: 3 | D8: 4 | E8: 5 | F8: 6 | G8: 7 | H8: 8 | I8: 9 | J8: 10 | K8: 11 | L8: 12 | M8: 13 | N8: 14 | O8: 15 | P8: 16 | Q8: 17 | R8: 18 | S8: 19 | T8: 20 | U8: 21 | V8: 22 | W8: 23 | X8: 24 | Y8: 25 | Z8: 26 | AA8: 27 | AB8: 28 | AC8: 29 | AD8: 30 | AE8: 31 | AF8: 32 | AG8: 33 | AH8: 34 | AI8: 35 | AJ8: 36 | AK8: 37 | AL8: 38 | AM8: 39 | AN8: 40 | AO8: 41 | AP8: 42 | AQ8: 43 | AR8: 44 | AS8: 45 | AT8: 69 | AU8: 70 | AV8: 71
A9: 1 | B9: Huyện Kỳ Anh | C9: =SUM(D9:G9) -> 42.104 | D9: 0.775 | E9: 5.596 | F9: 31.403 | G9: 4.33 | H9: =SUM(I9:L9) -> 4.77 | I9: 0 | J9: 2.6 | K9: 2.17 | L9: 0 | M9: =SUM(N9:U9) -> 31.124 | N9: 0 | O9: 0 | P9: 0 | Q9: 1.6 | R9: 1.04 | S9: 14.61 | T9: 0.36 | U9: 13.514 | V9: =D9*285.06+E9*177.37+(F9+G9)*114.51+N9*85.71653+O9*71.6475+P9*87.00383+Q9*58.25799+R9*72.16284+S9*60.90038+T9*76.51762+U9*50.57834 -> 7074.3486 | W9: =SUM(X9:AA9) -> 0.43 | X9: 0 | Y9: 0.07 | Z9: 0.36 | AA9: 0 | AB9: =SUM(AC9:AF9) -> 0 | AG9: =SUM(AH9:AO9) -> 4.55 | AH9: 0 | AI9: 0 | AJ9: 0 | AK9: 0 | AL9: 0 | AM9: 0.4 | AN9: 0 | AO9: 4.15 | AP9: 476 | AQ9: =$W9/C9 -> 0.010212806 | AR9: =IF(H9=0,"-",AB9/H9) -> 0 | AS9: =AG9/M9 -> 0.14618944 | AT9: =W9-'19-03'!W9 -> 0.43 | AU9: =AB9-'19-03'!AB9 -> 0 | AV9: =AG9-'19-03'!AG9 -> 4.55
A10: 2 | B10: Huyện Cẩm Xuyên | C10: =SUM(D10:G10) -> 64.551 | D10: 0 | E10: 8.07 | F10: 39.357 | G10: 17.124 | H10: =SUM(I10:L10) -> 8.99 | I10: 1.9 | J10: 6.14 | K10: 0.95 | L10: 0 | M10: =SUM(N10:U10) -> 18.263 | N10: 1.7 | O10: 3.192 | P10: 0 | Q10: 0.066 | R10: 1.35 | S10: 9.195 | T10: 0 | U10: 2.76 | V10: =D10*285.06+E10*177.37+(F10+G10)*114.51+N10*85.71653+O10*71.6475+P10*87.00383+Q10*58.25799+R10*72.16284+S10*60.90038+T10*76.51762+U10*50.57834 -> 9074.2722 | W10: =SUM(X10:AA10) -> 2.49 | X10: 0 | Y10: 0.49 | Z10: 1.6 | AA10: 0.4 | AB10: =SUM(AC10:AF10) -> 0 | AG10: =SUM(AH10:AO10) -> 0.92 | AH10: 0 | AI10: 0 | AJ10: 0 | AK10: 0 | AL10: 0.22 | AM10: 0.7 | AN10: 0 | AO10: 0 | AP10: 372 | AQ10: =$W10/C10 -> 0.038574151 | AR10: =IF(H10=0,"-",AB10/H10) -> 0 | AS10: =AG10/M10 -> 0.050375075 | AT10: =W10-'19-03'!W10 -> 1.824 | AU10: =AB10-'19-03'!AB10 -> 0 | AV10: =AG10-'19-03'!AG10 -> 0.05
A11: 3 | B11: Thành phố Hà Tĩnh | C11: =SUM(D11:G11) -> 12.357 | D11: 0 | E11: 2.864 | F11: 6.651 | G11: 2.842 | H11: =SUM(I11:L11) -> 11.988 | I11: 0 | J11: 11.988 | K11: 0 | L11: 0 | M11: =SUM(N11:U11) -> 5.046 | N11: 1.3 | O11: 0 | P11: 0 | Q11: 0 | R11: 3.746 | S11: 0 | T11: 0 | U11: 0 | V11: =D11*285.06+E11*177.37+(F11+G11)*114.51+N11*85.71653+O11*71.6475+P11*87.00383+Q11*58.25799+R11*72.16284+S11*60.90038+T11*76.51762+U11*50.57834 -> 1976.7846 | W11: =SUM(X11:AA11) -> 0 | AB11: =SUM(AC11:AF11) -> 0 | AG11: =SUM(AH11:AO11) -> 0 | AP11: 35 | AQ11: =$W11/C11 -> 0 | AR11: =IF(H11=0,"-",AB11/H11) -> 0 | AS11: =AG11/M11 -> 0 | AT11: =W11-'19-03'!W11 -> 0 | AU11: =AB11-'19-03'!AB11 -> 0 | AV11: =AG11-'19-03'!AG11 -> 0
A12: 4 | B12: Huyện Thạch Hà | C12: =SUM(D12:G12) -> 92.218295 | D12: 6.7862 | E12: 9.535 | F12: 50.432095 | G12: 25.465 | H12: =SUM(I12:L12) -> 33.829 | I12: 2.47 | J12: 22.904 | K12: 8.455 | L12: 0 | M12: =SUM(N12:U12) -> 16.96 | N12: 3.17 | O12: 1 | P12: 0 | Q12: 0.5 | R12: 7.52 | S12: 3.06 | T12: 0.2 | U12: 1.51 | V12: =D12*285.06+E12*177.37+(F12+G12)*114.51+N12*85.71653+O12*71.6475+P12*87.00383+Q12*58.25799+R12*72.16284+S12*60.90038+T12*76.51762+U12*50.57834 -> 13509.868 | W12: =SUM(X12:AA12) -> 5.626 | X12: 0.2 | Y12: 1.252 | Z12: 3.624 | AA12: 0.55 | AB12: =SUM(AC12:AF12) -> 0 | AG12: =SUM(AH12:AO12) -> 0.57 | AH12: 0 | AI12: 0.1 | AJ12: 0 | AK12: 0 | AL12: 0 | AM12: 0 | AN12: 0.27 | AO12: 0.2 | AP12: 992 | AQ12: =$W12/C12 -> 0.061007417 | AR12: =IF(H12=0,"-",AB12/H12) -> 0 | AS12: =AG12/M12 -> 0.033608491 | AT12: =W12-'19-03'!W12 -> 1.22 | AU12: =AB12-'19-03'!AB12 -> 0 | AV12: =AG12-'19-03'!AG12 -> 0
A13: 5 | B13: Huyện Can Lộc | C13: =SUM(D13:G13) -> 39.072 | D13: 0 | E13: 12.368 | F13: 17.339 | G13: 9.365 | H13: =SUM(I13:L13) -> 10 | I13: 8.9 | J13: 0.8 | K13: 0.3 | L13: 0 | M13: =SUM(N13:U13) -> 14.105 | N13: 1.43 | O13: 0 | P13: 0.4 | Q13: 0.2 | R13: 2.09 | S13: 0 | T13: 8.695 | U13: 1.29 | V13: =D13*285.06+E13*177.37+(F13+G13)*114.51+N13*85.71653+O13*71.6475+P13*87.00383+Q13*58.25799+R13*72.16284+S13*60.90038+T13*76.51762+U13*50.57834 -> 6302.0021 | W13: =SUM(X13:AA13) -> 0 | AB13: =SUM(AC13:AF13) -> 0 | AG13: =SUM(AH13:AO13) -> 0 | AQ13: =$W13/C13 -> 0 | AR13: =IF(H13=0,"-",AB13/H13) -> 0 | AS13: =AG13/M13 -> 0 | AT13: =W13-'19-03'!W13 -> 0 | AU13: =AB13-'19-03'!AB13 -> 0 | AV13: =AG13-'19-03'!AG13 -> 0
A14: 6 | B14: Huyện Nghi Xuân | C14: =SUM(D14:G14) -> 12.48 | D14: 0 | E14: 1.569 | F14: 3.717 | G14: 7.194 | H14: =SUM(I14:L14) -> 0 | I14: 0 | J14: 0 | K14: 0 | L14: 0 | M14: =SUM(N14:U14) -> 2.173 | N14: 0 | O14: 0 | P14: 0.6 | Q14: 0 | R14: 0.055 | S14: 0.605 | T14: 0.47 | U14: 0.443 | V14: =D14*285.06+E14*177.37+(F14+G14)*114.51+N14*85.71653+O14*71.6475+P14*87.00383+Q14*58.25799+R14*72.16284+S14*60.90038+T14*76.51762+U14*50.57834 -> 1679.0976 | W14: =SUM(X14:AA14) -> 1.97 | Z14: 0.32 | AA14: 1.65 | AB14: =SUM(AC14:AF14) -> 0 | AG14: =SUM(AH14:AO14) -> 0 | AP14: 33.6 | AQ14: =$W14/C14 -> 0.15785256 | AR14: =IF(H14=0,"-",AB14/H14) -> - | AS14: =AG14/M14 -> 0 | AT14: =W14-'19-03'!W14 -> 0.93 | AU14: =AB14-'19-03'!AB14 -> 0 | AV14: =AG14-'19-03'!AG14 -> 0
A15: 7 | B15: Huyện Đức Thọ | C15: =SUM(D15:G15) -> 20 | D15: 0 | E15: 2.5 | F15: 13.5 | G15: 4 | H15: =SUM(I15:L15) -> 3 | I15: 0 | J15: 1 | K15: 2 | L15: 0 | M15: =SUM(N15:U15) -> 2 | N15: 0 | O15: 0 | P15: 0 | Q15: 0 | R15: 0 | S15: 0 | T15: 2 | U15: 0 | V15: =D15*285.06+E15*177.37+(F15+G15)*114.51+N15*85.71653+O15*71.6475+P15*87.00383+Q15*58.25799+R15*72.16284+S15*60.90038+T15*76.51762+U15*50.57834 -> 2600.3852 | W15: =SUM(X15:AA15) -> 0 | AB15: =SUM(AC15:AF15) -> 0 | AG15: =SUM(AH15:AO15) -> 0 | AQ15: =$W15/C15 -> 0 | AR15: =IF(H15=0,"-",AB15/H15) -> 0 | AS15: =AG15/M15 -> 0 | AT15: =W15-'19-03'!W15 -> 0 | AU15: =AB15-'19-03'!AB15 -> 0 | AV15: =AG15-'19-03'!AG15 -> 0
A16: 8 | B16: Huyện Hương Sơn | C16: =SUM(D16:G16) -> 66.208 | D16: 0.2 | E16: 19.629 | F16: 40.52 | G16: 5.859 | H16: =SUM(I16:L16) -> 0 | I16: 0 | J16: 0 | K16: 0 | L16: 0 | M16: =SUM(N16:U16) -> 52.728 | N16: 3.28 | O16: 9.6 | P16: 0.6 | Q16: 0 | R16: 11.28 | S16: 13.028 | T16: 1 | U16: 13.94 | V16: =D16*285.06+E16*177.37+(F16+G16)*114.51+N16*85.71653+O16*71.6475+P16*87.00383+Q16*58.25799+R16*72.16284+S16*60.90038+T16*76.51762+U16*50.57834 -> 12259.622 | W16: =SUM(X16:AA16) -> 0.6 | Z16: 0.6 | AB16: =SUM(AC16:AF16) -> 0 | AG16: =SUM(AH16:AO16) -> 0 | AP16: 100 | AQ16: =$W16/C16 -> 0.009062349 | AR16: =IF(H16=0,"-",AB16/H16) -> - | AS16: =AG16/M16 -> 0 | AT16: =W16-'19-03'!W16 -> 0 | AU16: =AB16-'19-03'!AB16 -> 0 | AV16: =AG16-'19-03'!AG16 -> 0 | AW16: Xi măng Ứng trước 13/3
A17: 9 | B17: Huyện Lộc Hà | C17: =SUM(D17:G17) -> 19.548 | D17: 0.2 | E17: 4.131 | F17: 9.057 | G17: 6.16 | H17: =SUM(I17:L17) -> 16.942 | I17: 6.95 | J17: 6.182 | K17: 3.81 | L17: 0 | M17: =SUM(N17:U17) -> 6.89 | N17: 1 | O17: 0 | P17: 0.82 | Q17: 0 | R17: 3.02 | S17: 0 | T17: 2.05 | U17: 0 | V17: =D17*285.06+E17*177.37+(F17+G17)*114.51+N17*85.71653+O17*71.6475+P17*87.00383+Q17*58.25799+R17*72.16284+S17*60.90038+T17*76.51762+U17*50.57834 -> 3064.0787 | W17: =SUM(X17:AA17) -> 0 | AB17: =SUM(AC17:AF17) -> 0 | AG17: =SUM(AH17:AO17) -> 0 | AQ17: =$W17/C17 -> 0 | AR17: =IF(H17=0,"-",AB17/H17) -> 0 | AS17: =AG17/M17 -> 0 | AT17: =W17-'19-03'!W17 -> 0 | AU17: =AB17-'19-03'!AB17 -> 0 | AV17: =AG17-'19-03'!AG17 -> 0
A18: 10 | B18: Thị xã Kỳ Anh | C18: =SUM(D18:G18) -> 16.323 | D18: 0 | E18: 1.791 | F18: 13.442 | G18: 1.09 | H18: =SUM(I18:L18) -> 1.805 | I18: 0 | J18: 0.93 | K18: 0.875 | L18: 0 | M18: =SUM(N18:U18) -> 7.619 | N18: 0.375 | O18: 0 | P18: 0 | Q18: 0 | R18: 0.767 | S18: 0.612 | T18: 1.851 | U18: 4.014 | V18: =D18*285.06+E18*177.37+(F18+G18)*114.51+N18*85.71653+O18*71.6475+P18*87.00383+Q18*58.25799+R18*72.16284+S18*60.90038+T18*76.51762+U18*50.57834 -> 2451.1482 | W18: =SUM(X18:AA18) -> 0.25 | Z18: 0.25 | AB18: =SUM(AC18:AF18) -> 0 | AG18: =SUM(AH18:AO18) -> 0 | AP18: 30 | AQ18: =$W18/C18 -> 0.015315812 | AR18: =IF(H18=0,"-",AB18/H18) -> 0 | AS18: =AG18/M18 -> 0 | AT18: =W18-'19-03'!W18 -> 0.25 | AU18: =AB18-'19-03'!AB18 -> 0 | AV18: =AG18-'19-03'!AG18 -> 0
A19: 11 | B19: Thị xã Hồng Lĩnh | C19: =SUM(D19:G19) -> 4.209 | D19: 0 | E19: 4.125 | F19: 0.084 | G19: 0 | H19: =SUM(I19:L19) -> 2.473 | I19: 0 | J19: 2.473 | K19: 0 | L19: 0 | M19: =SUM(N19:U19) -> 7.431 | N19: 0 | O19: 0 | P19: 0 | Q19: 0 | R19: 0.512 | S19: 0 | T19: 6.719 | U19: 0.2 | V19: =D19*285.06+E19*177.37+(F19+G19)*114.51+N19*85.71653+O19*71.6475+P19*87.00383+Q19*58.25799+R19*72.16284+S19*60.90038+T19*76.51762+U19*50.57834 -> 1302.455 | W19: =SUM(X19:AA19) -> 0 | AB19: =SUM(AC19:AF19) -> 0 | AG19: =SUM(AH19:AO19) -> 0 | AQ19: =$W19/C19 -> 0 | AR19: =IF(H19=0,"-",AB19/H19) -> 0 | AS19: =AG19/M19 -> 0 | AT19: =W19-'19-03'!W19 -> 0 | AU19: =AB19-'19-03'!AB19 -> 0 | AV19: =AG19-'19-03'!AG19 -> 0
A20: 12 | B20: Huyện Hương Khê | C20: =SUM(D20:G20) -> 36.434 | D20: 0.65 | E20: 7.894 | F20: 19.367 | G20: 8.523 | H20: =SUM(I20:L20) -> 13.15 | I20: 11.15 | J20: 2 | K20: 0 | L20: 0 | M20: =SUM(N20:U20) -> 8.26 | N20: 0.36 | O20: 2.13 | P20: 0 | Q20: 0 | R20: 1.5 | S20: 3.195 | T20: 0 | U20: 1.075 | V20: =D20*285.06+E20*177.37+(F20+G20)*114.51+N20*85.71653+O20*71.6475+P20*87.00383+Q20*58.25799+R20*72.16284+S20*60.90038+T20*76.51762+U20*50.57834 -> 5319.7915 | W20: =SUM(X20:AA20) -> 0 | AB20: =SUM(AC20:AF20) -> 0 | AG20: =SUM(AH20:AO20) -> 0 | AP20: 8 | AQ20: =$W20/C20 -> 0 | AR20: =IF(H20=0,"-",AB20/H20) -> 0 | AS20: =AG20/M20 -> 0 | AT20: =W20-'19-03'!W20 -> 0 | AU20: =AB20-'19-03'!AB20 -> 0 | AV20: =AG20-'19-03'!AG20 -> 0
A21: 13 | B21: Huyện Vũ Quang | C21: =SUM(D21:G21) -> 6.795 | D21: 0 | E21: 2 | F21: 3.775 | G21: 1.02 | H21: =SUM(I21:L21) -> 0 | I21: 0 | J21: 0 | K21: 0 | L21: 0 | M21: =SUM(N21:U21) -> 1.17 | N21: 0.64 | O21: 0 | P21: 0.53 | Q21: 0 | R21: 0 | S21: 0 | T21: 0 | U21: 0 | V21: =D21*285.06+E21*177.37+(F21+G21)*114.51+N21*85.71653+O21*71.6475+P21*87.00383+Q21*58.25799+R21*72.16284+S21*60.90038+T21*76.51762+U21*50.57834 -> 1004.7861 | W21: =SUM(X21:AA21) -> 0 | AB21: =SUM(AC21:AF21) -> 0 | AG21: =SUM(AH21:AO21) -> 0 | AQ21: =$W21/C21 -> 0 | AR21: =IF(H21=0,"-",AB21/H21) -> - | AS21: =AG21/M21 -> 0 | AT21: =W21-'19-03'!W21 -> 0 | AU21: =AB21-'19-03'!AB21 -> 0 | AV21: =AG21-'19-03'!AG21 -> 0
B22: Tổng cộng | C22: =SUM(C9:C21) -> 432.2993 | D22: =SUM(D9:D21) -> 8.6112 | E22: =SUM(E9:E21) -> 82.072 | F22: =SUM(F9:F21) -> 248.6441 | G22: =SUM(G9:G21) -> 92.972 | H22: =SUM(H9:H21) -> 106.947 | I22: =SUM(I9:I21) -> 31.37 | J22: =SUM(J9:J21) -> 57.017 | ... AP22: =SUM(AP9:AP21) -> 2046.6 | AQ22: =$W22/C22 -> 0.02629197 | AR22: =IF(H22=0,"-",AB22/H22) -> 0 | AS22: =AG22/M22 -> 0.034758789 | AT22: =W22-'19-03'!W22 -> 4.654 | AU22: =AB22-'19-03'!AB22 -> 0 | AV22: =AG22-'19-03'!AG22 -> 4.6
AP24: =+AP22/V22 -> 0.030266802

Sheet 03-4
B1: UỶ BAN NHÂN DÂN TỈNH HÀ TĨNH
B2: SỞ GIAO THÔNG VẬN TẢI
A3: PHỤ LỤC 1: BÁO CÁO KẾT QUẢ THỰC HIỆN KẾ HOẠCH LÀM ĐƯỜNG GTNT, RÃNH THOÁT NƯỚC, PHỤC HỒI NÂNG CẤP MẶT ĐƯỜNG BTXM ĐẾN NGÀY 02/4/2020
A5: TT | B5: Huyện, thị xã, thành phố | C5: Khối lượng theo kế hoạch UBND tỉnh | W5: Kết quả thực hiện lũy kế đến thời điểm báo cáo | AQ5: Mức độ hoàn thành kế hoạch đầu năm | AT5: Tăng so với tuần trước | AW5: Ghi chú:
C6: Đường giao thông (km) | D6: Trong đó | H6: Nâng cấp phục hồi mặt đường BTXM (km) | I6: Trong đó | M6: Rãnh thoát nước (km) | N6: Rãnh trên đường trục xã | R6: Rãnh trên đường trục thôn | V6: Tổng khối lượng xi măng (tấn) | W6: Đường giao thông (km) | X6: Trong đó | AB6: Nâng cấp phục hồi mặt đường BTXM (km) | AC6: Trong đó | AG6: Rãnh thoát nước (km) | AH6: Rãnh trên đường trục xã | AL6: Rãnh trên đường trục thôn | AP6: Tổng khối lượng xi măng đã nhận (tấn) | AQ6: Đường giao thông (%) | AR6: Nâng cấp phục hồi mặt đường BTXM (%) | AS6: Rãnh thoát nước (%) | AT6: Đường giao thông (km) | AU6: Nâng cấp phục hồi mặt đường BTXM (km) | AV6: Rãnh thoát nước (km)
D7: Đường trục xã và đường phố (km) | E7: Đường trục thôn, xóm và đường ngõ phố (km) | F7: Đường ngõ, xóm và đường ngách hẻm (km) | G7: Đường trục chính nội đồng (km) | I7: Đường trục xã và đường phố (km) | J7: Đường trục thôn, xóm và đường ngõ phố (km) | K7: Đường ngõ, xóm và đường ngách hẻm (km) | L7: Đường trục chính nội đồng (km) | N7: Rãnh BTXM có nắp đậy | O7: Rãnh BTXM không có nắp đậy | P7: Rãnh Gạch xây có nắp đậy | Q7: Rãnh Gạch xây không có nắp đậy | R7: Rãnh BTXM có nắp đậy | S7: Rãnh BTXM không có nắp đậy | T7: Rãnh Gạch xây có nắp đậy | U7: Rãnh Gạch xây không có nắp đậy | X7: Đường trục xã và đường phố (km) | Y7: Đường trục thôn, xóm và đường ngõ phố (km) | Z7: Đường ngõ, xóm và đường ngách hẻm (km) | AA7: Đường trục chính nội đồng (km) | AC7: Đường trục xã và đường phố (km) | AD7: Đường trục thôn, xóm và đường ngõ phố (km) | AE7: Đường ngõ, xóm và đường ngách hẻm (km) | AF7: Đường trục chính nội đồng (km) | AH7: Rãnh BTXM có nắp đậy | AI7: Rãnh BTXM không có nắp đậy | AJ7: Rãnh Gạch xây có nắp đậy | AK7: Rãnh Gạch xây không có nắp đậy | AL7: Rãnh BTXM có nắp đậy | AM7: Rãnh BTXM không có nắp đậy | AN7: Rãnh Gạch xây có nắp đậy | AO7: Rãnh Gạch xây không có nắp đậy
A8: 1 | B8: 2 | C8: 3 | D8: 4 | E8: 5 | F8: 6 | G8: 7 | H8: 8 | I8: 9 | J8: 10 | K8: 11 | L8: 12 | M8: 13 | N8: 14 | O8: 15 | P8: 16 | Q8: 17 | R8: 18 | S8: 19 | T8: 20 | U8: 21 | V8: 22 | W8: 23 | X8: 24 | Y8: 25 | Z8: 26 | AA8: 27 | AB8: 28 | AC8: 29 | AD8: 30 | AE8: 31 | AF8: 32 | AG8: 33 | AH8: 34 | AI8: 35 | AJ8: 36 | AK8: 37 | AL8: 38 | AM8: 39 | AN8: 40 | AO8: 41 | AP8: 42 | AQ8: 43 | AR8: 44 | AS8: 45 | AT8: 69 | AU8: 70 | AV8: 71
