Workbook

Sheet 15.4
B1: UỶ BAN NHÂN DÂN TỈNH HÀ TĨNH
B2: SỞ GIAO THÔNG VẬN TẢI
A3: BÁO CÁO KẾT QUẢ THỰC HIỆN KẾ HOẠCH LÀM ĐƯỜNG GIAO THÔNG, RÃNH THOÁT NƯỚC, PHỤC HỒI MẶT ĐƯỜNG BTXM THEO CƠ CHẾ HỖ TRỢ CỦA TỈNH ĐẾN NGÀY 15/4/2021
A5: TT | B5: Huyện, thị xã, thành phố | C5: Khối lượng theo kế hoạch UBND tỉnh | W5: Kết quả thực hiện lũy kế đến thời điểm báo cáo | AQ5: Mức độ hoàn thành kế hoạch đầu năm | AT5: Tăng so với tuần trước | BA5: Định mức cho 1 km đường (tấn/km) | BG5: Định mức xi măng tính cho 1km rãnh (tấn/km)
C6: Đường giao thông (km) | D6: Trong đó | H6: Nâng cấp phục hồi mặt đường BTXM (km) | I6: Trong đó | M6: Rãnh thoát nước (km) | N6: Rãnh trên đường trục xã | R6: Rãnh trên đường trục thôn | V6: Tổng khối lượng xi măng (tấn) | W6: Đường giao thông (km) | X6: Trong đó | AB6: Nâng cấp phục hồi mặt đường BTXM (km) | AC6: Trong đó | AG6: Rãnh thoát nước (km) | AH6: Rãnh trên đường trục xã | AL6: Rãnh trên đường trục thôn | AP6: Tổng khối lượng xi măng đã nhận (tấn) | AQ6: Đường giao thông (%) | AR6: Nâng cấp phục hồi mặt đường BTXM (%) | AS6: Rãnh thoát nước (%) | AT6: Đường giao thông (km) | AU6: Nâng cấp phục hồi mặt đường BTXM (km) | AV6: Rãnh thoát nước (km) | BA6: Loại đường | BB6: ĐMXM theo 3212 | BC6: ĐMXM theo TT10.2019 | BD6: Chênh | BG6: Loại rãnh | BH6: ĐMXM theo 3212 | BI6: ĐMXM theo TT10.2019 | BJ6: Chênh
D7: Đường trục xã và đường phố (km) | E7: Đường trục thôn, xóm và đường ngõ phố (km) | F7: Đường ngõ, xóm và đường ngách hẻm (km) | G7: Đường trục chính nội đồng (km) | I7: Đường trục xã và đường phố (km) | J7: Đường trục thôn, xóm và đường ngõ phố (km) | K7: Đường ngõ, xóm và đường ngách hẻm (km) | L7: Đường trục chính nội đồng (km) | N7: Rãnh BTXM có nắp đậy | O7: Rãnh BTXM không có nắp đậy | P7: Rãnh Gạch xây có nắp đậy | Q7: Rãnh Gạch xây không có nắp đậy | R7: Rãnh BTXM có nắp đậy | S7: Rãnh BTXM không có nắp đậy | T7: Rãnh Gạch xây có nắp đậy | U7: Rãnh Gạch xây không có nắp đậy | X7: Đường trục xã và đường phố (km) | Y7: Đường trục thôn, xóm và đường ngõ phố (km) | Z7: Đường ngõ, xóm và đường ngách hẻm (km) | AA7: Đường trục chính nội đồng (km) | AC7: Đường trục xã và đường phố (km) | AD7: Đường trục thôn, xóm và đường ngõ phố (km) | AE7: Đường ngõ, xóm và đường ngách hẻm (km) | AF7: Tổng diện tích (m2) | AH7: Rãnh BTXM có nắp đậy | AI7: Rãnh BTXM không có nắp đậy | AJ7: Rãnh Gạch xây có nắp đậy | AK7: Rãnh Gạch xây không có nắp đậy | AL7: Rãnh BTXM có nắp đậy | AM7: Rãnh BTXM không có nắp đậy | AN7: Rãnh Gạch xây có nắp đậy | AO7: Rãnh Gạch xây không có nắp đậy | BA7: Trục xã | BB7: =ROUNDUP(5*0.18*1000*309/1000*1.025,2) -> 285.06 | BC7: =ROUND(5*0.18*1000*284/1000*1.025,2) -> 261.99 | BD7: =+BC7-BB7 -> -23.07 | BG7: Rãnh trục xã
A8: 1 | B8: 2 | C8: 3 | D8: 4 | E8: 5 | F8: 6 | G8: 7 | H8: 8 | I8: 9 | J8: 10 | K8: 11 | L8: 12 | M8: 13 | N8: 14 | O8: 15 | P8: 16 | Q8: 17 | R8: 18 | S8: 19 | T8: 20 | U8: 21 | V8: 22 | W8: 23 | X8: 24 | Y8: 25 | Z8: 26 | AA8: 27 | AB8: 28 | AC8: 29 | AD8: 30 | AE8: 31 | AF8: 32 | AG8: 33 | AH8: 34 | AI8: 35 | AJ8: 36 | AK8: 37 | AL8: 38 | AM8: 39 | AN8: 40 | AO8: 41 | AP8: 42 | AQ8: 43 | AR8: 44 | AS8: 45 | AT8: 69 | AU8: 70 | AV8: 71 | BA8: Trục thôn | BB8: =ROUND(3.5*0.16*1000*309/1000*1.025,2) -> 177.37 | BC8: =ROUND(3.5*0.16*1000*284/1000*1.025,2) -> 163.02 | BD8: =+BC8-BB8 -> -14.35 | BG8: Rãnh BTXM có nắp | BH8: 85.72 | BI8: 79.66 | BJ8: =+BI8-BH8 -> -6.06
A9: I | B9: Huyện miền núi | AF9: =(AC9*5+AD9*3.5)*1000 -> 0
A10: 1 | B10: Huyện Kỳ Anh | C10: =SUM(D10:G10) -> 58.41 | D10: 1.83 | E10: 10.19 | F10: 38.71 | G10: 7.68 | H10: =SUM(I10:L10) -> 6.2 | I10: 0 | J10: 5.3 | K10: 0.9 | M10: =SUM(N10:U10) -> 57.37 | N10: 1 | O10: 5.38 | P10: 2.48 | Q10: 3.28 | R10: 0.54 | S10: 23.22 | T10: 2.36 | U10: 19.11 | V10: 10271 | W10: =SUM(X10:AA10) -> 3.141 | X10: 0 | Y10: 0.21 | Z10: 2.716 | AA10: 0.215 | AB10: =SUM(AC10:AE10) -> 0 | AF10: =(AC10*5+AD10*3.5)*1000 -> 0 | AG10: =+SUM(AH10:AO10) -> 2.64 | AH10: 0 | AI10: 0 | AJ10: 0 | AK10: 0.8 | AL10: 0 | AM10: 0 | AN10: 0.14 | AO10: 1.7 | AP10: 428 | AQ10: =$W10/C10 -> 0.053775039 | AR10: =IF(H10=0,"-",AB10/H10) -> 0 | AS10: =AG10/M10 -> 0.046017082 | AT10: =W10-'[1]10-12'!W9 -> -36.5295 | AU10: =AB10-'[1]10-12'!AB9 -> -0.92 | AV10: =AG10-'[1]10-12'!AG9 -> -36.439 | AX10: 7013 | AY10: 3258 | AZ10: =+AX10+AY10 -> 10271 | BA10: Ngõ xóm | BB10: =ROUND(3*0.14*1000*266/1000*1.025,2) -> 114.51 | BC10: =ROUND(3*0.14*1000*244/1000*1.025,2) -> 105.04 | BD10: =+BC10-BB10 -> -9.47 | BG10: Rãnh BTXM không nắp | BH10: 71.65 | BI10: 66.73 | BJ10: =+BI10-BH10 -> -4.92
A11: 2 | B11: Huyện Hương Sơn | C11: =SUM(D11:G11) -> 28.7 | D11: - | E11: 5.2 | F11: 20.2 | G11: 3.3 | H11: =SUM(I11:L11) -> 5.5 | I11: 0 | J11: 5.5 | K11: 0 | M11: =SUM(N11:U11) -> 13.94 | N11: 0.6 | O11: 0.5 | P11: 0.12 | Q11: 0.1 | R11: 1.6 | S11: 3.92 | T11: 1.71 | U11: 5.39 | V11: 4122 | W11: =SUM(X11:AA11) -> 0 | AB11: =SUM(AC11:AE11) -> 0 | AF11: =(AC11*5+AD11*3.5)*1000 -> 0 | AG11: =+SUM(AH11:AO11) -> 0 | AQ11: =$W11/C11 -> 0 | AR11: =IF(H11=0,"-",AB11/H11) -> 0 | AS11: =AG11/M11 -> 0 | AT11: =W11-'[1]10-12'!W10 -> -52.71 | AU11: =AB11-'[1]10-12'!AB10 -> -1.65 | AV11: =AG11-'[1]10-12'!AG10 -> -9.161 | AX11: 3316 | AY11: 806 | AZ11: =+AX11+AY11 -> 4122 | BG11: Rãnh gạch xây có nắp | BH11: 87 | BI11: 81.34 | BJ11: =+BI11-BH11 -> -5.66
A12: 3 | B12: Huyện Hương Khê | C12: =SUM(D12:G12) -> 83.71 | D12: 0.36 | E12: 13.42 | F12: 53.2 | G12: 16.73 | H12: =SUM(I12:L12) -> 1.5 | I12: 1.5 | J12: 0 | K12: 0 | M12: =SUM(N12:U12) -> 17.11 | N12: 0.79 | O12: 1.83 | P12: 2.15 | Q12: 0.35 | R12: 0.52 | S12: 11.22 | T12: 0 | U12: 0.25 | V12: 10689 | W12: =SUM(X12:AA12) -> 0 | AB12: =SUM(AC12:AE12) -> 0 | AF12: =(AC12*5+AD12*3.5)*1000 -> 0 | AG12: =+SUM(AH12:AO12) -> 0 | AQ12: =$W12/C12 -> 0 | AR12: =IF(H12=0,"-",AB12/H12) -> 0 | AS12: =AG12/M12 -> 0 | AT12: =W12-'[1]10-12'!W11 -> -12.382 | AU12: =AB12-'[1]10-12'!AB11 -> -6.4 | AV12: =AG12-'[1]10-12'!AG11 -> -5.432 | AX12: 9627 | AY12: 1062 | AZ12: =+AX12+AY12 -> 10689 | BG12: Rãnh gạch xây không nắp | BH12: 58.26 | BI12: 55.2 | BJ12: =+BI12-BH12 -> -3.06
A13: 4 | B13: Huyện Vũ Quang | C13: =SUM(D13:G13) -> 13.77 | D13: 0.72 | E13: 1.69 | F13: 8.34 | G13: 3.02 | H13: =SUM(I13:L13) -> 0.9 | I13: 0 | J13: 0.9 | K13: 0 | M13: =SUM(N13:U13) -> 1.18 | N13: 0 | O13: 0 | P13: 0 | Q13: 0 | R13: 0.32 | S13: 0.86 | T13: 0 | U13: 0 | V13: 1727 | W13: =SUM(X13:AA13) -> 0 | AB13: =SUM(AC13:AE13) -> 0.33 | AD13: 0.33 | AF13: =(AC13*5+AD13*3.5)*1000 -> 1155 | AG13: =+SUM(AH13:AO13) -> 0 | AQ13: =$W13/C13 -> 0 | AR13: =IF(H13=0,"-",AB13/H13) -> 0.36666667 | AS13: =AG13/M13 -> 0 | AT13: =W13-'[1]10-12'!W12 -> -91.966 | AU13: =AB13-'[1]10-12'!AB12 -> -14.066 | AV13: =AG13-'[1]10-12'!AG12 -> -8.629 | AX13: 1657 | AY13: 70 | AZ13: =+AX13+AY13 -> 1727 | BG13: Rãnh trục thôn
A14: II | B14: Các địa phương khác
A15: 1 | B15: Thị xã Kỳ Anh | C15: =SUM(D15:G15) -> 16.11 | D15: - | E15: 5.31 | F15: 10.8 | G15: - | H15: =SUM(I15:L15) -> 0.42 | I15: 0 | J15: 0.12 | K15: 0.3 | M15: =SUM(N15:U15) -> 8.87 | N15: 0 | O15: 0 | P15: 0 | Q15: 0 | R15: 1.56 | S15: 5.86 | T15: 1.45 | U15: - | V15: 2541 | W15: =SUM(X15:AA15) -> 0 | AB15: =SUM(AC15:AE15) -> 0 | AF15: =(AC15*5+AD15*3.5)*1000 -> 0 | AG15: =+SUM(AH15:AO15) -> 0 | AQ15: =$W15/C15 -> 0 | AR15: =IF(H15=0,"-",AB15/H15) -> 0 | AS15: =AG15/M15 -> 0 | AT15: =W15-'[1]10-12'!W13 -> -37.303 | AU15: =AB15-'[1]10-12'!AB13 -> -10 | AV15: =AG15-'[1]10-12'!AG13 -> -13.838 | AX15: 2000 | AY15: 541 | AZ15: =+AX15+AY15 -> 2541 | BG15: Rãnh BTXM có nắp | BH15: 72.16 | BI15: 67.06 | BJ15: =+BI15-BH15 -> -5.1
A16: 2 | B16: Huyện Cẩm Xuyên | C16: =SUM(D16:G16) -> 80.01 | D16: 3.05 | E16: 22.12 | F16: 43.28 | G16: 11.56 | H16: =SUM(I16:L16) -> 12.4 | I16: 4.5 | J16: 5.9 | K16: 2 | M16: =SUM(N16:U16) -> 7.55 | N16: 2.1 | O16: 2.5 | P16: 0 | Q16: 0 | R16: 0.89 | S16: 0.75 | T16: 0.3 | U16: 1.01 | V16: 10671 | W16: =SUM(X16:AA16) -> 5.25 | Y16: 1.45 | Z16: 3.3 | AA16: 0.5 | AB16: =SUM(AC16:AE16) -> 0 | AF16: =(AC16*5+AD16*3.5)*1000 -> 0 | AG16: =+SUM(AH16:AO16) -> 1.75 | AH16: 1.1 | AL16: 0.65 | AQ16: =$W16/C16 -> 0.065616798 | AS16: =AG16/M16 -> 0.23178808 | AT16: =W16-'[1]10-12'!W14 -> -7.078 | AU16: =AB16-'[1]10-12'!AB14 -> 0 | AV16: =AG16-'[1]10-12'!AG14 -> -0.566 | AX16: 10165 | AY16: 506 | AZ16: =+AX16+AY16 -> 10671 | BG16: Rãnh BTXM không nắp | BH16: 60.9 | BI16: 56.72 | BJ16: =+BI16-BH16 -> -4.18
A17: 3 | B17: Thành phố Hà Tĩnh | C17: =SUM(D17:G17) -> 15.29 | D17: - | E17: 4.18 | F17: 8.78 | G17: 2.33 | H17: =SUM(I17:L17) -> 12.7 | I17: 0 | J17: 8.5 | K17: 4.2 | M17: =SUM(N17:U17) -> 6.95 | N17: 6.32 | O17: 0 | P17: 0 | Q17: 0 | R17: 0.63 | S17: 0 | T17: 0 | U17: 0 | V17: 2394 | W17: =SUM(X17:AA17) -> 0.95 | Y17: 0.19 | Z17: 0.76 | AB17: =SUM(AC17:AE17) -> 2.91 | AE17: 2.91 | AF17: =(AC17*5+AD17*3.5)*1000 -> 0 | AG17: =+SUM(AH17:AO17) -> 0.26 | AL17: 0.26 | AP17: 294 | AQ17: =$W17/C17 -> 0.062132112 | AR17: =IF(H17=0,"-",AB17/H17) -> 0.22913386 | AS17: =AG17/M17 -> 0.037410072 | AT17: =W17-'[1]10-12'!W15 -> -17.51 | AU17: =AB17-'[1]10-12'!AB15 -> 2.91 | AV17: =AG17-'[1]10-12'!AG15 -> -0.78 | AX17: 1848 | AY17: 546 | AZ17: =+AX17+AY17 -> 2394 | BG17: Rãnh gạch xây có nắp | BH17: 76.52 | BI17: 71.44 | BJ17: =+BI17-BH17 -> -5.08
A18: 4 | B18: Huyện Thạch Hà | C18: =SUM(D18:G18) -> 97.59 | D18: 8.17 | E18: 7.68 | F18: 40.79 | G18: 40.95 | H18: =SUM(I18:L18) -> 30.29 | I18: 8.3 | J18: 17.8 | K18: 4.19 | M18: =SUM(N18:U18) -> 7.45 | N18: 0.9 | O18: 0.42 | P18: 0 | Q18: 0.35 | R18: 1.88 | S18: 3.4 | T18: 0.1 | U18: 0.4 | V18: 12442 | W18: =SUM(X18:AA18) -> 11.714 | X18: 0 | Y18: 1.64 | Z18: 7.054 | AA18: 3.02 | AB18: =SUM(AC18:AE18) -> 6.218 | AC18: 1.5 | AD18: 4.718 | AE18: 0 | AF18: =(AC18*5+AD18*3.5)*1000 -> 24013 | AG18: =+SUM(AH18:AO18) -> 1.01 | AH18: 0 | AI18: 0.19 | AJ18: 0 | AK18: 0 | AL18: 0.29 | AM18: 0.35 | AN18: 0.18 | AO18: 0 | AP18: 1642 | AQ18: =$W18/C18 -> 0.12003279 | AS18: =AG18/M18 -> 0.13557047 | AT18: =W18-'[1]10-12'!W16 -> -46.656 | AU18: =AB18-'[1]10-12'!AB16 -> 6.218 | AV18: =AG18-'[1]10-12'!AG16 -> -43.7 | AX18: 11978 | AY18: 464 | AZ18: =+AX18+AY18 -> 12442 | BG18: Rãnh gạch xây không nắp | BH18: 50.58 | BI18: 47.89 | BJ18: =+BI18-BH18 -> -2.69
A19: 5 | B19: Huyện Can Lộc | C19: =SUM(D19:G19) -> 86.61 | D19: 0.4 | E19: 14.6 | F19: 53.25 | G19: 18.36 | H19: =SUM(I19:L19) -> 28.88 | I19: 10.7 | J19: 17.4 | K19: 0.78 | M19: =SUM(N19:U19) -> 28.57 | N19: 0.81 | O19: 0 | P19: 1.53 | Q19: 0 | R19: 8.38 | S19: 0 | T19: 17.85 | U19: 0 | V19: 12033 | W19: =SUM(X19:AA19) -> 4.56 | X19: 0 | Y19: 2.73 | Z19: 1.83 | AA19: 0 | AB19: =SUM(AC19:AE19) -> 4.126 | AD19: 4.126 | AF19: =(AC19*5+AD19*3.5)*1000 -> 14441 | AG19: =+SUM(AH19:AO19) -> 1.665 | AN19: 1.665 | AP19: 804 | AQ19: =$W19/C19 -> 0.052649809 | AR19: =IF(H19=0,"-",AB19/H19) -> 0.14286704 | AS19: =AG19/M19 -> 0.058277914 | AT19: =W19-'[1]10-12'!W17 -> -13.169 | AU19: =AB19-'[1]10-12'!AB17 -> -7.177 | AV19: =AG19-'[1]10-12'!AG17 -> -2.055 | AX19: 10007 | AY19: 2026 | AZ19: =+AX19+AY19 -> 12033
A20: 6 | B20: Huyện Đức Thọ | C20: =SUM(D20:G20) -> 28.4 | D20: - | E20: 2.4 | F20: 23.6 | G20: 2.4 | H20: =SUM(I20:L20) -> 10.08 | I20: 4 | J20: 3.95 | K20: 2.13 | M20: =SUM(N20:U20) -> 3.1 | N20: 0 | O20: 0 | P20: 0 | Q20: 0 | R20: 3.1 | S20: 0 | T20: 0 | U20: 0 | V20: 3330 | W20: =SUM(X20:AA20) -> 4.09 | X20: 0.5 | Y20: 0 | Z20: 3.59 | AB20: =SUM(AC20:AE20) -> 0 | AF20: =(AC20*5+AD20*3.5)*1000 -> 0 | AG20: =+SUM(AH20:AO20) -> 0 | AP20: 547 | AQ20: =$W20/C20 -> 0.14401408 | AR20: =IF(H20=0,"-",AB20/H20) -> 0 | AS20: =AG20/M20 -> 0 | AT20: =W20-'[1]10-12'!W18 -> -8.421 | AU20: =AB20-'[1]10-12'!AB18 -> 0 | AV20: =AG20-'[1]10-12'!AG18 -> -5.037 | AX20: 3122 | AY20: 208 | AZ20: =+AX20+AY20 -> 3330
A21: 7 | B21: Huyện Nghi Xuân | C21: =SUM(D21:G21) -> 17 | D21: 0.29 | E21: 4.27 | F21: 6.57 | G21: 5.87 | H21: =SUM(I21:L21) -> 3.03 | I21: 1.8 | J21: 1.03 | K21: 0.2 | M21: =SUM(N21:U21) -> 5.28 | N21: 0 | O21: 0 | P21: 0.85 | Q21: 0 | R21: 0 | S21: 1.55 | T21: 2 | U21: 0.88 | V21: 2421 | W21: =SUM(X21:AA21) -> 0 | AB21: =SUM(AC21:AE21) -> 0.156 | AD21: 0.156 | AF21: =(AC21*5+AD21*3.5)*1000 -> 546 | AG21: =+SUM(AH21:AO21) -> 0 | AQ21: =$W21/C21 -> 0 | AR21: =IF(H21=0,"-",AB21/H21) -> 0.051485149 | AS21: =AG21/M21 -> 0 | AT21: =W21-'[1]10-12'!W19 -> -3.499 | AU21: =AB21-'[1]10-12'!AB19 -> -0.624 | AV21: =AG21-'[1]10-12'!AG19 -> -6.279 | AX21: 2079 | AY21: 342 | AZ21: =+AX21+AY21 -> 2421
A22: 8 | B22: Thị xã Hồng Lĩnh | C22: =SUM(D22:G22) -> 9.42 | D22: - | E22: 8.58 | F22: 0.34 | G22: 0.5 | H22: =SUM(I22:L22) -> 6 | I22: 0.7 | J22: 5.3 | K22: 0 | M22: =SUM(N22:U22) -> 16.37 | N22: 0 | O22: 0 | P22: 0 | Q22: 0 | R22: 7.93 | S22: 0 | T22: 8.44 | U22: 0 | V22: 2622 | W22: =SUM(X22:AA22) -> 1.534 | Y22: 1.534 | AB22: =SUM(AC22:AE22) -> 0 | AF22: =(AC22*5+AD22*3.5)*1000 -> 0 | AG22: =+SUM(AH22:AO22) -> 2.184 | AL22: 2.184 | AQ22: =$W22/C22 -> 0.16284501 | AR22: =IF(H22=0,"-",AB22/H22) -> 0 | AS22: =AG22/M22 -> 0.13341478 | AT22: =W22-'[1]10-12'!W20 -> -30.37 | AU22: =AB22-'[1]10-12'!AB20 -> 0 | AV22: =AG22-'[1]10-12'!AG20 -> -6.103 | AX22: 1487 | AY22: 1135 | AZ22: =+AX22+AY22 -> 2622
A23: 9 | B23: Huyện Lộc Hà | C23: =SUM(D23:G23) -> 25.51 | D23: - | E23: 1.93 | F23: 14.39 | G23: 9.19 | H23: =SUM(I23:L23) -> 32.1 | I23: 1.9 | J23: 23.7 | K23: 6.5 | M23: =SUM(N23:U23) -> 9.32 | N23: 0.37 | O23: 0 | P23: 0 | Q23: 0 | R23: 6.25 | S23: 0 | T23: 2.7 | U23: 0 | V23: 3432 | W23: =SUM(X23:AA23) -> 0 | AB23: =SUM(AC23:AE23) -> 4.51 | AC23: 1.91 | AD23: 1.2 | AE23: 1.4 | AF23: =(AC23*5+AD23*3.5)*1000 -> 13750 | AG23: =+SUM(AH23:AO23) -> 0 | AQ23: =$W23/C23 -> 0 | AR23: =IF(H23=0,"-",AB23/H23) -> 0.14049844 | AS23: =AG23/M23 -> 0 | AT23: =W23-'[1]10-12'!W21 -> -6.795 | AU23: =AB23-'[1]10-12'!AB21 -> 4.51 | AV23: =AG23-'[1]10-12'!AG21 -> -1.17 | AX23: 2791 | AY23: 641 | AZ23: =+AX23+AY23 -> 3432
B24: Tổng cộng | C24: =SUM(C10:C23) -> 560.53 | D24: =SUM(D10:D23) -> 14.82 | E24: =SUM(E10:E23) -> 101.57 | F24: =SUM(F10:F23) -> 322.25 | G24: =SUM(G10:G23) -> 121.89 | H24: =SUM(H10:H23) -> 150 | I24: =SUM(I10:I23) -> 33.4 | J24: =SUM(J10:J23) -> 95.4 | ... AP24: =SUM(AP10:AP23) -> 3715 | AQ24: =$W24/C24 -> 0.055731183 | AR24: =IF(H24=0,"-",AB24/H24) -> 0.12166667 | AS24: =AG24/M24 -> 0.051944718 | AT24: =SUM(AT10:AT23) -> -364.3885 | AU24: =SUM(AU10:AU23) -> -27.199 | AV24: =SUM(AV10:AV23) -> -139.189
AX25: =+SUM(AX10:AX23) -> 67090 | AY25: =+SUM(AY10:AY23) -> 11605 | AZ25: =+SUM(AZ10:AZ23) -> 78695
AP26: =+AP24/V24 -> 0.047207574
AZ41: =11+7+5+1 -> 24

Sheet 22.4
B1: UỶ BAN NHÂN DÂN TỈNH HÀ TĨNH
B2: SỞ GIAO THÔNG VẬN TẢI
A3: BÁO CÁO KẾT QUẢ THỰC HIỆN KẾ HOẠCH LÀM ĐƯỜNG GIAO THÔNG, RÃNH THOÁT NƯỚC, PHỤC HỒI MẶT ĐƯỜNG BTXM THEO CƠ CHẾ HỖ TRỢ CỦA TỈNH ĐẾN NGÀY 22/4/2021
A5: TT | B5: Huyện, thị xã, thành phố | C5: Khối lượng theo kế hoạch UBND tỉnh | W5: Kết quả thực hiện lũy kế đến thời điểm báo cáo | AQ5: Mức độ hoàn thành kế hoạch đầu năm | AT5: Tăng so với tuần trước | BA5: Định mức cho 1 km đường (tấn/km) | BG5: Định mức xi măng tính cho 1km rãnh (tấn/km)
C6: Đường giao thông (km) | D6: Trong đó | H6: Nâng cấp phục hồi mặt đường BTXM (km) | I6: Trong đó | M6: Rãnh thoát nước (km) | N6: Rãnh trên đường trục xã | R6: Rãnh trên đường trục thôn | V6: Tổng khối lượng xi măng (tấn) | W6: Đường giao thông (km) | X6: Trong đó | AB6: Nâng cấp phục hồi mặt đường BTXM (km) | AC6: Trong đó | AG6: Rãnh thoát nước (km) | AH6: Rãnh trên đường trục xã | AL6: Rãnh trên đường trục thôn | AP6: Tổng khối lượng xi măng đã nhận (tấn) | AQ6: Đường giao thông (%) | AR6: Nâng cấp phục hồi mặt đường BTXM (%) | AS6: Rãnh thoát nước (%) | AT6: Đường giao thông (km) | AU6: Nâng cấp phục hồi mặt đường BTXM (km) | AV6: Rãnh thoát nước (km) | BA6: Loại đường | BB6: ĐMXM theo 3212 | BC6: ĐMXM theo TT10.2019 | BD6: Chênh | BG6: Loại rãnh | BH6: ĐMXM theo 3212 | BI6: ĐMXM theo TT10.2019 | BJ6: Chênh
D7: Đường trục xã và đường phố (km) | E7: Đường trục thôn, xóm và đường ngõ phố (km) | F7: Đường ngõ, xóm và đường ngách hẻm (km) | G7: Đường trục chính nội đồng (km) | I7: Đường trục xã và đường phố (km) | J7: Đường trục thôn, xóm và đường ngõ phố (km) | K7: Đường ngõ, xóm và đường ngách hẻm (km) | L7: Đường trục chính nội đồng (km) | N7: Rãnh BTXM có nắp đậy | O7: Rãnh BTXM không có nắp đậy | P7: Rãnh Gạch xây có nắp đậy | Q7: Rãnh Gạch xây không có nắp đậy | R7: Rãnh BTXM có nắp đậy | S7: Rãnh BTXM không có nắp đậy | T7: Rãnh Gạch xây có nắp đậy | U7: Rãnh Gạch xây không có nắp đậy | X7: Đường trục xã và đường phố (km) | Y7: Đường trục thôn, xóm và đường ngõ phố (km) | Z7: Đường ngõ, xóm và đường ngách hẻm (km) | AA7: Đường trục chính nội đồng (km) | AC7: Đường trục xã và đường phố (km) | AD7: Đường trục thôn, xóm và đường ngõ phố (km) | AE7: Đường ngõ, xóm và đường ngách hẻm (km) | AF7: Tổng diện tích (m2) | AH7: Rãnh BTXM có nắp đậy | AI7: Rãnh BTXM không có nắp đậy | AJ7: Rãnh Gạch xây có nắp đậy | AK7: Rãnh Gạch xây không có nắp đậy | AL7: Rãnh BTXM có nắp đậy | AM7: Rãnh BTXM không có nắp đậy | AN7: Rãnh Gạch xây có nắp đậy | AO7: Rãnh Gạch xây không có nắp đậy | BA7: Trục xã | BB7: =ROUNDUP(5*0.18*1000*309/1000*1.025,2) -> 285.06 | BC7: =ROUND(5*0.18*1000*284/1000*1.025,2) -> 261.99 | BD7: =+BC7-BB7 -> -23.07 | BG7: Rãnh trục xã
A8: 1 | B8: 2 | C8: 3 | D8: 4 | E8: 5 | F8: 6 | G8: 7 | H8: 8 | I8: 9 | J8: 10 | K8: 11 | L8: 12 | M8: 13 | N8: 14 | O8: 15 | P8: 16 | Q8: 17 | R8: 18 | S8: 19 | T8: 20 | U8: 21 | V8: 22 | W8: 23 | X8: 24 | Y8: 25 | Z8: 26 | AA8: 27 | AB8: 28 | AC8: 29 | AD8: 30 | AE8: 31 | AF8: 32 | AG8: 33 | AH8: 34 | AI8: 35 | AJ8: 36 | AK8: 37 | AL8: 38 | AM8: 39 | AN8: 40 | AO8: 41 | AP8: 42 | AQ8: 43 | AR8: 44 | AS8: 45 | AT8: 69 | AU8: 70 | AV8: 71 | BA8: Trục thôn | BB8: =ROUND(3.5*0.16*1000*309/1000*1.025,2) -> 177.37 | BC8: =ROUND(3.5*0.16*1000*284/1000*1.025,2) -> 163.02 | BD8: =+BC8-BB8 -> -14.35 | BG8: Rãnh BTXM có nắp | BH8: 85.72 | BI8: 79.66 | BJ8: =+BI8-BH8 -> -6.06
A9: I | B9: Huyện miền núi | AF9: =(AC9*5+AD9*3.5)*1000 -> 0
A10: 1 | B10: Huyện Kỳ Anh | C10: =SUM(D10:G10) -> 58.41 | D10: 1.83 | E10: 10.19 | F10: 38.71 | G10: 7.68 | H10: =SUM(I10:L10) -> 6.2 | I10: 0 | J10: 5.3 | K10: 0.9 | M10: =SUM(N10:U10) -> 57.37 | N10: 1 | O10: 5.38 | P10: 2.48 | Q10: 3.28 | R10: 0.54 | S10: 23.22 | T10: 2.36 | U10: 19.11 | V10: 10271 | W10: =SUM(X10:AA10) -> 4.491 | X10: 0.07 | Y10: 0.48 | Z10: 3.726 | AA10: 0.215 | AB10: =SUM(AC10:AE10) -> 0 | AF10: =(AC10*5+AD10*3.5)*1000 -> 0 | AG10: =+SUM(AH10:AO10) -> 5.65 | AH10: 0 | AI10: 0 | AJ10: 0 | AK10: 0.8 | AL10: 0 | AM10: 2.45 | AN10: 0.14 | AO10: 2.26 | AP10: 855 | AQ10: =$W10/C10 -> 0.076887519 | AR10: =IF(H10=0,"-",AB10/H10) -> 0 | AS10: =AG10/M10 -> 0.098483528 | AT10: =W10-'15.4'!W10 -> 1.35 | AU10: =AB10-'15.4'!AB10 -> 0 | AV10: =AG10-'15.4'!AG10 -> 3.01 | AX10: 7013 | AY10: 3258 | AZ10: =+AX10+AY10 -> 10271 | BA10: Ngõ xóm | BB10: =ROUND(3*0.14*1000*266/1000*1.025,2) -> 114.51 | BC10: =ROUND(3*0.14*1000*244/1000*1.025,2) -> 105.04 | BD10: =+BC10-BB10 -> -9.47 | BG10: Rãnh BTXM không nắp | BH10: 71.65 | BI10: 66.73 | BJ10: =+BI10-BH10 -> -4.92
A11: 2 | B11: Huyện Hương Sơn | C11: =SUM(D11:G11) -> 28.7 | D11: - | E11: 5.2 | F11: 20.2 | G11: 3.3 | H11: =SUM(I11:L11) -> 5.5 | I11: 0 | J11: 5.5 | K11: 0 | M11: =SUM(N11:U11) -> 13.94 | N11: 0.6 | O11: 0.5 | P11: 0.12 | Q11: 0.1 | R11: 1.6 | S11: 3.92 | T11: 1.71 | U11: 5.39 | V11: 4122 | W11: =SUM(X11:AA11) -> 2.1 | Y11: 1.2 | Z11: 0.9 | AB11: =SUM(AC11:AE11) -> 2.5 | AC11: 2.5 | AF11: =(AC11*5+AD11*3.5)*1000 -> 12500 | AG11: =+SUM(AH11:AO11) -> 0.8 | AH11: 0.8 | AP11: 798 | AQ11: =$W11/C11 -> 0.073170732 | AR11: =IF(H11=0,"-",AB11/H11) -> 0.45454545 | AS11: =AG11/M11 -> 0.057388809 | AT11: =W11-'15.4'!W11 -> 2.1 | AU11: =AB11-'15.4'!AB11 -> 2.5 | AV11: =AG11-'15.4'!AG11 -> 0.8 | AX11: 3316 | AY11: 806 | AZ11: =+AX11+AY11 -> 4122 | BG11: Rãnh gạch xây có nắp | BH11: 87 | BI11: 81.34 | BJ11: =+BI11-BH11 -> -5.66
A12: 3 | B12: Huyện Hương Khê | C12: =SUM(D12:G12) -> 83.71 | D12: 0.36 | E12: 13.42 | F12: 53.2 | G12: 16.73 | H12: =SUM(I12:L12) -> 1.5 | I12: 1.5 | J12: 0 | K12: 0 | M12: =SUM(N12:U12) -> 17.11 | N12: 0.79 | O12: 1.83 | P12: 2.15 | Q12: 0.35 | R12: 0.52 | S12: 11.22 | T12: 0 | U12: 0.25 | V12: 10689 | W12: =SUM(X12:AA12) -> 2.535 | Y12: 0.535 | Z12: 0.9 | AA12: 1.1 | AB12: =SUM(AC12:AE12) -> 0 | AF12: =(AC12*5+AD12*3.5)*1000 -> 0 | AG12: =+SUM(AH12:AO12) -> 0.5 | AO12: 0.5 | AP12: 771 | AQ12: =$W12/C12 -> 0.03028312 | AR12: =IF(H12=0,"-",AB12/H12) -> 0 | AS12: =AG12/M12 -> 0.029222677 | AT12: =W12-'15.4'!W12 -> 2.535 | AU12: =AB12-'15.4'!AB12 -> 0 | AV12: =AG12-'15.4'!AG12 -> 0.5 | AX12: 9627 | AY12: 1062 | AZ12: =+AX12+AY12 -> 10689 | BG12: Rãnh gạch xây không nắp | BH12: 58.26 | BI12: 55.2 | BJ12: =+BI12-BH12 -> -3.06
A13: 4 | B13: Huyện Vũ Quang | C13: =SUM(D13:G13) -> 13.77 | D13: 0.72 | E13: 1.69 | F13: 8.34 | G13: 3.02 | H13: =SUM(I13:L13) -> 0.9 | I13: 0 | J13: 0.9 | K13: 0 | M13: =SUM(N13:U13) -> 1.18 | N13: 0 | O13: 0 | P13: 0 | Q13: 0 | R13: 0.32 | S13: 0.86 | T13: 0 | U13: 0 | V13: 1727 | W13: =SUM(X13:AA13) -> 0 | AB13: =SUM(AC13:AE13) -> 0.33 | AD13: 0.33 | AF13: =(AC13*5+AD13*3.5)*1000 -> 1155 | AG13: =+SUM(AH13:AO13) -> 0 | AQ13: =$W13/C13 -> 0 | AR13: =IF(H13=0,"-",AB13/H13) -> 0.36666667 | AS13: =AG13/M13 -> 0 | AT13: =W13-'15.4'!W13 -> 0 | AU13: =AB13-'15.4'!AB13 -> 0 | AV13: =AG13-'15.4'!AG13 -> 0 | AX13: 1657 | AY13: 70 | AZ13: =+AX13+AY13 -> 1727 | BG13: Rãnh trục thôn
A14: II | B14: Các địa phương khác | AT14: =W14-'15.4'!W14 -> 0 | AU14: =AB14-'15.4'!AB14 -> 0 | AV14: =AG14-'15.4'!AG14 -> 0
A15: 1 | B15: Thị xã Kỳ Anh | C15: =SUM(D15:G15) -> 16.11 | D15: - | E15: 5.31 | F15: 10.8 | G15: - | H15: =SUM(I15:L15) -> 0.42 | I15: 0 | J15: 0.12 | K15: 0.3 | M15: =SUM(N15:U15) -> 8.87 | N15: 0 | O15: 0 | P15: 0 | Q15: 0 | R15: 1.56 | S15: 5.86 | T15: 1.45 | U15: - | V15: 2541 | W15: =SUM(X15:AA15) -> 0 | AB15: =SUM(AC15:AE15) -> 0 | AF15: =(AC15*5+AD15*3.5)*1000 -> 0 | AG15: =+SUM(AH15:AO15) -> 0 | AQ15: =$W15/C15 -> 0 | AR15: =IF(H15=0,"-",AB15/H15) -> 0 | AS15: =AG15/M15 -> 0 | AT15: =W15-'15.4'!W15 -> 0 | AU15: =AB15-'15.4'!AB15 -> 0 | AV15: =AG15-'15.4'!AG15 -> 0 | AX15: 2000 | AY15: 541 | AZ15: =+AX15+AY15 -> 2541 | BG15: Rãnh BTXM có nắp | BH15: 72.16 | BI15: 67.06 | BJ15: =+BI15-BH15 -> -5.1
A16: 2 | B16: Huyện Cẩm Xuyên | C16: =SUM(D16:G16) -> 80.01 | D16: 3.05 | E16: 22.12 | F16: 43.28 | G16: 11.56 | H16: =SUM(I16:L16) -> 12.4 | I16: 4.5 | J16: 5.9 | K16: 2 | M16: =SUM(N16:U16) -> 7.55 | N16: 2.1 | O16: 2.5 | P16: 0 | Q16: 0 | R16: 0.89 | S16: 0.75 | T16: 0.3 | U16: 1.01 | V16: 10671 | W16: =SUM(X16:AA16) -> 8.5 | Y16: 1.45 | Z16: 6.05 | AA16: 1 | AB16: =SUM(AC16:AE16) -> 0 | AF16: =(AC16*5+AD16*3.5)*1000 -> 0 | AG16: =+SUM(AH16:AO16) -> 1.75 | AH16: 1.1 | AL16: 0.65 | AP16: 1100 | AQ16: =$W16/C16 -> 0.10623672 | AS16: =AG16/M16 -> 0.23178808 | AT16: =W16-'15.4'!W16 -> 3.25 | AU16: =AB16-'15.4'!AB16 -> 0 | AV16: =AG16-'15.4'!AG16 -> 0 | AX16: 10165 | AY16: 506 | AZ16: =+AX16+AY16 -> 10671 | BG16: Rãnh BTXM không nắp | BH16: 60.9 | BI16: 56.72 | BJ16: =+BI16-BH16 -> -4.18
A17: 3 | B17: Thành phố Hà Tĩnh | C17: =SUM(D17:G17) -> 15.29 | D17: - | E17: 4.18 | F17: 8.78 | G17: 2.33 | H17: =SUM(I17:L17) -> 12.7 | I17: 0 | J17: 8.5 | K17: 4.2 | M17: =SUM(N17:U17) -> 6.95 | N17: 6.32 | O17: 0 | P17: 0 | Q17: 0 | R17: 0.63 | S17: 0 | T17: 0 | U17: 0 | V17: 2394 | W17: =SUM(X17:AA17) -> 0.95 | Y17: 0.19 | Z17: 0.76 | AB17: =SUM(AC17:AE17) -> 2.91 | AE17: 2.91 | AF17: =(AC17*5+AD17*3.5)*1000 -> 0 | AG17: =+SUM(AH17:AO17) -> 2.25 | AH17: 1.6 | AL17: 0.65 | AP17: 294 | AQ17: =$W17/C17 -> 0.062132112 | AR17: =IF(H17=0,"-",AB17/H17) -> 0.22913386 | AS17: =AG17/M17 -> 0.32374101 | AT17: =W17-'15.4'!W17 -> 0 | AU17: =AB17-'15.4'!AB17 -> 0 | AV17: =AG17-'15.4'!AG17 -> 1.99 | AX17: 1848 | AY17: 546 | AZ17: =+AX17+AY17 -> 2394 | BG17: Rãnh gạch xây có nắp | BH17: 76.52 | BI17: 71.44 | BJ17: =+BI17-BH17 -> -5.08
A18: 4 | B18: Huyện Thạch Hà | C18: =SUM(D18:G18) -> 97.59 | D18: 8.17 | E18: 7.68 | F18: 40.79 | G18: 40.95 | H18: =SUM(I18:L18) -> 30.29 | I18: 8.3 | J18: 17.8 | K18: 4.19 | M18: =SUM(N18:U18) -> 7.45 | N18: 0.9 | O18: 0.42 | P18: 0 | Q18: 0.35 | R18: 1.88 | S18: 3.4 | T18: 0.1 | U18: 0.4 | V18: 12442 | W18: =SUM(X18:AA18) -> 14.824 | X18: 0 | Y18: 1.64 | Z18: 9.464 | AA18: 3.72 | AB18: =SUM(AC18:AE18) -> 6.218 | AC18: 1.5 | AD18: 4.718 | AE18: 0 | AF18: 0 | AG18: =+SUM(AH18:AO18) -> 1.01 | AH18: 0 | AI18: 0.19 | AJ18: 0 | AK18: 0 | AL18: 0.29 | AM18: 0.35 | AN18: 0.18 | AO18: 0 | AP18: 2051 | AQ18: =$W18/C18 -> 0.15190081 | AS18: =AG18/M18 -> 0.13557047 | AT18: =W18-'15.4'!W18 -> 3.11 | AU18: =AB18-'15.4'!AB18 -> 0 | AV18: =AG18-'15.4'!AG18 -> 0 | AX18: 11978 | AY18: 464 | AZ18: =+AX18+AY18 -> 12442 | BG18: Rãnh gạch xây không nắp | BH18: 50.58 | BI18: 47.89 | BJ18: =+BI18-BH18 -> -2.69
A19: 5 | B19: Huyện Can Lộc | C19: =SUM(D19:G19) -> 86.61 | D19: 0.4 | E19: 14.6 | F19: 53.25 | G19: 18.36 | H19: =SUM(I19:L19) -> 28.88 | I19: 10.7 | J19: 17.4 | K19: 0.78 | M19: =SUM(N19:U19) -> 28.57 | N19: 0.81 | O19: 0 | P19: 1.53 | Q19: 0 | R19: 8.38 | S19: 0 | T19: 17.85 | U19: 0 | V19: 12033 | W19: =SUM(X19:AA19) -> 4.56 | X19: 0 | Y19: 2.73 | Z19: 1.83 | AA19: 0 | AB19: =SUM(AC19:AE19) -> 4.126 | AD19: 4.126 | AF19: =(AC19*5+AD19*3.5)*1000 -> 14441 | AG19: =+SUM(AH19:AO19) -> 1.665 | AN19: 1.665 | AP19: 804 | AQ19: =$W19/C19 -> 0.052649809 | AR19: =IF(H19=0,"-",AB19/H19) -> 0.14286704 | AS19: =AG19/M19 -> 0.058277914 | AT19: =W19-'15.4'!W19 -> 0 | AU19: =AB19-'15.4'!AB19 -> 0 | AV19: =AG19-'15.4'!AG19 -> 0 | AX19: 10007 | AY19: 2026 | AZ19: =+AX19+AY19 -> 12033
A20: 6 | B20: Huyện Đức Thọ | C20: =SUM(D20:G20) -> 28.4 | D20: - | E20: 2.4 | F20: 23.6 | G20: 2.4 | H20: =SUM(I20:L20) -> 10.08 | I20: 4 | J20: 3.95 | K20: 2.13 | M20: =SUM(N20:U20) -> 3.1 | N20: 0 | O20: 0 | P20: 0 | Q20: 0 | R20: 3.1 | S20: 0 | T20: 0 | U20: 0 | V20: 3330 | W20: =SUM(X20:AA20) -> 7.09 | X20: 0.5 | Y20: 0 | Z20: 6.59 | AA20: 0 | AB20: =SUM(AC20:AE20) -> 0 | AF20: =(AC20*5+AD20*3.5)*1000 -> 0 | AG20: =+SUM(AH20:AO20) -> 0 | AP20: 875 | AQ20: =$W20/C20 -> 0.24964789 | AR20: =IF(H20=0,"-",AB20/H20) -> 0 | AS20: =AG20/M20 -> 0 | AT20: =W20-'15.4'!W20 -> 3 | AU20: =AB20-'15.4'!AB20 -> 0 | AV20: =AG20-'15.4'!AG20 -> 0 | AX20: 3122 | AY20: 208 | AZ20: =+AX20+AY20 -> 3330
A21: 7 | B21: Huyện Nghi Xuân | C21: =SUM(D21:G21) -> 17 | D21: 0.29 | E21: 4.27 | F21: 6.57 | G21: 5.87 | H21: =SUM(I21:L21) -> 3.03 | I21: 1.8 | J21: 1.03 | K21: 0.2 | M21: =SUM(N21:U21) -> 5.28 | N21: 0 | O21: 0 | P21: 0.85 | Q21: 0 | R21: 0 | S21: 1.55 | T21: 2 | U21: 0.88 | V21: 2421 | W21: =SUM(X21:AA21) -> 1.435 | Y21: 0.625 | Z21: 0.81 | AB21: =SUM(AC21:AE21) -> 0.156 | AD21: 0.156 | AF21: =(AC21*5+AD21*3.5)*1000 -> 546 | AG21: =+SUM(AH21:AO21) -> 0 | AP21: 158.3 | AQ21: =$W21/C21 -> 0.084411765 | AR21: =IF(H21=0,"-",AB21/H21) -> 0.051485149 | AS21: =AG21/M21 -> 0 | AT21: =W21-'15.4'!W21 -> 1.435 | AU21: =AB21-'15.4'!AB21 -> 0 | AV21: =AG21-'15.4'!AG21 -> 0 | AX21: 2079 | AY21: 342 | AZ21: =+AX21+AY21 -> 2421
A22: 8 | B22: Thị xã Hồng Lĩnh | C22: =SUM(D22:G22) -> 9.42 | D22: - | E22: 8.58 | F22: 0.34 | G22: 0.5 | H22: =SUM(I22:L22) -> 6 | I22: 0.7 | J22: 5.3 | K22: 0 | M22: =SUM(N22:U22) -> 16.37 | N22: 0 | O22: 0 | P22: 0 | Q22: 0 | R22: 7.93 | S22: 0 | T22: 8.44 | U22: 0 | V22: 2622 | W22: =SUM(X22:AA22) -> 1.534 | Y22: 1.534 | AB22: =SUM(AC22:AE22) -> 0 | AF22: =(AC22*5+AD22*3.5)*1000 -> 0 | AG22: =+SUM(AH22:AO22) -> 2.184 | AL22: 2.184 | AQ22: =$W22/C22 -> 0.16284501 | AR22: =IF(H22=0,"-",AB22/H22) -> 0 | AS22: =AG22/M22 -> 0.13341478 | AT22: =W22-'15.4'!W22 -> 0 | AU22: =AB22-'15.4'!AB22 -> 0 | AV22: =AG22-'15.4'!AG22 -> 0 | AX22: 1487 | AY22: 1135 | AZ22: =+AX22+AY22 -> 2622
A23: 9 | B23: Huyện Lộc Hà | C23: =SUM(D23:G23) -> 25.51 | D23: - | E23: 1.93 | F23: 14.39 | G23: 9.19 | H23: =SUM(I23:L23) -> 32.1 | I23: 1.9 | J23: 23.7 | K23: 6.5 | M23: =SUM(N23:U23) -> 9.32 | N23: 0.37 | O23: 0 | P23: 0 | Q23: 0 | R23: 6.25 | S23: 0 | T23: 2.7 | U23: 0 | V23: 3432 | W23: =SUM(X23:AA23) -> 0.22 | Y23: 0.22 | AB23: =SUM(AC23:AE23) -> 4.51 | AC23: 1.91 | AD23: 1.2 | AE23: 1.4 | AF23: =(AC23*5+AD23*3.5)*1000 -> 13750 | AG23: =+SUM(AH23:AO23) -> 0 | AP23: 60 | AQ23: =$W23/C23 -> 0.008624069 | AR23: =IF(H23=0,"-",AB23/H23) -> 0.14049844 | AS23: =AG23/M23 -> 0 | AT23: =W23-'15.4'!W23 -> 0.22 | AU23: =AB23-'15.4'!AB23 -> 0 | AV23: =AG23-'15.4'!AG23 -> 0 | AX23: 2791 | AY23: 641 | AZ23: =+AX23+AY23 -> 3432
B24: Tổng cộng | C24: =SUM(C10:C23) -> 560.53 | D24: =SUM(D10:D23) -> 14.82 | E24: =SUM(E10:E23) -> 101.57 | F24: =SUM(F10:F23) -> 322.25 | G24: =SUM(G10:G23) -> 121.89 | H24: =SUM(H10:H23) -> 150 | I24: =SUM(I10:I23) -> 33.4 | J24: =SUM(J10:J23) -> 95.4 | ... AP24: =SUM(AP10:AP23) -> 7766.3 | AQ24: =$W24/C24 -> 0.086059622 | AR24: =IF(H24=0,"-",AB24/H24) -> 0.13833333 | AS24: =AG24/M24 -> 0.086359663 | AT24: =SUM(AT10:AT23) -> 17 | AU24: =SUM(AU10:AU23) -> 2.5 | AV24: =SUM(AV10:AV23) -> 6.3
AX25: =+SUM(AX10:AX23) -> 67090 | AY25: =+SUM(AY10:AY23) -> 11605 | AZ25: =+SUM(AZ10:AZ23) -> 78695
AP26: =+AP24/V24 -> 0.098688608
AZ41: =11+7+5+1 -> 24

Sheet 29.4
B1: UỶ BAN NHÂN DÂN TỈNH HÀ TĨNH
B2: SỞ GIAO THÔNG VẬN TẢI
A3: BÁO CÁO KẾT QUẢ THỰC HIỆN KẾ HOẠCH LÀM ĐƯỜNG GIAO THÔNG, RÃNH THOÁT NƯỚC, PHỤC HỒI MẶT ĐƯỜNG BTXM THEO CƠ CHẾ HỖ TRỢ CỦA TỈNH ĐẾN NGÀY 29/4/2021
A5: TT | B5: Huyện, thị xã, thành phố | C5: Khối lượng theo kế hoạch UBND tỉnh | W5: Kết quả thực hiện lũy kế đến thời điểm báo cáo | AQ5: Mức độ hoàn thành kế hoạch đầu năm | AT5: Tăng so với tuần trước | BA5: Định mức cho 1 km đường (tấn/km) | BG5: Định mức xi măng tính cho 1km rãnh (tấn/km)
C6: Đường giao thông (km) | D6: Trong đó | H6: Nâng cấp phục hồi mặt đường BTXM (km) | I6: Trong đó | M6: Rãnh thoát nước (km) | N6: Rãnh trên đường trục xã | R6: Rãnh trên đường trục thôn | V6: Tổng khối lượng xi măng (tấn) | W6: Đường giao thông (km) | X6: Trong đó | AB6: Nâng cấp phục hồi mặt đường BTXM (km) | AC6: Trong đó | AG6: Rãnh thoát nước (km) | AH6: Rãnh trên đường trục xã | AL6: Rãnh trên đường trục thôn | AP6: Tổng khối lượng xi măng đã nhận (tấn) | AQ6: Đường giao thông (%) | AR6: Nâng cấp phục hồi mặt đường BTXM (%) | AS6: Rãnh thoát nước (%) | AT6: Đường giao thông (km) | AU6: Nâng cấp phục hồi mặt đường BTXM (km) | AV6: Rãnh thoát nước (km) | BA6: Loại đường | BB6: ĐMXM theo 3212 | BC6: ĐMXM theo TT10.2019 | BD6: Chênh | BG6: Loại rãnh | BH6: ĐMXM theo 3212 | BI6: ĐMXM theo TT10.2019 | BJ6: Chênh
D7: Đường trục xã và đường phố (km) | E7: Đường trục thôn, xóm và đường ngõ phố (km) | F7: Đường ngõ, xóm và đường ngách hẻm (km) | G7: Đường trục chính nội đồng (km) | I7: Đường trục xã và đường phố (km) | J7: Đường trục thôn, xóm và đường ngõ phố (km) | K7: Đường ngõ, xóm và đường ngách hẻm (km) | L7: Đường trục chính nội đồng (km) | N7: Rãnh BTXM có nắp đậy | O7: Rãnh BTXM không có nắp đậy | P7: Rãnh Gạch xây có nắp đậy | Q7: Rãnh Gạch xây không có nắp đậy | R7: Rãnh BTXM có nắp đậy | S7: Rãnh BTXM không có nắp đậy | T7: Rãnh Gạch xây có nắp đậy | U7: Rãnh Gạch xây không có nắp đậy | X7: Đường trục xã và đường phố (km) | Y7: Đường trục thôn, xóm và đường ngõ phố (km) | Z7: Đường ngõ, xóm và đường ngách hẻm (km) | AA7: Đường trục chính nội đồng (km) | AC7: Đường trục xã và đường phố (km) | AD7: Đường trục thôn, xóm và đường ngõ phố (km) | AE7: Đường ngõ, xóm và đường ngách hẻm (km) | AF7: Tổng diện tích tỉnh hỗ trợ (m2) | AH7: Rãnh BTXM có nắp đậy | AI7: Rãnh BTXM không có nắp đậy | AJ7: Rãnh Gạch xây có nắp đậy | AK7: Rãnh Gạch xây không có nắp đậy | AL7: Rãnh BTXM có nắp đậy | AM7: Rãnh BTXM không có nắp đậy | AN7: Rãnh Gạch xây có nắp đậy | AO7: Rãnh Gạch xây không có nắp đậy | BA7: Trục xã | BB7: =ROUNDUP(5*0.18*1000*309/1000*1.025,2) -> 285.06 | BC7: =ROUND(5*0.18*1000*284/1000*1.025,2) -> 261.99 | BD7: =+BC7-BB7 -> -23.07 | BG7: Rãnh trục xã
A8: 1 | B8: 2 | C8: 3 | D8: 4 | E8: 5 | F8: 6 | G8: 7 | H8: 8 | I8: 9 | J8: 10 | K8: 11 | L8: 12 | M8: 13 | N8: 14 | O8: 15 | P8: 16 | Q8: 17 | R8: 18 | S8: 19 | T8: 20 | U8: 21 | V8: 22 | W8: 23 | X8: 24 | Y8: 25 | Z8: 26 | AA8: 27 | AB8: 28 | AC8: 29 | AD8: 30 | AE8: 31 | AF8: 32 | AG8: 33 | AH8: 34 | AI8: 35 | AJ8: 36 | AK8: 37 | AL8: 38 | AM8: 39 | AN8: 40 | AO8: 41 | AP8: 42 | AQ8: 43 | AR8: 44 | AS8: 45 | AT8: 69 | AU8: 70 | AV8: 71 | BA8: Trục thôn | BB8: =ROUND(3.5*0.16*1000*309/1000*1.025,2) -> 177.37 | BC8: =ROUND(3.5*0.16*1000*284/1000*1.025,2) -> 163.02 | BD8: =+BC8-BB8 -> -14.35 | BG8: Rãnh BTXM có nắp | BH8: 85.72 | BI8: 79.66 | BJ8: =+BI8-BH8 -> -6.06
A9: I | B9: Huyện miền núi | AF9: =(AC9*5+AD9*3.5)*1000 -> 0
A10: 1 | B10: Huyện Kỳ Anh | C10: =SUM(D10:G10) -> 58.41 | D10: 1.83 | E10: 10.19 | F10: 38.71 | G10: 7.68 | H10: =SUM(I10:L10) -> 6.2 | I10: 0 | J10: 5.3 | K10: 0.9 | M10: =SUM(N10:U10) -> 57.37 | N10: 1 | O10: 5.38 | P10: 2.48 | Q10: 3.28 | R10: 0.54 | S10: 23.22 | T10: 2.36 | U10: 19.11 | V10: 10271 | W10: =SUM(X10:AA10) -> 4.491 | X10: 0.07 | Y10: 0.48 | Z10: 3.726 | AA10: 0.215 | AB10: =SUM(AC10:AE10) -> 0 | AF10: =(AC10*5+AD10*3.5)*1000 -> 0 | AG10: =+SUM(AH10:AO10) -> 5.65 | AH10: 0 | AI10: 0 | AJ10: 0 | AK10: 0.8 | AL10: 0 | AM10: 2.45 | AN10: 0.14 | AO10: 2.26 | AP10: 855 | AQ10: =$W10/C10 -> 0.076887519 | AR10: =IF(H10=0,"-",AB10/H10) -> 0 | AS10: =AG10/M10 -> 0.098483528 | AT10: =W10-'22.4'!W10 -> 0 | AU10: =AB10-'22.4'!AB10 -> 0 | AV10: =AG10-'22.4'!AG10 -> 0 | AX10: 7013 | AY10: 3258 | AZ10: =+AX10+AY10 -> 10271 | BA10: Ngõ xóm | BB10: =ROUND(3*0.14*1000*266/1000*1.025,2) -> 114.51 | BC10: =ROUND(3*0.14*1000*244/1000*1.025,2) -> 105.04 | BD10: =+BC10-BB10 -> -9.47 | BG10: Rãnh BTXM không nắp | BH10: 71.65 | BI10: 66.73 | BJ10: =+BI10-BH10 -> -4.92
A11: 2 | B11: Huyện Hương Sơn | C11: =SUM(D11:G11) -> 28.7 | D11: - | E11: 5.2 | F11: 20.2 | G11: 3.3 | H11: =SUM(I11:L11) -> 5.5 | I11: 0 | J11: 5.5 | K11: 0 | M11: =SUM(N11:U11) -> 13.94 | N11: 0.6 | O11: 0.5 | P11: 0.12 | Q11: 0.1 | R11: 1.6 | S11: 3.92 | T11: 1.71 | U11: 5.39 | V11: 4122 | W11: =SUM(X11:AA11) -> 2.1 | Y11: 1.2 | Z11: 0.9 | AB11: =SUM(AC11:AE11) -> 2.5 | AC11: 2.5 | AF11: =(AC11*5+AD11*3.5+AE11*3)*1000 -> 12500 | AG11: =+SUM(AH11:AO11) -> 0.8 | AH11: 0.8 | AP11: 798 | AQ11: =$W11/C11 -> 0.073170732 | AR11: =IF(H11=0,"-",AB11/H11) -> 0.45454545 | AS11: =AG11/M11 -> 0.057388809 | AT11: =W11-'22.4'!W11 -> 0 | AU11: =AB11-'22.4'!AB11 -> 0 | AV11: =AG11-'22.4'!AG11 -> 0 | AX11: 3316 | AY11: 806 | AZ11: =+AX11+AY11 -> 4122 | BG11: Rãnh gạch xây có nắp | BH11: 87 | BI11: 81.34 | BJ11: =+BI11-BH11 -> -5.66
A12: 3 | B12: Huyện Hương Khê | C12: =SUM(D12:G12) -> 83.71 | D12: 0.36 | E12: 13.42 | F12: 53.2 | G12: 16.73 | H12: =SUM(I12:L12) -> 1.5 | I12: 1.5 | J12: 0 | K12: 0 | M12: =SUM(N12:U12) -> 17.11 | N12: 0.79 | O12: 1.83 | P12: 2.15 | Q12: 0.35 | R12: 0.52 | S12: 11.22 | T12: 0 | U12: 0.25 | V12: 10689 | W12: =SUM(X12:AA12) -> 4.68 | X12: 0 | Y12: 1.3 | Z12: 1.78 | AA12: 1.6 | AB12: =SUM(AC12:AE12) -> 0 | AF12: =(AC12*5+AD12*3.5+AE12*3)*1000 -> 0 | AG12: =+SUM(AH12:AO12) -> 0.5 | AO12: 0.5 | AP12: 1100 | AQ12: =$W12/C12 -> 0.055907299 | AR12: =IF(H12=0,"-",AB12/H12) -> 0 | AS12: =AG12/M12 -> 0.029222677 | AT12: =W12-'22.4'!W12 -> 2.145 | AU12: =AB12-'22.4'!AB12 -> 0 | AV12: =AG12-'22.4'!AG12 -> 0 | AX12: 9627 | AY12: 1062 | AZ12: =+AX12+AY12 -> 10689 | BG12: Rãnh gạch xây không nắp | BH12: 58.26 | BI12: 55.2 | BJ12: =+BI12-BH12 -> -3.06
A13: 4 | B13: Huyện Vũ Quang | C13: =SUM(D13:G13) -> 13.77 | D13: 0.72 | E13: 1.69 | F13: 8.34 | G13: 3.02 | H13: =SUM(I13:L13) -> 0.9 | I13: 0 | J13: 0.9 | K13: 0 | M13: =SUM(N13:U13) -> 1.18 | N13: 0 | O13: 0 | P13: 0 | Q13: 0 | R13: 0.32 | S13: 0.86 | T13: 0 | U13: 0 | V13: 1727 | W13: =SUM(X13:AA13) -> 0 | AB13: =SUM(AC13:AE13) -> 0.33 | AD13: 0.33 | AF13: =(AC13*5+AD13*3.5+AE13*3)*1000 -> 1155 | AG13: =+SUM(AH13:AO13) -> 0 | AQ13: =$W13/C13 -> 0 | AR13: =IF(H13=0,"-",AB13/H13) -> 0.36666667 | AS13: =AG13/M13 -> 0 | AT13: =W13-'22.4'!W13 -> 0 | AU13: =AB13-'22.4'!AB13 -> 0 | AV13: =AG13-'22.4'!AG13 -> 0 | AX13: 1657 | AY13: 70 | AZ13: =+AX13+AY13 -> 1727 | BG13: Rãnh trục thôn
A14: II | B14: Các địa phương khác | AF14: =(AC14*5+AD14*3.5+AE14*3)*1000 -> 0 | AT14: =W14-'22.4'!W14 -> 0 | AU14: =AB14-'22.4'!AB14 -> 0 | AV14: =AG14-'22.4'!AG14 -> 0
A15: 1 | B15: Thị xã Kỳ Anh | C15: =SUM(D15:G15) -> 16.11 | D15: - | E15: 5.31 | F15: 10.8 | G15: - | H15: =SUM(I15:L15) -> 0.42 | I15: 0 | J15: 0.12 | K15: 0.3 | M15: =SUM(N15:U15) -> 8.87 | N15: 0 | O15: 0 | P15: 0 | Q15: 0 | R15: 1.56 | S15: 5.86 | T15: 1.45 | U15: - | V15: 2541 | W15: =SUM(X15:AA15) -> 0 | AB15: =SUM(AC15:AE15) -> 0 | AF15: =(AC15*5+AD15*3.5+AE15*3)*1000 -> 0 | AG15: =+SUM(AH15:AO15) -> 0 | AQ15: =$W15/C15 -> 0 | AR15: =IF(H15=0,"-",AB15/H15) -> 0 | AS15: =AG15/M15 -> 0 | AT15: =W15-'22.4'!W15 -> 0 | AU15: =AB15-'22.4'!AB15 -> 0 | AV15: =AG15-'22.4'!AG15 -> 0 | AX15: 2000 | AY15: 541 | AZ15: =+AX15+AY15 -> 2541 | BG15: Rãnh BTXM có nắp | BH15: 72.16 | BI15: 67.06 | BJ15: =+BI15-BH15 -> -5.1
A16: 2 | B16: Huyện Cẩm Xuyên | C16: =SUM(D16:G16) -> 80.01 | D16: 3.05 | E16: 22.12 | F16: 43.28 | G16: 11.56 | H16: =SUM(I16:L16) -> 12.4 | I16: 4.5 | J16: 5.9 | K16: 2 | M16: =SUM(N16:U16) -> 7.55 | N16: 2.1 | O16: 2.5 | P16: 0 | Q16: 0 | R16: 0.89 | S16: 0.75 | T16: 0.3 | U16: 1.01 | V16: 10671 | W16: =SUM(X16:AA16) -> 8.5 | Y16: 1.45 | Z16: 6.05 | AA16: 1 | AB16: =SUM(AC16:AE16) -> 0 | AF16: =(AC16*5+AD16*3.5+AE16*3)*1000 -> 0 | AG16: =+SUM(AH16:AO16) -> 1.75 | AH16: 1.1 | AL16: 0.65 | AP16: 1100 | AQ16: =$W16/C16 -> 0.10623672 | AS16: =AG16/M16 -> 0.23178808 | AT16: =W16-'22.4'!W16 -> 0 | AU16: =AB16-'22.4'!AB16 -> 0 | AV16: =AG16-'22.4'!AG16 -> 0 | AX16: 10165 | AY16: 506 | AZ16: =+AX16+AY16 -> 10671 | BG16: Rãnh BTXM không nắp | BH16: 60.9 | BI16: 56.72 | BJ16: =+BI16-BH16 -> -4.18
A17: 3 | B17: Thành phố Hà Tĩnh | C17: =SUM(D17:G17) -> 15.29 | D17: - | E17: 4.18 | F17: 8.78 | G17: 2.33 | H17: =SUM(I17:L17) -> 12.7 | I17: 0 | J17: 8.5 | K17: 4.2 | M17: =SUM(N17:U17) -> 6.95 | N17: 6.32 | O17: 0 | P17: 0 | Q17: 0 | R17: 0.63 | S17: 0 | T17: 0 | U17: 0 | V17: 2394 | W17: =SUM(X17:AA17) -> 2.66 | Y17: 0.94 | Z17: 1.72 | AB17: =SUM(AC17:AE17) -> 3.82 | AE17: 3.82 | AF17: 13370 | AG17: =+SUM(AH17:AO17) -> 0.57 | AH17: 0 | AL17: 0.57 | AP17: 640 | AQ17: =$W17/C17 -> 0.17396991 | AR17: =IF(H17=0,"-",AB17/H17) -> 0.3007874 | AS17: =AG17/M17 -> 0.082014388 | AT17: =W17-'22.4'!W17 -> 1.71 | AU17: =AB17-'22.4'!AB17 -> 0.91 | AV17: =AG17-'22.4'!AG17 -> -1.68 | AX17: 1848 | AY17: 546 | AZ17: =+AX17+AY17 -> 2394 | BG17: Rãnh gạch xây có nắp | BH17: 76.52 | BI17: 71.44 | BJ17: =+BI17-BH17 -> -5.08
A18: 4 | B18: Huyện Thạch Hà | C18: =SUM(D18:G18) -> 97.59 | D18: 8.17 | E18: 7.68 | F18: 40.79 | G18: 40.95 | H18: =SUM(I18:L18) -> 30.29 | I18: 8.3 | J18: 17.8 | K18: 4.19 | M18: =SUM(N18:U18) -> 7.45 | N18: 0.9 | O18: 0.42 | P18: 0 | Q18: 0.35 | R18: 1.88 | S18: 3.4 | T18: 0.1 | U18: 0.4 | V18: 12442 | W18: =SUM(X18:AA18) -> 19.814 | X18: 0 | Y18: 2.09 | Z18: 12.664 | AA18: 5.06 | AB18: =SUM(AC18:AE18) -> 7.16 | AC18: 1.5 | AD18: 5.66 | AE18: 0 | AF18: =(AC18*5+AD18*3.5+AE18*3)*1000 -> 27310 | AG18: =+SUM(AH18:AO18) -> 1.11 | AH18: 0 | AI18: 0.19 | AJ18: 0 | AK18: 0 | AL18: 0.29 | AM18: 0.45 | AN18: 0.18 | AO18: 0 | AP18: 2883 | AQ18: =$W18/C18 -> 0.2030331 | AS18: =AG18/M18 -> 0.14899329 | AT18: =W18-'22.4'!W18 -> 4.99 | AU18: =AB18-'22.4'!AB18 -> 0.942 | AV18: =AG18-'22.4'!AG18 -> 0.1 | AX18: 11978 | AY18: 464 | AZ18: =+AX18+AY18 -> 12442 | BG18: Rãnh gạch xây không nắp | BH18: 50.58 | BI18: 47.89 | BJ18: =+BI18-BH18 -> -2.69
A19: 5 | B19: Huyện Can Lộc | C19: =SUM(D19:G19) -> 86.61 | D19: 0.4 | E19: 14.6 | F19: 53.25 | G19: 18.36 | H19: =SUM(I19:L19) -> 28.88 | I19: 10.7 | J19: 17.4 | K19: 0.78 | M19: =SUM(N19:U19) -> 28.57 | N19: 0.81 | O19: 0 | P19: 1.53 | Q19: 0 | R19: 8.38 | S19: 0 | T19: 17.85 | U19: 0 | V19: 12033 | W19: =SUM(X19:AA19) -> 13.465 | X19: 0 | Y19: 5.75 | Z19: 6.325 | AA19: 1.39 | AB19: =SUM(AC19:AE19) -> 6.226 | AC19: 5.134 | AD19: 1.092 | AE19: 0 | AF19: =(AC19*5+AD19*3.5+AE19*3)*1000 -> 29492 | AG19: =+SUM(AH19:AO19) -> 11.278 | AH19: 0 | AI19: 0 | AJ19: 0.18 | AK19: 0 | AL19: 0.9 | AM19: 0 | AN19: 10.198 | AO19: 0 | AP19: 3459 | AQ19: =$W19/C19 -> 0.15546704 | AR19: =IF(H19=0,"-",AB19/H19) -> 0.21558172 | AS19: =AG19/M19 -> 0.39474974 | AT19: =W19-'22.4'!W19 -> 8.905 | AU19: =AB19-'22.4'!AB19 -> 2.1 | AV19: =AG19-'22.4'!AG19 -> 9.613 | AX19: 10007 | AY19: 2026 | AZ19: =+AX19+AY19 -> 12033
A20: 6 | B20: Huyện Đức Thọ | C20: =SUM(D20:G20) -> 28.4 | D20: - | E20: 2.4 | F20: 23.6 | G20: 2.4 | H20: =SUM(I20:L20) -> 10.08 | I20: 4 | J20: 3.95 | K20: 2.13 | M20: =SUM(N20:U20) -> 3.1 | N20: 0 | O20: 0 | P20: 0 | Q20: 0 | R20: 3.1 | S20: 0 | T20: 0 | U20: 0 | V20: 3330 | W20: =SUM(X20:AA20) -> 7.09 | X20: 0.5 | Y20: 0 | Z20: 6.59 | AA20: 0 | AB20: =SUM(AC20:AE20) -> 0 | AF20: =(AC20*5+AD20*3.5+AE20*3)*1000 -> 0 | AG20: =+SUM(AH20:AO20) -> 0 | AP20: 875 | AQ20: =$W20/C20 -> 0.24964789 | AR20: =IF(H20=0,"-",AB20/H20) -> 0 | AS20: =AG20/M20 -> 0 | AT20: =W20-'22.4'!W20 -> 0 | AU20: =AB20-'22.4'!AB20 -> 0 | AV20: =AG20-'22.4'!AG20 -> 0 | AX20: 3122 | AY20: 208 | AZ20: =+AX20+AY20 -> 3330
A21: 7 | B21: Huyện Nghi Xuân | C21: =SUM(D21:G21) -> 17 | D21: 0.29 | E21: 4.27 | F21: 6.57 | G21: 5.87 | H21: =SUM(I21:L21) -> 3.03 | I21: 1.8 | J21: 1.03 | K21: 0.2 | M21: =SUM(N21:U21) -> 5.28 | N21: 0 | O21: 0 | P21: 0.85 | Q21: 0 | R21: 0 | S21: 1.55 | T21: 2 | U21: 0.88 | V21: 2421 | W21: =SUM(X21:AA21) -> 1.435 | Y21: 0.625 | Z21: 0.81 | AB21: =SUM(AC21:AE21) -> 0.156 | AD21: 0.156 | AF21: =(AC21*5+AD21*3.5+AE21*3)*1000 -> 546 | AG21: =+SUM(AH21:AO21) -> 0 | AP21: 158.3 | AQ21: =$W21/C21 -> 0.084411765 | AR21: =IF(H21=0,"-",AB21/H21) -> 0.051485149 | AS21: =AG21/M21 -> 0 | AT21: =W21-'22.4'!W21 -> 0 | AU21: =AB21-'22.4'!AB21 -> 0 | AV21: =AG21-'22.4'!AG21 -> 0 | AX21: 2079 | AY21: 342 | AZ21: =+AX21+AY21 -> 2421
A22: 8 | B22: Thị xã Hồng Lĩnh | C22: =SUM(D22:G22) -> 9.42 | D22: - | E22: 8.58 | F22: 0.34 | G22: 0.5 | H22: =SUM(I22:L22) -> 6 | I22: 0.7 | J22: 5.3 | K22: 0 | M22: =SUM(N22:U22) -> 16.37 | N22: 0 | O22: 0 | P22: 0 | Q22: 0 | R22: 7.93 | S22: 0 | T22: 8.44 | U22: 0 | V22: 2622 | W22: =SUM(X22:AA22) -> 1.534 | Y22: 1.534 | AB22: =SUM(AC22:AE22) -> 0 | AF22: =(AC22*5+AD22*3.5+AE22*3)*1000 -> 0 | AG22: =+SUM(AH22:AO22) -> 2.184 | AL22: 2.184 | AQ22: =$W22/C22 -> 0.16284501 | AR22: =IF(H22=0,"-",AB22/H22) -> 0 | AS22: =AG22/M22 -> 0.13341478 | AT22: =W22-'22.4'!W22 -> 0 | AU22: =AB22-'22.4'!AB22 -> 0 | AV22: =AG22-'22.4'!AG22 -> 0 | AX22: 1487 | AY22: 1135 | AZ22: =+AX22+AY22 -> 2622
A23: 9 | B23: Huyện Lộc Hà | C23: =SUM(D23:G23) -> 25.51 | D23: - | E23: 1.93 | F23: 14.39 | G23: 9.19 | H23: =SUM(I23:L23) -> 32.1 | I23: 1.9 | J23: 23.7 | K23: 6.5 | M23: =SUM(N23:U23) -> 9.32 | N23: 0.37 | O23: 0 | P23: 0 | Q23: 0 | R23: 6.25 | S23: 0 | T23: 2.7 | U23: 0 | V23: 3432 | W23: =SUM(X23:AA23) -> 0.22 | Y23: 0.22 | AB23: =SUM(AC23:AE23) -> 4.51 | AC23: 1.91 | AD23: 1.2 | AE23: 1.4 | AF23: =(AC23*5+AD23*3.5+AE23*3)*1000 -> 17950 | AG23: =+SUM(AH23:AO23) -> 0 | AP23: 60 | AQ23: =$W23/C23 -> 0.008624069 | AR23: =IF(H23=0,"-",AB23/H23) -> 0.14049844 | AS23: =AG23/M23 -> 0 | AT23: =W23-'22.4'!W23 -> 0 | AU23: =AB23-'22.4'!AB23 -> 0 | AV23: =AG23-'22.4'!AG23 -> 0 | AX23: 2791 | AY23: 641 | AZ23: =+AX23+AY23 -> 3432
B24: Tổng cộng | C24: =SUM(C10:C23) -> 560.53 | D24: =SUM(D10:D23) -> 14.82 | E24: =SUM(E10:E23) -> 101.57 | F24: =SUM(F10:F23) -> 322.25 | G24: =SUM(G10:G23) -> 121.89 | H24: =SUM(H10:H23) -> 150 | I24: =SUM(I10:I23) -> 33.4 | J24: =SUM(J10:J23) -> 95.4 | ... AP24: =SUM(AP10:AP23) -> 11928.3 | AQ24: =$W24/C24 -> 0.11772608 | AR24: =IF(H24=0,"-",AB24/H24) -> 0.16468 | AS24: =AG24/M24 -> 0.13024145 | AT24: =SUM(AT10:AT23) -> 17.75 | AU24: =SUM(AU10:AU23) -> 3.952 | AV24: =SUM(AV10:AV23) -> 8.033
AX25: =+SUM(AX10:AX23) -> 67090 | AY25: =+SUM(AY10:AY23) -> 11605 | AZ25: =+SUM(AZ10:AZ23) -> 78695
AP26: =+AP24/V24 -> 0.15157634
AZ41: =11+7+5+1 -> 24

Sheet 6.5
B1: UỶ BAN NHÂN DÂN TỈNH HÀ TĨNH
B2: SỞ GIAO THÔNG VẬN TẢI
A3: BÁO CÁO KẾT QUẢ THỰC HIỆN KẾ HOẠCH LÀM ĐƯỜNG GIAO THÔNG, RÃNH THOÁT NƯỚC, PHỤC HỒI MẶT ĐƯỜNG BTXM THEO CƠ CHẾ HỖ TRỢ CỦA TỈNH ĐẾN NGÀY 06-5-2021
A5: TT | B5: Huyện, thị xã, thành phố | C5: Khối lượng theo kế hoạch UBND tỉnh | W5: Kết quả thực hiện lũy kế đến thời điểm báo cáo | AQ5: Mức độ hoàn thành kế hoạch đầu năm | AT5: Tăng so với tuần trước
C6: Đường giao thông (km) | D6: Trong đó | H6: Nâng cấp phục hồi mặt đường BTXM (km) | I6: Trong đó | M6: Rãnh thoát nước (km) | N6: Rãnh trên đường trục xã | R6: Rãnh trên đường trục thôn | V6: Tổng khối lượng xi măng (tấn) | W6: Đường giao thông (km) | X6: Trong đó | AB6: Nâng cấp phục hồi mặt đường BTXM (km) | AC6: Trong đó | AG6: Rãnh thoát nước (km) | AH6: Rãnh trên đường trục xã | AL6: Rãnh trên đường trục thôn | AP6: Tổng khối lượng xi măng đã nhận (tấn) | AQ6: Đường giao thông (%) | AR6: Nâng cấp phục hồi mặt đường BTXM (%) | AS6: Rãnh thoát nước (%) | AT6: Đường giao thông (km) | AU6: Nâng cấp phục hồi mặt đường BTXM (km) | AV6: Rãnh thoát nước (km)
D7: Đường trục xã và đường phố (km) | E7: Đường trục thôn, xóm và đường ngõ phố (km) | F7: Đường ngõ, xóm và đường ngách hẻm (km) | G7: Đường trục chính nội đồng (km) | I7: Đường trục xã và đường phố (km) | J7: Đường trục thôn, xóm và đường ngõ phố (km) | K7: Đường ngõ, xóm và đường ngách hẻm (km) | L7: Đường trục chính nội đồng (km) | N7: Rãnh BTXM có nắp đậy | O7: Rãnh BTXM không có nắp đậy | P7: Rãnh Gạch xây có nắp đậy | Q7: Rãnh Gạch xây không có nắp đậy | R7: Rãnh BTXM có nắp đậy | S7: Rãnh BTXM không có nắp đậy | T7: Rãnh Gạch xây có nắp đậy | U7: Rãnh Gạch xây không có nắp đậy | X7: Đường trục xã và đường phố (km) | Y7: Đường trục thôn, xóm và đường ngõ phố (km) | Z7: Đường ngõ, xóm và đường ngách hẻm (km) | AA7: Đường trục chính nội đồng (km) | AC7: Đường trục xã và đường phố (km) | AD7: Đường trục thôn, xóm và đường ngõ phố (km) | AE7: Đường ngõ, xóm và đường ngách hẻm (km) | AF7: Tổng diện tích tỉnh hỗ trợ (m2) | AH7: Rãnh BTXM có nắp đậy | AI7: Rãnh BTXM không có nắp đậy | AJ7: Rãnh Gạch xây có nắp đậy | AK7: Rãnh Gạch xây không có nắp đậy | AL7: Rãnh BTXM có nắp đậy | AM7: Rãnh BTXM không có nắp đậy | AN7: Rãnh Gạch xây có nắp đậy | AO7: Rãnh Gạch xây không có nắp đậy
A8: 1 | B8: 2 | C8: 3 | D8: 4 | E8: 5 | F8: 6 | G8: 7 | H8: 8 | I8: 9 | J8: 10 | K8: 11 | L8: 12 | M8: 13 | N8: 14 | O8: 15 | P8: 16 | Q8: 17 | R8: 18 | S8: 19 | T8: 20 | U8: 21 | V8: 22 | W8: 23 | X8: 24 | Y8: 25 | Z8: 26 | AA8: 27 | AB8: 28 | AC8: 29 | AD8: 30 | AE8: 31 | AF8: 32 | AG8: 33 | AH8: 34 | AI8: 35 | AJ8: 36 | AK8: 37 | AL8: 38 | AM8: 39 | AN8: 40 | AO8: 41 | AP8: 42 | AQ8: 43 | AR8: 44 | AS8: 45 | AT8: 69 | AU8: 70 | AV8: 71
A9: I | B9: Huyện miền núi | AF9: =(AC9*5+AD9*3.5)*1000 -> 0
A10: 1 | B10: Huyện Kỳ Anh | C10: =SUM(D10:G10) -> 58.41 | D10: 1.83 | E10: 10.19 | F10: 38.71 | G10: 7.68 | H10: =SUM(I10:L10) -> 6.2 | I10: 0 | J10: 5.3 | K10: 0.9 | M10: =SUM(N10:U10) -> 57.37 | N10: 1 | O10: 5.38 | P10: 2.48 | Q10: 3.28 | R10: 0.54 | S10: 23.22 | T10: 2.36 | U10: 19.11 | V10: 10271 | W10: =SUM(X10:AA10) -> 4.491 | X10: 0.07 | Y10: 0.48 | Z10: 3.726 | AA10: 0.215 | AB10: =SUM(AC10:AE10) -> 0 | AF10: =(AC10*5+AD10*3.5)*1000 -> 0 | AG10: =+SUM(AH10:AO10) -> 5.65 | AH10: 0 | AI10: 0 | AJ10: 0 | AK10: 0.8 | AL10: 0 | AM10: 2.45 | AN10: 0.14 | AO10: 2.26 | AP10: 855 | AQ10: =$W10/C10 -> 0.076887519 | AR10: =IF(H10=0,"-",AB10/H10) -> 0 | AS10: =AG10/M10 -> 0.098483528 | AT10: =W10-'29.4'!W10 -> 0 | AU10: =AB10-'29.4'!AB10 -> 0 | AV10: =AG10-'29.4'!AG10 -> 0
A11: 2 | B11: Huyện Hương Sơn | C11: =SUM(D11:G11) -> 28.7 | D11: - | E11: 5.2 | F11: 20.2 | G11: 3.3 | H11: =SUM(I11:L11) -> 5.5 | I11: 0 | J11: 5.5 | K11: 0 | M11: =SUM(N11:U11) -> 13.94 | N11: 0.6 | O11: 0.5 | P11: 0.12 | Q11: 0.1 | R11: 1.6 | S11: 3.92 | T11: 1.71 | U11: 5.39 | V11: 4122 | W11: =SUM(X11:AA11) -> 2.1 | Y11: 1.2 | Z11: 0.9 | AB11: =SUM(AC11:AE11) -> 2.5 | AC11: 2.5 | AF11: =(AC11*5+AD11*3.5+AE11*3)*1000 -> 12500 | AG11: =+SUM(AH11:AO11) -> 0.8 | AH11: 0.8 | AP11: 798 | AQ11: =$W11/C11 -> 0.073170732 | AR11: =IF(H11=0,"-",AB11/H11) -> 0.45454545 | AS11: =AG11/M11 -> 0.057388809 | AT11: =W11-'29.4'!W11 -> 0 | AU11: =AB11-'29.4'!AB11 -> 0 | AV11: =AG11-'29.4'!AG11 -> 0
A12: 3 | B12: Huyện Hương Khê | C12: =SUM(D12:G12) -> 83.71 | D12: 0.36 | E12: 13.42 | F12: 53.2 | G12: 16.73 | H12: =SUM(I12:L12) -> 1.5 | I12: 1.5 | J12: 0 | K12: 0 | M12: =SUM(N12:U12) -> 17.11 | N12: 0.79 | O12: 1.83 | P12: 2.15 | Q12: 0.35 | R12: 0.52 | S12: 11.22 | T12: 0 | U12: 0.25 | V12: 10689 | W12: =SUM(X12:AA12) -> 7.589 | X12: 0 | Y12: 1.404 | Z12: 4.37 | AA12: 1.815 | AB12: =SUM(AC12:AE12) -> 0 | AF12: =(AC12*5+AD12*3.5+AE12*3)*1000 -> 0 | AG12: =+SUM(AH12:AO12) -> 0.6 | AM12: 0.1 | AO12: 0.5 | AP12: 1190 | AQ12: =$W12/C12 -> 0.090658225 | AR12: =IF(H12=0,"-",AB12/H12) -> 0 | AS12: =AG12/M12 -> 0.035067212 | AT12: =W12-'29.4'!W12 -> 2.909 | AU12: =AB12-'29.4'!AB12 -> 0 | AV12: =AG12-'29.4'!AG12 -> 0.1
A13: 4 | B13: Huyện Vũ Quang | C13: =SUM(D13:G13) -> 13.77 | D13: 0.72 | E13: 1.69 | F13: 8.34 | G13: 3.02 | H13: =SUM(I13:L13) -> 0.9 | I13: 0 | J13: 0.9 | K13: 0 | M13: =SUM(N13:U13) -> 1.18 | N13: 0 | O13: 0 | P13: 0 | Q13: 0 | R13: 0.32 | S13: 0.86 | T13: 0 | U13: 0 | V13: 1727 | W13: =SUM(X13:AA13) -> 0.66 | Y13: 0.16 | Z13: 0.38 | AA13: 0.12 | AB13: =SUM(AC13:AE13) -> 0.33 | AD13: 0.33 | AG13: =+SUM(AH13:AO13) -> 0 | AP13: 248.4 | AQ13: =$W13/C13 -> 0.047930283 | AR13: =IF(H13=0,"-",AB13/H13) -> 0.36666667 | AS13: =AG13/M13 -> 0 | AT13: =W13-'29.4'!W13 -> 0.66 | AU13: =AB13-'29.4'!AB13 -> 0 | AV13: =AG13-'29.4'!AG13 -> 0
A14: II | B14: Các địa phương khác | AF14: =(AC14*5+AD14*3.5+AE14*3)*1000 -> 0 | AT14: =W14-'29.4'!W14 -> 0 | AU14: =AB14-'29.4'!AB14 -> 0 | AV14: =AG14-'29.4'!AG14 -> 0
A15: 1 | B15: Thị xã Kỳ Anh | C15: =SUM(D15:G15) -> 16.11 | D15: - | E15: 5.31 | F15: 10.8 | G15: - | H15: =SUM(I15:L15) -> 0.42 | I15: 0 | J15: 0.12 | K15: 0.3 | M15: =SUM(N15:U15) -> 8.87 | N15: 0 | O15: 0 | P15: 0 | Q15: 0 | R15: 1.56 | S15: 5.86 | T15: 1.45 | U15: - | V15: 2541 | W15: =SUM(X15:AA15) -> 0 | AB15: =SUM(AC15:AE15) -> 0 | AF15: =(AC15*5+AD15*3.5+AE15*3)*1000 -> 0 | AG15: =+SUM(AH15:AO15) -> 0 | AQ15: =$W15/C15 -> 0 | AR15: =IF(H15=0,"-",AB15/H15) -> 0 | AS15: =AG15/M15 -> 0 | AT15: =W15-'29.4'!W15 -> 0 | AU15: =AB15-'29.4'!AB15 -> 0 | AV15: =AG15-'29.4'!AG15 -> 0
A16: 2 | B16: Huyện Cẩm Xuyên | C16: =SUM(D16:G16) -> 80.01 | D16: 3.05 | E16: 22.12 | F16: 43.28 | G16: 11.56 | H16: =SUM(I16:L16) -> 12.4 | I16: 4.5 | J16: 5.9 | K16: 2 | M16: =SUM(N16:U16) -> 7.55 | N16: 2.1 | O16: 2.5 | P16: 0 | Q16: 0 | R16: 0.89 | S16: 0.75 | T16: 0.3 | U16: 1.01 | V16: 10671 | W16: =SUM(X16:AA16) -> 8.5 | Y16: 1.45 | Z16: 6.05 | AA16: 1 | AB16: =SUM(AC16:AE16) -> 0 | AF16: =(AC16*5+AD16*3.5+AE16*3)*1000 -> 0 | AG16: =+SUM(AH16:AO16) -> 1.75 | AH16: 1.1 | AL16: 0.65 | AP16: 1100 | AQ16: =$W16/C16 -> 0.10623672 | AS16: =AG16/M16 -> 0.23178808 | AT16: =W16-'29.4'!W16 -> 0 | AU16: =AB16-'29.4'!AB16 -> 0 | AV16: =AG16-'29.4'!AG16 -> 0
A17: 3 | B17: Thành phố Hà Tĩnh | C17: =SUM(D17:G17) -> 15.29 | D17: - | E17: 4.18 | F17: 8.78 | G17: 2.33 | H17: =SUM(I17:L17) -> 12.7 | I17: 0 | J17: 8.5 | K17: 4.2 | M17: =SUM(N17:U17) -> 6.95 | N17: 6.32 | O17: 0 | P17: 0 | Q17: 0 | R17: 0.63 | S17: 0 | T17: 0 | U17: 0 | V17: 2394 | W17: =SUM(X17:AA17) -> 2.66 | Y17: 0.94 | Z17: 1.72 | AB17: =SUM(AC17:AE17) -> 3.82 | AE17: 3.82 | AF17: 13370 | AG17: =+SUM(AH17:AO17) -> 0.57 | AH17: 0 | AL17: 0.57 | AP17: 640 | AQ17: =$W17/C17 -> 0.17396991 | AR17: =IF(H17=0,"-",AB17/H17) -> 0.3007874 | AS17: =AG17/M17 -> 0.082014388 | AT17: =W17-'29.4'!W17 -> 0 | AU17: =AB17-'29.4'!AB17 -> 0 | AV17: =AG17-'29.4'!AG17 -> 0
A18: 4 | B18: Huyện Thạch Hà | C18: =SUM(D18:G18) -> 97.59 | D18: 8.17 | E18: 7.68 | F18: 40.79 | G18: 40.95 | H18: =SUM(I18:L18) -> 30.29 | I18: 8.3 | J18: 17.8 | K18: 4.19 | M18: =SUM(N18:U18) -> 7.45 | N18: 0.9 | O18: 0.42 | P18: 0 | Q18: 0.35 | R18: 1.88 | S18: 3.4 | T18: 0.1 | U18: 0.4 | V18: 12442 | W18: =SUM(X18:AA18) -> 23.831 | X18: 0 | Y18: 2.59 | Z18: 15.334 | AA18: 5.907 | AB18: =SUM(AC18:AE18) -> 7.29 | AC18: 1.5 | AD18: 5.79 | AE18: 0 | AF18: 0 | AG18: =+SUM(AH18:AO18) -> 1.11 | AH18: 0 | AI18: 0.19 | AJ18: 0 | AK18: 0 | AL18: 0.29 | AM18: 0.45 | AN18: 0.18 | AO18: 0 | AP18: 3396 | AQ18: =$W18/C18 -> 0.2441951 | AS18: =AG18/M18 -> 0.14899329 | AT18: =W18-'29.4'!W18 -> 4.017 | AU18: =AB18-'29.4'!AB18 -> 0.13 | AV18: =AG18-'29.4'!AG18 -> 0
A19: 5 | B19: Huyện Can Lộc | C19: =SUM(D19:G19) -> 86.61 | D19: 0.4 | E19: 14.6 | F19: 53.25 | G19: 18.36 | H19: =SUM(I19:L19) -> 28.88 | I19: 10.7 | J19: 17.4 | K19: 0.78 | M19: =SUM(N19:U19) -> 28.57 | N19: 0.81 | O19: 0 | P19: 1.53 | Q19: 0 | R19: 8.38 | S19: 0 | T19: 17.85 | U19: 0 | V19: 12033 | W19: =SUM(X19:AA19) -> 15.905 | X19: 0 | Y19: 6.65 | Z19: 7.665 | AA19: 1.59 | AB19: =SUM(AC19:AE19) -> 6.226 | AC19: 5.134 | AD19: 1.092 | AE19: 0 | AF19: =(AC19*5+AD19*3.5+AE19*3)*1000 -> 29492 | AG19: =+SUM(AH19:AO19) -> 11.988 | AH19: 0 | AI19: 0 | AJ19: 0.18 | AK19: 0 | AL19: 0.9 | AM19: 0 | AN19: 10.908 | AO19: 0 | AP19: 3919 | AQ19: =$W19/C19 -> 0.1836393 | AR19: =IF(H19=0,"-",AB19/H19) -> 0.21558172 | AS19: =AG19/M19 -> 0.41960098 | AT19: =W19-'29.4'!W19 -> 2.44 | AU19: =AB19-'29.4'!AB19 -> 0 | AV19: =AG19-'29.4'!AG19 -> 0.71
A20: 6 | B20: Huyện Đức Thọ | C20: =SUM(D20:G20) -> 28.4 | D20: - | E20: 2.4 | F20: 23.6 | G20: 2.4 | H20: =SUM(I20:L20) -> 10.08 | I20: 4 | J20: 3.95 | K20: 2.13 | M20: =SUM(N20:U20) -> 3.1 | N20: 0 | O20: 0 | P20: 0 | Q20: 0 | R20: 3.1 | S20: 0 | T20: 0 | U20: 0 | V20: 3330 | W20: =SUM(X20:AA20) -> 9.18 | X20: 0.76 | Y20: 0 | Z20: 8.42 | AA20: 0 | AB20: =SUM(AC20:AE20) -> 0 | AF20: =(AC20*5+AD20*3.5+AE20*3)*1000 -> 0 | AG20: =+SUM(AH20:AO20) -> 0 | AP20: 1128 | AQ20: =$W20/C20 -> 0.32323944 | AR20: =IF(H20=0,"-",AB20/H20) -> 0 | AS20: =AG20/M20 -> 0 | AT20: =W20-'29.4'!W20 -> 2.09 | AU20: =AB20-'29.4'!AB20 -> 0 | AV20: =AG20-'29.4'!AG20 -> 0
A21: 7 | B21: Huyện Nghi Xuân | C21: =SUM(D21:G21) -> 17 | D21: 0.29 | E21: 4.27 | F21: 6.57 | G21: 5.87 | H21: =SUM(I21:L21) -> 3.03 | I21: 1.8 | J21: 1.03 | K21: 0.2 | M21: =SUM(N21:U21) -> 5.28 | N21: 0 | O21: 0 | P21: 0.85 | Q21: 0 | R21: 0 | S21: 1.55 | T21: 2 | U21: 0.88 | V21: 2421 | W21: =SUM(X21:AA21) -> 1.741 | X21: 0 | Y21: 0.1 | Z21: 1.641 | AA21: 0 | AB21: =SUM(AC21:AE21) -> 0.156 | AD21: 0.156 | AF21: =(AC21*5+AD21*3.5+AE21*3)*1000 -> 546 | AG21: =+SUM(AH21:AO21) -> 0.725 | AL21: 0 | AM21: 0.1 | AN21: 0 | AO21: 0.625 | AP21: 278.3 | AQ21: =$W21/C21 -> 0.10241176 | AR21: =IF(H21=0,"-",AB21/H21) -> 0.051485149 | AS21: =AG21/M21 -> 0.13731061 | AT21: =W21-'29.4'!W21 -> 0.306 | AU21: =AB21-'29.4'!AB21 -> 0 | AV21: =AG21-'29.4'!AG21 -> 0.725
A22: 8 | B22: Thị xã Hồng Lĩnh | C22: =SUM(D22:G22) -> 9.42 | D22: - | E22: 8.58 | F22: 0.34 | G22: 0.5 | H22: =SUM(I22:L22) -> 6 | I22: 0.7 | J22: 5.3 | K22: 0 | M22: =SUM(N22:U22) -> 16.37 | N22: 0 | O22: 0 | P22: 0 | Q22: 0 | R22: 7.93 | S22: 0 | T22: 8.44 | U22: 0 | V22: 2622 | W22: =SUM(X22:AA22) -> 1.534 | Y22: 1.534 | AB22: =SUM(AC22:AE22) -> 0 | AF22: =(AC22*5+AD22*3.5+AE22*3)*1000 -> 0 | AG22: =+SUM(AH22:AO22) -> 2.184 | AL22: 2.184 | AQ22: =$W22/C22 -> 0.16284501 | AR22: =IF(H22=0,"-",AB22/H22) -> 0 | AS22: =AG22/M22 -> 0.13341478 | AT22: =W22-'29.4'!W22 -> 0 | AU22: =AB22-'29.4'!AB22 -> 0 | AV22: =AG22-'29.4'!AG22 -> 0
A23: 9 | B23: Huyện Lộc Hà | C23: =SUM(D23:G23) -> 25.51 | D23: - | E23: 1.93 | F23: 14.39 | G23: 9.19 | H23: =SUM(I23:L23) -> 32.1 | I23: 1.9 | J23: 23.7 | K23: 6.5 | M23: =SUM(N23:U23) -> 9.32 | N23: 0.37 | O23: 0 | P23: 0 | Q23: 0 | R23: 6.25 | S23: 0 | T23: 2.7 | U23: 0 | V23: 3432 | W23: =SUM(X23:AA23) -> 0.22 | Y23: 0.22 | AB23: =SUM(AC23:AE23) -> 4.51 | AC23: 1.91 | AD23: 1.2 | AE23: 1.4 | AF23: =(AC23*5+AD23*3.5+AE23*3)*1000 -> 17950 | AG23: =+SUM(AH23:AO23) -> 0 | AP23: 60 | AQ23: =$W23/C23 -> 0.008624069 | AR23: =IF(H23=0,"-",AB23/H23) -> 0.14049844 | AS23: =AG23/M23 -> 0 | AT23: =W23-'29.4'!W23 -> 0 | AU23: =AB23-'29.4'!AB23 -> 0 | AV23: =AG23-'29.4'!AG23 -> 0
B24: Tổng cộng | C24: =SUM(C10:C23) -> 560.53 | D24: =SUM(D10:D23) -> 14.82 | E24: =SUM(E10:E23) -> 101.57 | F24: =SUM(F10:F23) -> 322.25 | G24: =SUM(G10:G23) -> 121.89 | H24: =SUM(H10:H23) -> 150 | I24: =SUM(I10:I23) -> 33.4 | J24: =SUM(J10:J23) -> 95.4 | ... AP24: =SUM(AP10:AP23) -> 13612.7 | AQ24: =$W24/C24 -> 0.13988725 | AR24: =IF(H24=0,"-",AB24/H24) -> 0.16554667 | AS24: =AG24/M24 -> 0.13862668 | AT24: =SUM(AT10:AT23) -> 12.422 | AU24: =SUM(AU10:AU23) -> 0.13 | AV24: =SUM(AV10:AV23) -> 1.535
AG26: Xi măng đạt | AP26: =+AP24/V24 -> 0.17298049

Sheet 13.5
B1: UỶ BAN NHÂN DÂN TỈNH HÀ TĨNH
B2: SỞ GIAO THÔNG VẬN TẢI
A3: BÁO CÁO KẾT QUẢ THỰC HIỆN KẾ HOẠCH LÀM ĐƯỜNG GIAO THÔNG, RÃNH THOÁT NƯỚC, PHỤC HỒI MẶT ĐƯỜNG BTXM THEO CƠ CHẾ HỖ TRỢ CỦA TỈNH ĐẾN NGÀY 13-5-2021
A5: TT | B5: Huyện, thị xã, thành phố | C5: Khối lượng theo kế hoạch UBND tỉnh | W5: Kết quả thực hiện lũy kế đến thời điểm báo cáo | AQ5: Mức độ hoàn thành kế hoạch đầu năm | AT5: Tăng so với tuần trước
C6: Đường giao thông (km) | D6: Trong đó | H6: Nâng cấp phục hồi mặt đường BTXM (km) | I6: Trong đó | M6: Rãnh thoát nước (km) | N6: Rãnh trên đường trục xã | R6: Rãnh trên đường trục thôn | V6: Tổng khối lượng xi măng (tấn) | W6: Đường giao thông (km) | X6: Trong đó | AB6: Nâng cấp phục hồi mặt đường BTXM (km) | AC6: Trong đó | AG6: Rãnh thoát nước (km) | AH6: Rãnh trên đường trục xã | AL6: Rãnh trên đường trục thôn | AP6: Tổng khối lượng xi măng đã nhận (tấn) | AQ6: Đường giao thông (%) | AR6: Nâng cấp phục hồi mặt đường BTXM (%) | AS6: Rãnh thoát nước (%) | AT6: Đường giao thông (km) | AU6: Nâng cấp phục hồi mặt đường BTXM (km) | AV6: Rãnh thoát nước (km)
D7: Đường trục xã và đường phố (km) | E7: Đường trục thôn, xóm và đường ngõ phố (km) | F7: Đường ngõ, xóm và đường ngách hẻm (km) | G7: Đường trục chính nội đồng (km) | I7: Đường trục xã và đường phố (km) | J7: Đường trục thôn, xóm và đường ngõ phố (km) | K7: Đường ngõ, xóm và đường ngách hẻm (km) | L7: Đường trục chính nội đồng (km) | N7: Rãnh BTXM có nắp đậy | O7: Rãnh BTXM không có nắp đậy | P7: Rãnh Gạch xây có nắp đậy | Q7: Rãnh Gạch xây không có nắp đậy | R7: Rãnh BTXM có nắp đậy | S7: Rãnh BTXM không có nắp đậy | T7: Rãnh Gạch xây có nắp đậy | U7: Rãnh Gạch xây không có nắp đậy | X7: Đường trục xã và đường phố (km) | Y7: Đường trục thôn, xóm và đường ngõ phố (km) | Z7: Đường ngõ, xóm và đường ngách hẻm (km) | AA7: Đường trục chính nội đồng (km) | AC7: Đường trục xã và đường phố (km) | AD7: Đường trục thôn, ngõ phố (km) | AE7: Đường ngõ, xóm và đường ngách hẻm (km) | AF7: Tổng diện tích tỉnh hỗ trợ (m2) | AH7: Rãnh BTXM có nắp đậy | AI7: Rãnh BTXM không có nắp đậy | AJ7: Rãnh Gạch xây có nắp đậy | AK7: Rãnh Gạch xây không có nắp đậy | AL7: Rãnh BTXM có nắp đậy | AM7: Rãnh BTXM không có nắp đậy | AN7: Rãnh Gạch xây có nắp đậy | AO7: Rãnh Gạch xây không có nắp đậy
A8: 1 | B8: 2 | C8: 3 | D8: 4 | E8: 5 | F8: 6 | G8: 7 | H8: 8 | I8: 9 | J8: 10 | K8: 11 | L8: 12 | M8: 13 | N8: 14 | O8: 15 | P8: 16 | Q8: 17 | R8: 18 | S8: 19 | T8: 20 | U8: 21 | V8: 22 | W8: 23 | X8: 24 | Y8: 25 | Z8: 26 | AA8: 27 | AB8: 28 | AC8: 29 | AD8: 30 | AE8: 31 | AF8: 32 | AG8: 33 | AH8: 34 | AI8: 35 | AJ8: 36 | AK8: 37 | AL8: 38 | AM8: 39 | AN8: 40 | AO8: 41 | AP8: 42 | AQ8: 43 | AR8: 44 | AS8: 45 | AT8: 69 | AU8: 70 | AV8: 71
A9: I | B9: Huyện miền núi | AF9: =(AC9*5+AD9*3.5)*1000 -> 0
