Workbook

Sheet 15.4
B1: UỶ BAN NHÂN DÂN TỈNH HÀ TĨNH
B2: SỞ GIAO THÔNG VẬN TẢI
A3: BÁO CÁO KẾT QUẢ THỰC HIỆN KẾ HOẠCH LÀM ĐƯỜNG GIAO THÔNG, RÃNH THOÁT NƯỚC, PHỤC HỒI MẶT ĐƯỜNG BTXM THEO CƠ CHẾ HỖ TRỢ CỦA TỈNH ĐẾN NGÀY 15/4/2021
A5: TT | B5: Huyện, thị xã, thành phố | C5: Khối lượng theo kế hoạch UBND tỉnh | W5: Kết quả thực hiện lũy kế đến thời điểm báo cáo | AQ5: Mức độ hoàn thành kế hoạch đầu năm | AT5: Tăng so với tuần trước | BA5: Định mức cho 1 km đường (tấn/km) | BG5: Định mức xi măng tính cho 1km rãnh (tấn/km)
C6: Đường giao thông (km) | D6: Trong đó | H6: Nâng cấp phục hồi mặt đường BTXM (km) | I6: Trong đó | M6: Rãnh thoát nước (km) | N6: Rãnh trên đường trục xã | R6: Rãnh trên đường trục thôn | V6: Tổng khối lượng xi măng (tấn) | W6: Đường giao thông (km) | X6: Trong đó | AB6: Nâng cấp phục hồi mặt đường BTXM (km) | AC6: Trong đó | AG6: Rãnh thoát nước (km) | AH6: Rãnh trên đường trục xã | AL6: Rãnh trên đường trục thôn | AP6: Tổng khối lượng xi măng đã nhận (tấn) | AQ6: Đường giao thông (%) | AR6: Nâng cấp phục hồi mặt đường BTXM (%) | AS6: Rãnh thoát nước (%) | AT6: Đường giao thông (km) | AU6: Nâng cấp phục hồi mặt đường BTXM (km) | AV6: Rãnh thoát nước (km) | BA6: Loại đường | BB6: ĐMXM theo 3212 | BC6: ĐMXM theo TT10.2019 | BD6: Chênh | BG6: Loại rãnh | BH6: ĐMXM theo 3212 | BI6: ĐMXM theo TT10.2019 | BJ6: Chênh
D7: Đường trục xã và đường phố (km) | E7: Đường trục thôn, xóm và đường ngõ phố (km) | F7: Đường ngõ, xóm và đường ngách hẻm (km) | G7: Đường trục chính nội đồng (km) | I7: Đường trục xã và đường phố (km) | J7: Đường trục thôn, xóm và đường ngõ phố (km) | K7: Đường ngõ, xóm và đường ngách hẻm (km) | L7: Đường trục chính nội đồng (km) | N7: Rãnh BTXM có nắp đậy | O7: Rãnh BTXM không có nắp đậy | P7: Rãnh Gạch xây có nắp đậy | Q7: Rãnh Gạch xây không có nắp đậy | R7: Rãnh BTXM có nắp đậy | S7: Rãnh BTXM không có nắp đậy | T7: Rãnh Gạch xây có nắp đậy | U7: Rãnh Gạch xây không có nắp đậy | X7: Đường trục xã và đường phố (km) | Y7: Đường trục thôn, xóm và đường ngõ phố (km) | Z7: Đường ngõ, xóm và đường ngách hẻm (km) | AA7: Đường trục chính nội đồng (km) | AC7: Đường trục xã và đường phố (km) | AD7: Đường trục thôn, xóm và đường ngõ phố (km) | AE7: Đường ngõ, xóm và đường ngách hẻm (km) | AF7: Tổng diện tích (m2) | AH7: Rãnh BTXM có nắp đậy | AI7: Rãnh BTXM không có nắp đậy | AJ7: Rãnh Gạch xây có nắp đậy | AK7: Rãnh Gạch xây không có nắp đậy | AL7: Rãnh BTXM có nắp đậy | AM7: Rãnh BTXM không có nắp đậy | AN7: Rãnh Gạch xây có nắp đậy | AO7: Rãnh Gạch xây không có nắp đậy | BA7: Trục xã | BB7: =ROUNDUP(5*0.18*1000*309/1000*1.025,2) -> 285.06 | BC7: =ROUND(5*0.18*1000*284/1000*1.025,2) -> 261.99 | BD7: =+BC7-BB7 -> -23.07 | BG7: Rãnh trục xã
A8: 1 | B8: 2 | C8: 3 | D8: 4 | E8: 5 | F8: 6 | G8: 7 | H8: 8 | I8: 9 | J8: 10 | K8: 11 | L8: 12 | M8: 13 | N8: 14 | O8: 15 | P8: 16 | Q8: 17 | R8: 18 | S8: 19 | T8: 20 | U8: 21 | V8: 22 | W8: 23 | X8: 24 | Y8: 25 | Z8: 26 | AA8: 27 | AB8: 28 | AC8: 29 | AD8: 30 | AE8: 31 | AF8: 32 | AG8: 33 | AH8: 34 | AI8: 35 | AJ8: 36 | AK8: 37 | AL8: 38 | AM8: 39 | AN8: 40 | AO8: 41 | AP8: 42 | AQ8: 43 | AR8: 44 | AS8: 45 | AT8: 69 | AU8: 70 | AV8: 71 | BA8: Trục thôn | BB8: =ROUND(3.5*0.16*1000*309/1000*1.025,2) -> 177.37 | BC8: =ROUND(3.5*0.16*1000*284/1000*1.025,2) -> 163.02 | BD8: =+BC8-BB8 -> -14.35 | BG8: Rãnh BTXM có nắp | BH8: 85.72 | BI8: 79.66 | BJ8: =+BI8-BH8 -> -6.06
A9: I | B9: Huyện miền núi | AF9: =(AC9*5+AD9*3.5)*1000 -> 0
A10: 1 | B10: Huyện Kỳ Anh | C10: =SUM(D10:G10) -> 58.41 | D10: 1.83 | E10: 10.19 | F10: 38.71 | G10: 7.68 | H10: =SUM(I10:L10) -> 6.2 | I10: 0 | J10: 5.3 | K10: 0.9 | M10: =SUM(N10:U10) -> 57.37 | N10: 1 | O10: 5.38 | P10: 2.48 | Q10: 3.28 | R10: 0.54 | S10: 23.22 | T10: 2.36 | U10: 19.11 | V10: 10271 | W10: =SUM(X10:AA10) -> 3.141 | X10: 0 | Y10: 0.21 | Z10: 2.716 | AA10: 0.215 | AB10: =SUM(AC10:AE10) -> 0 | AF10: =(AC10*5+AD10*3.5)*1000 -> 0 | AG10: =+SUM(AH10:AO10) -> 2.64 | AH10: 0 | AI10: 0 | AJ10: 0 | AK10: 0.8 | AL10: 0 | AM10: 0 | AN10: 0.14 | AO10: 1.7 | AP10: 428 | AQ10: =$W10/C10 -> 0.053775039 | AR10: =IF(H10=0,"-",AB10/H10) -> 0 | AS10: =AG10/M10 -> 0.046017082 | AT10: =W10-'[1]10-12'!W9 -> -36.5295 | AU10: =AB10-'[1]10-12'!AB9 -> -0.92 | AV10: =AG10-'[1]10-12'!AG9 -> -36.439 | AX10: 7013 | AY10: 3258 | AZ10: =+AX10+AY10 -> 10271 | BA10: Ngõ xóm | BB10: =ROUND(3*0.14*1000*266/1000*1.025,2) -> 114.51 | BC10: =ROUND(3*0.14*1000*244/1000*1.025,2) -> 105.04 | BD10: =+BC10-BB10 -> -9.47 | BG10: Rãnh BTXM không nắp | BH10: 71.65 | BI10: 66.73 | BJ10: =+BI10-BH10 -> -4.92
A11: 2 | B11: Huyện Hương Sơn | C11: =SUM(D11:G11) -> 28.7 | D11: - | E11: 5.2 | F11: 20.2 | G11: 3.3 | H11: =SUM(I11:L11) -> 5.5 | I11: 0 | J11: 5.5 | K11: 0 | M11: =SUM(N11:U11) -> 13.94 | N11: 0.6 | O11: 0.5 | P11: 0.12 | Q11: 0.1 | R11: 1.6 | S11: 3.92 | T11: 1.71 | U11: 5.39 | V11: 4122 | W11: =SUM(X11:AA11) -> 0 | AB11: =SUM(AC11:AE11) -> 0 | AF11: =(AC11*5+AD11*3.5)*1000 -> 0 | AG11: =+SUM(AH11:AO11) -> 0 | AQ11: =$W11/C11 -> 0 | AR11: =IF(H11=0,"-",AB11/H11) -> 0 | AS11: =AG11/M11 -> 0 | AT11: =W11-'[1]10-12'!W10 -> -52.71 | AU11: =AB11-'[1]10-12'!AB10 -> -1.65 | AV11: =AG11-'[1]10-12'!AG10 -> -9.161 | AX11: 3316 | AY11: 806 | AZ11: =+AX11+AY11 -> 4122 | BG11: Rãnh gạch xây có nắp | BH11: 87 | BI11: 81.34 | BJ11: =+BI11-BH11 -> -5.66
A12: 3 | B12: Huyện Hương Khê | C12: =SUM(D12:G12) -> 83.71 | D12: 0.36 | E12: 13.42 | F12: 53.2 | G12: 16.73 | H12: =SUM(I12:L12) -> 1.5 | I12: 1.5 | J12: 0 | K12: 0 | M12: =SUM(N12:U12) -> 17.11 | N12: 0.79 | O12: 1.83 | P12: 2.15 | Q12: 0.35 | R12: 0.52 | S12: 11.22 | T12: 0 | U12: 0.25 | V12: 10689 | W12: =SUM(X12:AA12) -> 0 | AB12: =SUM(AC12:AE12) -> 0 | AF12: =(AC12*5+AD12*3.5)*1000 -> 0 | AG12: =+SUM(AH12:AO12) -> 0 | AQ12: =$W12/C12 -> 0 | AR12: =IF(H12=0,"-",AB12/H12) -> 0 | AS12: =AG12/M12 -> 0 | AT12: =W12-'[1]10-12'!W11 -> -12.382 | AU12: =AB12-'[1]10-12'!AB11 -> -6.4 | AV12: =AG12-'[1]10-12'!AG11 -> -5.432 | AX12: 9627 | AY12: 1062 | AZ12: =+AX12+AY12 -> 10689 | BG12: Rãnh gạch xây không nắp | BH12: 58.26 | BI12: 55.2 | BJ12: =+BI12-BH12 -> -3.06
A13: 4 | B13: Huyện Vũ Quang | C13: =SUM(D13:G13) -> 13.77 | D13: 0.72 | E13: 1.69 | F13: 8.34 | G13: 3.02 | H13: =SUM(I13:L13) -> 0.9 | I13: 0 | J13: 0.9 | K13: 0 | M13: =SUM(N13:U13) -> 1.18 | N13: 0 | O13: 0 | P13: 0 | Q13: 0 | R13: 0.32 | S13: 0.86 | T13: 0 | U13: 0 | V13: 1727 | W13: =SUM(X13:AA13) -> 0 | AB13: =SUM(AC13:AE13) -> 0.33 | AD13: 0.33 | AF13: =(AC13*5+AD13*3.5)*1000 -> 1155 | AG13: =+SUM(AH13:AO13) -> 0 | AQ13: =$W13/C13 -> 0 | AR13: =IF(H13=0,"-",AB13/H13) -> 0.36666667 | AS13: =AG13/M13 -> 0 | AT13: =W13-'[1]10-12'!W12 -> -91.966 | AU13: =AB13-'[1]10-12'!AB12 -> -14.066 | AV13: =AG13-'[1]10-12'!AG12 -> -8.629 | AX13: 1657 | AY13: 70 | AZ13: =+AX13+AY13 -> 1727 | BG13: Rãnh trục thôn
A14: II | B14: Các địa phương khác
A15: 1 | B15: Thị xã Kỳ Anh | C15: =SUM(D15:G15) -> 16.11 | D15: - | E15: 5.31 | F15: 10.8 | G15: - | H15: =SUM(I15:L15) -> 0.42 | I15: 0 | J15: 0.12 | K15: 0.3 | M15: =SUM(N15:U15) -> 8.87 | N15: 0 | O15: 0 | P15: 0 | Q15: 0 | R15: 1.56 | S15: 5.86 | T15: 1.45 | U15: - | V15: 2541 | W15: =SUM(X15:AA15) -> 0 | AB15: =SUM(AC15:AE15) -> 0 | AF15: =(AC15*5+AD15*3.5)*1000 -> 0 | AG15: =+SUM(AH15:AO15) -> 0 | AQ15: =$W15/C15 -> 0 | AR15: =IF(H15=0,"-",AB15/H15) -> 0 | AS15: =AG15/M15 -> 0 | AT15: =W15-'[1]10-12'!W13 -> -37.303 | AU15: =AB15-'[1]10-12'!AB13 -> -10 | AV15: =AG15-'[1]10-12'!AG13 -> -13.838 | AX15: 2000 | AY15: 541 | AZ15: =+AX15+AY15 -> 2541 | BG15: Rãnh BTXM có nắp | BH15: 72.16 | BI15: 67.06 | BJ15: =+BI15-BH15 -> -5.1
A16: 2 | B16: Huyện Cẩm Xuyên | C16: =SUM(D16:G16) -> 80.01 | D16: 3.05 | E16: 22.12 | F16: 43.28 | G16: 11.56 | H16: =SUM(I16:L16) -> 12.4 | I16: 4.5 | J16: 5.9 | K16: 2 | M16: =SUM(N16:U16) -> 7.55 | N16: 2.1 | O16: 2.5 | P16: 0 | Q16: 0 | R16: 0.89 | S16: 0.75 | T16: 0.3 | U16: 1.01 | V16: 10671 | W16: =SUM(X16:AA16) -> 5.25 | Y16: 1.45 | Z16: 3.3 | AA16: 0.5 | AB16: =SUM(AC16:AE16) -> 0 | AF16: =(AC16*5+AD16*3.5)*1000 -> 0 | AG16: =+SUM(AH16:AO16) -> 1.75 | AH16: 1.1 | AL16: 0.65 | AQ16: =$W16/C16 -> 0.065616798 | AS16: =AG16/M16 -> 0.23178808 | AT16: =W16-'[1]10-12'!W14 -> -7.078 | AU16: =AB16-'[1]10-12'!AB14 -> 0 | AV16: =AG16-'[1]10-12'!AG14 -> -0.566 | AX16: 10165 | AY16: 506 | AZ16: =+AX16+AY16 -> 10671 | BG16: Rãnh BTXM không nắp | BH16: 60.9 | BI16: 56.72 | BJ16: =+BI16-BH16 -> -4.18
A17: 3 | B17: Thành phố Hà Tĩnh | C17: =SUM(D17:G17) -> 15.29 | D17: - | E17: 4.18 | F17: 8.78 | G17: 2.33 | H17: =SUM(I17:L17) -> 12.7 | I17: 0 | J17: 8.5 | K17: 4.2 | M17: =SUM(N17:U17) -> 6.95 | N17: 6.32 | O17: 0 | P17: 0 | Q17: 0 | R17: 0.63 | S17: 0 | T17: 0 | U17: 0 | V17: 2394 | W17: =SUM(X17:AA17) -> 0.95 | Y17: 0.19 | Z17: 0.76 | AB17: =SUM(AC17:AE17) -> 2.91 | AE17: 2.91 | AF17: =(AC17*5+AD17*3.5)*1000 -> 0 | AG17: =+SUM(AH17:AO17) -> 0.26 | AL17: 0.26 | AP17: 294 | AQ17: =$W17/C17 -> 0.062132112 | AR17: =IF(H17=0,"-",AB17/H17) -> 0.22913386 | AS17: =AG17/M17 -> 0.037410072 | AT17: =W17-'[1]10-12'!W15 -> -17.51 | AU17: =AB17-'[1]10-12'!AB15 -> 2.91 | AV17: =AG17-'[1]10-12'!AG15 -> -0.78 | AX17: 1848 | AY17: 546 | AZ17: =+AX17+AY17 -> 2394 | BG17: Rãnh gạch xây có nắp | BH17: 76.52 | BI17: 71.44 | BJ17: =+BI17-BH17 -> -5.08
A18: 4 | B18: Huyện Thạch Hà | C18: =SUM(D18:G18) -> 97.59 | D18: 8.17 | E18: 7.68 | F18: 40.79 | G18: 40.95 | H18: =SUM(I18:L18) -> 30.29 | I18: 8.3 | J18: 17.8 | K18: 4.19 | M18: =SUM(N18:U18) -> 7.45 | N18: 0.9 | O18: 0.42 | P18: 0 | Q18: 0.35 | R18: 1.88 | S18: 3.4 | T18: 0.1 | U18: 0.4 | V18: 12442 | W18: =SUM(X18:AA18) -> 11.714 | X18: 0 | Y18: 1.64 | Z18: 7.054 | AA18: 3.02 | AB18: =SUM(AC18:AE18) -> 6.218 | AC18: 1.5 | AD18: 4.718 | AE18: 0 | AF18: =(AC18*5+AD18*3.5)*1000 -> 24013 | AG18: =+SUM(AH18:AO18) -> 1.01 | AH18: 0 | AI18: 0.19 | AJ18: 0 | AK18: 0 | AL18: 0.29 | AM18: 0.35 | AN18: 0.18 | AO18: 0 | AP18: 1642 | AQ18: =$W18/C18 -> 0.12003279 | AS18: =AG18/M18 -> 0.13557047 | AT18: =W18-'[1]10-12'!W16 -> -46.656 | AU18: =AB18-'[1]10-12'!AB16 -> 6.218 | AV18: =AG18-'[1]10-12'!AG16 -> -43.7 | AX18: 11978 | AY18: 464 | AZ18: =+AX18+AY18 -> 12442 | BG18: Rãnh gạch xây không nắp | BH18: 50.58 | BI18: 47.89 | BJ18: =+BI18-BH18 -> -2.69
A19: 5 | B19: Huyện Can Lộc | C19: =SUM(D19:G19) -> 86.61 | D19: 0.4 | E19: 14.6 | F19: 53.25 | G19: 18.36 | H19: =SUM(I19:L19) -> 28.88 | I19: 10.7 | J19: 17.4 | K19: 0.78 | M19: =SUM(N19:U19) -> 28.57 | N19: 0.81 | O19: 0 | P19: 1.53 | Q19: 0 | R19: 8.38 | S19: 0 | T19: 17.85 | U19: 0 | V19: 12033 | W19: =SUM(X19:AA19) -> 4.56 | X19: 0 | Y19: 2.73 | Z19: 1.83 | AA19: 0 | AB19: =SUM(AC19:AE19) -> 4.126 | AD19: 4.126 | AF19: =(AC19*5+AD19*3.5)*1000 -> 14441 | AG19: =+SUM(AH19:AO19) -> 1.665 | AN19: 1.665 | AP19: 804 | AQ19: =$W19/C19 -> 0.052649809 | AR19: =IF(H19=0,"-",AB19/H19) -> 0.14286704 | AS19: =AG19/M19 -> 0.058277914 | AT19: =W19-'[1]10-12'!W17 -> -13.169 | AU19: =AB19-'[1]10-12'!AB17 -> -7.177 | AV19: =AG19-'[1]10-12'!AG17 -> -2.055 | AX19: 10007 | AY19: 2026 | AZ19: =+AX19+AY19 -> 12033
A20: 6 | B20: Huyện Đức Thọ | C20: =SUM(D20:G20) -> 28.4 | D20: - | E20: 2.4 | F20: 23.6 | G20: 2.4 | H20: =SUM(I20:L20) -> 10.08 | I20: 4 | J20: 3.95 | K20: 2.13 | M20: =SUM(N20:U20) -> 3.1 | N20: 0 | O20: 0 | P20: 0 | Q20: 0 | R20: 3.1 | S20: 0 | T20: 0 | U20: 0 | V20: 3330 | W20: =SUM(X20:AA20) -> 4.09 | X20: 0.5 | Y20: 0 | Z20: 3.59 | AB20: =SUM(AC20:AE20) -> 0 | AF20: =(AC20*5+AD20*3.5)*1000 -> 0 | AG20: =+SUM(AH20:AO20) -> 0 | AP20: 547 | AQ20: =$W20/C20 -> 0.14401408 | AR20: =IF(H20=0,"-",AB20/H20) -> 0 | AS20: =AG20/M20 -> 0 | AT20: =W20-'[1]10-12'!W18 -> -8.421 | AU20: =AB20-'[1]10-12'!AB18 -> 0 | AV20: =AG20-'[1]10-12'!AG18 -> -5.037 | AX20: 3122 | AY20: 208 | AZ20: =+AX20+AY20 -> 3330
A21: 7 | B21: Huyện Nghi Xuân | C21: =SUM(D21:G21) -> 17 | D21: 0.29 | E21: 4.27 | F21: 6.57 | G21: 5.87 | H21: =SUM(I21:L21) -> 3.03 | I21: 1.8 | J21: 1.03 | K21: 0.2 | M21: =SUM(N21:U21) -> 5.28 | N21: 0 | O21: 0 | P21: 0.85 | Q21: 0 | R21: 0 | S21: 1.55 | T21: 2 | U21: 0.88 | V21: 2421 | W21: =SUM(X21:AA21) -> 0 | AB21: =SUM(AC21:AE21) -> 0.156 | AD21: 0.156 | AF21: =(AC21*5+AD21*3.5)*1000 -> 546 | AG21: =+SUM(AH21:AO21) -> 0 | AQ21: =$W21/C21 -> 0 | AR21: =IF(H21=0,"-",AB21/H21) -> 0.051485149 | AS21: =AG21/M21 -> 0 | AT21: =W21-'[1]10-12'!W19 -> -3.499 | AU21: =AB21-'[1]10-12'!AB19 -> -0.624 | AV21: =AG21-'[1]10-12'!AG19 -> -6.279 | AX21: 2079 | AY21: 342 | AZ21: =+AX21+AY21 -> 2421
A22: 8 | B22: Thị xã Hồng Lĩnh | C22: =SUM(D22:G22) -> 9.42 | D22: - | E22: 8.58 | F22: 0.34 | G22: 0.5 | H22: =SUM(I22:L22) -> 6 | I22: 0.7 | J22: 5.3 | K22: 0 | M22: =SUM(N22:U22) -> 16.37 | N22: 0 | O22: 0 | P22: 0 | Q22: 0 | R22: 7.93 | S22: 0 | T22: 8.44 | U22: 0 | V22: 2622 | W22: =SUM(X22:AA22) -> 1.534 | Y22: 1.534 | AB22: =SUM(AC22:AE22) -> 0 | AF22: =(AC22*5+AD22*3.5)*1000 -> 0 | AG22: =+SUM(AH22:AO22) -> 2.184 | AL22: 2.184 | AQ22: =$W22/C22 -> 0.16284501 | AR22: =IF(H22=0,"-",AB22/H22) -> 0 | AS22: =AG22/M22 -> 0.13341478 | AT22: =W22-'[1]10-12'!W20 -> -30.37 | AU22: =AB22-'[1]10-12'!AB20 -> 0 | AV22: =AG22-'[1]10-12'!AG20 -> -6.103 | AX22: 1487 | AY22: 1135 | AZ22: =+AX22+AY22 -> 2622
A23: 9 | B23: Huyện Lộc Hà | C23: =SUM(D23:G23) -> 25.51 | D23: - | E23: 1.93 | F23: 14.39 | G23: 9.19 | H23: =SUM(I23:L23) -> 32.1 | I23: 1.9 | J23: 23.7 | K23: 6.5 | M23: =SUM(N23:U23) -> 9.32 | N23: 0.37 | O23: 0 | P23: 0 | Q23: 0 | R23: 6.25 | S23: 0 | T23: 2.7 | U23: 0 | V23: 3432 | W23: =SUM(X23:AA23) -> 0 | AB23: =SUM(AC23:AE23) -> 4.51 | AC23: 1.91 | AD23: 1.2 | AE23: 1.4 | AF23: =(AC23*5+AD23*3.5)*1000 -> 13750 | AG23: =+SUM(AH23:AO23) -> 0 | AQ23: =$W23/C23 -> 0 | AR23: =IF(H23=0,"-",AB23/H23) -> 0.14049844 | AS23: =AG23/M23 -> 0 | AT23: =W23-'[1]10-12'!W21 -> -6.795 | AU23: =AB23-'[1]10-12'!AB21 -> 4.51 | AV23: =AG23-'[1]10-12'!AG21 -> -1.17 | AX23: 2791 | AY23: 641 | AZ23: =+AX23+AY23 -> 3432
B24: Tổng cộng | C24: =SUM(C10:C23) -> 560.53 | D24: =SUM(D10:D23) -> 14.82 | E24: =SUM(E10:E23) -> 101.57 | F24: =SUM(F10:F23) -> 322.25 | G24: =SUM(G10:G23) -> 121.89 | H24: =SUM(H10:H23) -> 150 | I24: =SUM(I10:I23) -> 33.4 | J24: =SUM(J10:J23) -> 95.4 | ... AP24: =SUM(AP10:AP23) -> 3715 | AQ24: =$W24/C24 -> 0.055731183 | AR24: =IF(H24=0,"-",AB24/H24) -> 0.12166667 | AS24: =AG24/M24 -> 0.051944718 | AT24: =SUM(AT10:AT23) -> -364.3885 | AU24: =SUM(AU10:AU23) -> -27.199 | AV24: =SUM(AV10:AV23) -> -139.189
AX25: =+SUM(AX10:AX23) -> 67090 | AY25: =+SUM(AY10:AY23) -> 11605 | AZ25: =+SUM(AZ10:AZ23) -> 78695
AP26: =+AP24/V24 -> 0.047207574
AZ41: =11+7+5+1 -> 24

Sheet 22.4
B1: UỶ BAN NHÂN DÂN TỈNH HÀ TĨNH
B2: SỞ GIAO THÔNG VẬN TẢI
A3: BÁO CÁO KẾT QUẢ THỰC HIỆN KẾ HOẠCH LÀM ĐƯỜNG GIAO THÔNG, RÃNH THOÁT NƯỚC, PHỤC HỒI MẶT ĐƯỜNG BTXM THEO CƠ CHẾ HỖ TRỢ CỦA TỈNH ĐẾN NGÀY 22/4/2021
A5: TT | B5: Huyện, thị xã, thành phố | C5: Khối lượng theo kế hoạch UBND tỉnh | W5: Kết quả thực hiện lũy kế đến thời điểm báo cáo | AQ5: Mức độ hoàn thành kế hoạch đầu năm | AT5: Tăng so với tuần trước | BA5: Định mức cho 1 km đường (tấn/km) | BG5: Định mức xi măng tính cho 1km rãnh (tấn/km)
C6: Đường giao thông (km) | D6: Trong đó | H6: Nâng cấp phục hồi mặt đường BTXM (km) | I6: Trong đó | M6: Rãnh thoát nước (km) | N6: Rãnh trên đường trục xã | R6: Rãnh trên đường trục thôn | V6: Tổng khối lượng xi măng (tấn) | W6: Đường giao thông (km) | X6: Trong đó | AB6: Nâng cấp phục hồi mặt đường BTXM (km) | AC6: Trong đó | AG6: Rãnh thoát nước (km) | AH6: Rãnh trên đường trục xã | AL6: Rãnh trên đường trục thôn | AP6: Tổng khối lượng xi măng đã nhận (tấn) | AQ6: Đường giao thông (%) | AR6: Nâng cấp phục hồi mặt đường BTXM (%) | AS6: Rãnh thoát nước (%) | AT6: Đường giao thông (km) | AU6: Nâng cấp phục hồi mặt đường BTXM (km) | AV6: Rãnh thoát nước (km) | BA6: Loại đường | BB6: ĐMXM theo 3212 | BC6: ĐMXM theo TT10.2019 | BD6: Chênh | BG6: Loại rãnh | BH6: ĐMXM theo 3212 | BI6: ĐMXM theo TT10.2019 | BJ6: Chênh
D7: Đường trục xã và đường phố (km) | E7: Đường trục thôn, xóm và đường ngõ phố (km) | F7: Đường ngõ, xóm và đường ngách hẻm (km) | G7: Đường trục chính nội đồng (km) | I7: Đường trục xã và đường phố (km) | J7: Đường trục thôn, xóm và đường ngõ phố (km) | K7: Đường ngõ, xóm và đường ngách hẻm (km) | L7: Đường trục chính nội đồng (km) | N7: Rãnh BTXM có nắp đậy | O7: Rãnh BTXM không có nắp đậy | P7: Rãnh Gạch xây có nắp đậy | Q7: Rãnh Gạch xây không có nắp đậy | R7: Rãnh BTXM có nắp đậy | S7: Rãnh BTXM không có nắp đậy | T7: Rãnh Gạch xây có nắp đậy | U7: Rãnh Gạch xây không có nắp đậy | X7: Đường trục xã và đường phố (km) | Y7: Đường trục thôn, xóm và đường ngõ phố (km) | Z7: Đường ngõ, xóm và đường ngách hẻm (km) | AA7: Đường trục chính nội đồng (km) | AC7: Đường trục xã và đường phố (km) | AD7: Đường trục thôn, xóm và đường ngõ phố (km) | AE7: Đường ngõ, xóm và đường ngách hẻm (km) | AF7: Tổng diện tích (m2) | AH7: Rãnh BTXM có nắp đậy | AI7: Rãnh BTXM không có nắp đậy | AJ7: Rãnh Gạch xây có nắp đậy | AK7: Rãnh Gạch xây không có nắp đậy | AL7: Rãnh BTXM có nắp đậy | AM7: Rãnh BTXM không có nắp đậy | AN7: Rãnh Gạch xây có nắp đậy | AO7: Rãnh Gạch xây không có nắp đậy | BA7: Trục xã | BB7: =ROUNDUP(5*0.18*1000*309/1000*1.025,2) -> 285.06 | BC7: =ROUND(5*0.18*1000*284/1000*1.025,2) -> 261.99 | BD7: =+BC7-BB7 -> -23.07 | BG7: Rãnh trục xã
A8: 1 | B8: 2 | C8: 3 | D8: 4 | E8: 5 | F8: 6 | G8: 7 | H8: 8 | I8: 9 | J8: 10 | K8: 11 | L8: 12 | M8: 13 | N8: 14 | O8: 15 | P8: 16 | Q8: 17 | R8: 18 | S8: 19 | T8: 20 | U8: 21 | V8: 22 | W8: 23 | X8: 24 | Y8: 25 | Z8: 26 | AA8: 27 | AB8: 28 | AC8: 29 | AD8: 30 | AE8: 31 | AF8: 32 | AG8: 33 | AH8: 34 | AI8: 35 | AJ8: 36 | AK8: 37 | AL8: 38 | AM8: 39 | AN8: 40 | AO8: 41 | AP8: 42 | AQ8: 43 | AR8: 44 | AS8: 45 | AT8: 69 | AU8: 70 | AV8: 71 | BA8: Trục thôn | BB8: =ROUND(3.5*0.16*1000*309/1000*1.025,2) -> 177.37 | BC8: =ROUND(3.5*0.16*1000*284/1000*1.025,2) -> 163.02 | BD8: =+BC8-BB8 -> -14.35 | BG8: Rãnh BTXM có nắp | BH8: 85.72 | BI8: 79.66 | BJ8: =+BI8-BH8 -> -6.06
A9: I | B9: Huyện miền núi | AF9: =(AC9*5+AD9*3.5)*1000 -> 0
A10: 1 | B10: Huyện Kỳ Anh | C10: =SUM(D10:G10) -> 58.41 | D10: 1.83 | E10: 10.19 | F10: 38.71 | G10: 7.68 | H10: =SUM(I10:L10) -> 6.2 | I10: 0 | J10: 5.3 | K10: 0.9 | M10: =SUM(N10:U10) -> 57.37 | N10: 1 | O10: 5.38 | P10: 2.48 | Q10: 3.28 | R10: 0.54 | S10: 23.22 | T10: 2.36 | U10: 19.11 | V10: 10271 | W10: =SUM(X10:AA10) -> 4.491 | X10: 0.07 | Y10: 0.48 | Z10: 3.726 | AA10: 0.215 | AB10: =SUM(AC10:AE10) -> 0 | AF10: =(AC10*5+AD10*3.5)*1000 -> 0 | AG10: =+SUM(AH10:AO10) -> 5.65 | AH10: 0 | AI10: 0 | AJ10: 0 | AK10: 0.8 | AL10: 0 | AM10: 2.45 | AN10: 0.14 | AO10: 2.26 | AP10: 855 | AQ10: =$W10/C10 -> 0.076887519 | AR10: =IF(H10=0,"-",AB10/H10) -> 0 | AS10: =AG10/M10 -> 0.098483528 | AT10: =W10-'15.4'!W10 -> 1.35 | AU10: =AB10-'15.4'!AB10 -> 0 | AV10: =AG10-'15.4'!AG10 -> 3.01 | AX10: 7013 | AY10: 3258 | AZ10: =+AX10+AY10 -> 10271 | BA10: Ngõ xóm | BB10: =ROUND(3*0.14*1000*266/1000*1.025,2) -> 114.51 | BC10: =ROUND(3*0.14*1000*244/1000*1.025,2) -> 105.04 | BD10: =+BC10-BB10 -> -9.47 | BG10: Rãnh BTXM không nắp | BH10: 71.65 | BI10: 66.73 | BJ10: =+BI10-BH10 -> -4.92
A11: 2 | B11: Huyện Hương Sơn | C11: =SUM(D11:G11) -> 28.7 | D11: - | E11: 5.2 | F11: 20.2 | G11: 3.3 | H11: =SUM(I11:L11) -> 5.5 | I11: 0 | J11: 5.5 | K11: 0 | M11: =SUM(N11:U11) -> 13.94 | N11: 0.6 | O11: 0.5 | P11: 0.12 | Q11: 0.1 | R11: 1.6 | S11: 3.92 | T11: 1.71 | U11: 5.39 | V11: 4122 | W11: =SUM(X11:AA11) -> 2.1 | Y11: 1.2 | Z11: 0.9 | AB11: =SUM(AC11:AE11) -> 2.5 | AC11: 2.5 | AF11: =(AC11*5+AD11*3.5)*1000 -> 12500 | AG11: =+SUM(AH11:AO11) -> 0.8 | AH11: 0.8 | AP11: 798 | AQ11: =$W11/C11 -> 0.073170732 | AR11: =IF(H11=0,"-",AB11/H11) -> 0.45454545 | AS11: =AG11/M11 -> 0.057388809 | AT11: =W11-'15.4'!W11 -> 2.1 | AU11: =AB11-'15.4'!AB11 -> 2.5 | AV11: =AG11-'15.4'!AG11 -> 0.8 | AX11: 3316 | AY11: 806 | AZ11: =+AX11+AY11 -> 4122 | BG11: Rãnh gạch xây có nắp | BH11: 87 | BI11: 81.34 | BJ11: =+BI11-BH11 -> -5.66
A12: 3 | B12: Huyện Hương Khê | C12: =SUM(D12:G12) -> 83.71 | D12: 0.36 | E12: 13.42 | F12: 53.2 | G12: 16.73 | H12: =SUM(I12:L12) -> 1.5 | I12: 1.5 | J12: 0 | K12: 0 | M12: =SUM(N12:U12) -> 17.11 | N12: 0.79 | O12: 1.83 | P12: 2.15 | Q12: 0.35 | R12: 0.52 | S12: 11.22 | T12: 0 | U12: 0.25 | V12: 10689 | W12: =SUM(X12:AA12) -> 2.535 | Y12: 0.535 | Z12: 0.9 | AA12: 1.1 | AB12: =SUM(AC12:AE12) -> 0 | AF12: =(AC12*5+AD12*3.5)*1000 -> 0 | AG12: =+SUM(AH12:AO12) -> 0.5 | AO12: 0.5 | AP12: 771 | AQ12: =$W12/C12 -> 0.03028312 | AR12: =IF(H12=0,"-",AB12/H12) -> 0 | AS12: =AG12/M12 -> 0.029222677 | AT12: =W12-'15.4'!W12 -> 2.535 | AU12: =AB12-'15.4'!AB12 -> 0 | AV12: =AG12-'15.4'!AG12 -> 0.5 | AX12: 9627 | AY12: 1062 | AZ12: =+AX12+AY12 -> 10689 | BG12: Rãnh gạch xây không nắp | BH12: 58.26 | BI12: 55.2 | BJ12: =+BI12-BH12 -> -3.06
A13: 4 | B13: Huyện Vũ Quang | C13: =SUM(D13:G13) -> 13.77 | D13: 0.72 | E13: 1.69 | F13: 8.34 | G13: 3.02 | H13: =SUM(I13:L13) -> 0.9 | I13: 0 | J13: 0.9 | K13: 0 | M13: =SUM(N13:U13) -> 1.18 | N13: 0 | O13: 0 | P13: 0 | Q13: 0 | R13: 0.32 | S13: 0.86 | T13: 0 | U13: 0 | V13: 1727 | W13: =SUM(X13:AA13) -> 0 | AB13: =SUM(AC13:AE13) -> 0.33 | AD13: 0.33 | AF13: =(AC13*5+AD13*3.5)*1000 -> 1155 | AG13: =+SUM(AH13:AO13) -> 0 | AQ13: =$W13/C13 -> 0 | AR13: =IF(H13=0,"-",AB13/H13) -> 0.36666667 | AS13: =AG13/M13 -> 0 | AT13: =W13-'15.4'!W13 -> 0 | AU13: =AB13-'15.4'!AB13 -> 0 | AV13: =AG13-'15.4'!AG13 -> 0 | AX13: 1657 | AY13: 70 | AZ13: =+AX13+AY13 -> 1727 | BG13: Rãnh trục thôn
A14: II | B14: Các địa phương khác | AT14: =W14-'15.4'!W14 -> 0 | AU14: =AB14-'15.4'!AB14 -> 0 | AV14: =AG14-'15.4'!AG14 -> 0
A15: 1 | B15: Thị xã Kỳ Anh | C15: =SUM(D15:G15) -> 16.11 | D15: - | E15: 5.31 | F15: 10.8 | G15: - | H15: =SUM(I15:L15) -> 0.42 | I15: 0 | J15: 0.12 | K15: 0.3 | M15: =SUM(N15:U15) -> 8.87 | N15: 0 | O15: 0 | P15: 0 | Q15: 0 | R15: 1.56 | S15: 5.86 | T15: 1.45 | U15: - | V15: 2541 | W15: =SUM(X15:AA15) -> 0 | AB15: =SUM(AC15:AE15) -> 0 | AF15: =(AC15*5+AD15*3.5)*1000 -> 0 | AG15: =+SUM(AH15:AO15) -> 0 | AQ15: =$W15/C15 -> 0 | AR15: =IF(H15=0,"-",AB15/H15) -> 0 | AS15: =AG15/M15 -> 0 | AT15: =W15-'15.4'!W15 -> 0 | AU15: =AB15-'15.4'!AB15 -> 0 | AV15: =AG15-'15.4'!AG15 -> 0 | AX15: 2000 | AY15: 541 | AZ15: =+AX15+AY15 -> 2541 | BG15: Rãnh BTXM có nắp | BH15: 72.16 | BI15: 67.06 | BJ15: =+BI15-BH15 -> -5.1
A16: 2 | B16: Huyện Cẩm Xuyên | C16: =SUM(D16:G16) -> 80.01 | D16: 3.05 | E16: 22.12 | F16: 43.28 | G16: 11.56 | H16: =SUM(I16:L16) -> 12.4 | I16: 4.5 | J16: 5.9 | K16: 2 | M16: =SUM(N16:U16) -> 7.55 | N16: 2.1 | O16: 2.5 | P16: 0 | Q16: 0 | R16: 0.89 | S16: 0.75 | T16: 0.3 | U16: 1.01 | V16: 10671 | W16: =SUM(X16:AA16) -> 8.5 | Y16: 1.45 | Z16: 6.05 | AA16: 1 | AB16: =SUM(AC16:AE16) -> 0 | AF16: =(AC16*5+AD16*3.5)*1000 -> 0 | AG16: =+SUM(AH16:AO16) -> 1.75 | AH16: 1.1 | AL16: 0.65 | AP16: 1100 | AQ16: =$W16/C16 -> 0.10623672 | AS16: =AG16/M16 -> 0.23178808 | AT16: =W16-'15.4'!W16 -> 3.25 | AU16: =AB16-'15.4'!AB16 -> 0 | AV16: =AG16-'15.4'!AG16 -> 0 | AX16: 10165 | AY16: 506 | AZ16: =+AX16+AY16 -> 10671 | BG16: Rãnh BTXM không nắp | BH16: 60.9 | BI16: 56.72 | BJ16: =+BI16-BH16 -> -4.18
A17: 3 | B17: Thành phố Hà Tĩnh | C17: =SUM(D17:G17) -> 15.29 | D17: - | E17: 4.18 | F17: 8.78 | G17: 2.33 | H17: =SUM(I17:L17) -> 12.7 | I17: 0 | J17: 8.5 | K17: 4.2 | M17: =SUM(N17:U17) -> 6.95 | N17: 6.32 | O17: 0 | P17: 0 | Q17: 0 | R17: 0.63 | S17: 0 | T17: 0 | U17: 0 | V17: 2394 | W17: =SUM(X17:AA17) -> 0.95 | Y17: 0.19 | Z17: 0.76 | AB17: =SUM(AC17:AE17) -> 2.91 | AE17: 2.91 | AF17: =(AC17*5+AD17*3.5)*1000 -> 0 | AG17: =+SUM(AH17:AO17) -> 2.25 | AH17: 1.6 | AL17: 0.65 | AP17: 294 | AQ17: =$W17/C17 -> 0.062132112 | AR17: =IF(H17=0,"-",AB17/H17) -> 0.22913386 | AS17: =AG17/M17 -> 0.32374101 | AT17: =W17-'15.4'!W17 -> 0 | AU17: =AB17-'15.4'!AB17 -> 0 | AV17: =AG17-'15.4'!AG17 -> 1.99 | AX17: 1848 | AY17: 546 | AZ17: =+AX17+AY17 -> 2394 | BG17: Rãnh gạch xây có nắp | BH17: 76.52 | BI17: 71.44 | BJ17: =+BI17-BH17 -> -5.08
A18: 4 | B18: Huyện Thạch Hà | C18: =SUM(D18:G18) -> 97.59 | D18: 8.17 | E18: 7.68 | F18: 40.79 | G18: 40.95 | H18: =SUM(I18:L18) -> 30.29 | I18: 8.3 | J18: 17.8 | K18: 4.19 | M18: =SUM(N18:U18) -> 7.45 | N18: 0.9 | O18: 0.42 | P18: 0 | Q18: 0.35 | R18: 1.88 | S18: 3.4 | T18: 0.1 | U18: 0.4 | V18: 12442 | W18: =SUM(X18:AA18) -> 14.824 | X18: 0 | Y18: 1.64 | Z18: 9.464 | AA18: 3.72 | AB18: =SUM(AC18:AE18) -> 6.218 | AC18: 1.5 | AD18: 4.718 | AE18: 0 | AF18: 0 | AG18: =+SUM(AH18:AO18) -> 1.01 | AH18: 0 | AI18: 0.19 | AJ18: 0 | AK18: 0 | AL18: 0.29 | AM18: 0.35 | AN18: 0.18 | AO18: 0 | AP18: 2051 | AQ18: =$W18/C18 -> 0.15190081 | AS18: =AG18/M18 -> 0.13557047 | AT18: =W18-'15.4'!W18 -> 3.11 | AU18: =AB18-'15.4'!AB18 -> 0 | AV18: =AG18-'15.4'!AG18 -> 0 | AX18: 11978 | AY18: 464 | AZ18: =+AX18+AY18 -> 12442 | BG18: Rãnh gạch xây không nắp | BH18: 50.58 | BI18: 47.89 | BJ18: =+BI18-BH18 -> -2.69
A19: 5 | B19: Huyện Can Lộc | C19: =SUM(D19:G19) -> 86.61 | D19: 0.4 | E19: 14.6 | F19: 53.25 | G19: 18.36 | H19: =SUM(I19:L19) -> 28.88 | I19: 10.7 | J19: 17.4 | K19: 0.78 | M19: =SUM(N19:U19) -> 28.57 | N19: 0.81 | O19: 0 | P19: 1.53 | Q19: 0 | R19: 8.38 | S19: 0 | T19: 17.85 | U19: 0 | V19: 12033 | W19: =SUM(X19:AA19) -> 4.56 | X19: 0 | Y19: 2.73 | Z19: 1.83 | AA19: 0 | AB19: =SUM(AC19:AE19) -> 4.126 | AD19: 4.126 | AF19: =(AC19*5+AD19*3.5)*1000 -> 14441 | AG19: =+SUM(AH19:AO19) -> 1.665 | AN19: 1.665 | AP19: 804 | AQ19: =$W19/C19 -> 0.052649809 | AR19: =IF(H19=0,"-",AB19/H19) -> 0.14286704 | AS19: =AG19/M19 -> 0.058277914 | AT19: =W19-'15.4'!W19 -> 0 | AU19: =AB19-'15.4'!AB19 -> 0 | AV19: =AG19-'15.4'!AG19 -> 0 | AX19: 10007 | AY19: 2026 | AZ19: =+AX19+AY19 -> 12033
A20: 6 | B20: Huyện Đức Thọ | C20: =SUM(D20:G20) -> 28.4 | D20: - | E20: 2.4 | F20: 23.6 | G20: 2.4 | H20: =SUM(I20:L20) -> 10.08 | I20: 4 | J20: 3.95 | K20: 2.13 | M20: =SUM(N20:U20) -> 3.1 | N20: 0 | O20: 0 | P20: 0 | Q20: 0 | R20: 3.1 | S20: 0 | T20: 0 | U20: 0 | V20: 3330 | W20: =SUM(X20:AA20) -> 7.09 | X20: 0.5 | Y20: 0 | Z20: 6.59 | AA20: 0 | AB20: =SUM(AC20:AE20) -> 0 | AF20: =(AC20*5+AD20*3.5)*1000 -> 0 | AG20: =+SUM(AH20:AO20) -> 0 | AP20: 875 | AQ20: =$W20/C20 -> 0.24964789 | AR20: =IF(H20=0,"-",AB20/H20) -> 0 | AS20: =AG20/M20 -> 0 | AT20: =W20-'15.4'!W20 -> 3 | AU20: =AB20-'15.4'!AB20 -> 0 | AV20: =AG20-'15.4'!AG20 -> 0 | AX20: 3122 | AY20: 208 | AZ20: =+AX20+AY20 -> 3330
A21: 7 | B21: Huyện Nghi Xuân | C21: =SUM(D21:G21) -> 17 | D21: 0.29 | E21: 4.27 | F21: 6.57 | G21: 5.87 | H21: =SUM(I21:L21) -> 3.03 | I21: 1.8 | J21: 1.03 | K21: 0.2 | M21: =SUM(N21:U21) -> 5.28 | N21: 0 | O21: 0 | P21: 0.85 | Q21: 0 | R21: 0 | S21: 1.55 | T21: 2 | U21: 0.88 | V21: 2421 | W21: =SUM(X21:AA21) -> 1.435 | Y21: 0.625 | Z21: 0.81 | AB21: =SUM(AC21:AE21) -> 0.156 | AD21: 0.156 | AF21: =(AC21*5+AD21*3.5)*1000 -> 546 | AG21: =+SUM(AH21:AO21) -> 0 | AP21: 158.3 | AQ21: =$W21/C21 -> 0.084411765 | AR21: =IF(H21=0,"-",AB21/H21) -> 0.051485149 | AS21: =AG21/M21 -> 0 | AT21: =W21-'15.4'!W21 -> 1.435 | AU21: =AB21-'15.4'!AB21 -> 0 | AV21: =AG21-'15.4'!AG21 -> 0 | AX21: 2079 | AY21: 342 | AZ21: =+AX21+AY21 -> 2421
A22: 8 | B22: Thị xã Hồng Lĩnh | C22: =SUM(D22:G22) -> 9.42 | D22: - | E22: 8.58 | F22: 0.34 | G22: 0.5 | H22: =SUM(I22:L22) -> 6 | I22: 0.7 | J22: 5.3 | K22: 0 | M22: =SUM(N22:U22) -> 16.37 | N22: 0 | O22: 0 | P22: 0 | Q22: 0 | R22: 7.93 | S22: 0 | T22: 8.44 | U22: 0 | V22: 2622 | W22: =SUM(X22:AA22) -> 1.534 | Y22: 1.534 | AB22: =SUM(AC22:AE22) -> 0 | AF22: =(AC22*5+AD22*3.5)*1000 -> 0 | AG22: =+SUM(AH22:AO22) -> 2.184 | AL22: 2.184 | AQ22: =$W22/C22 -> 0.16284501 | AR22: =IF(H22=0,"-",AB22/H22) -> 0 | AS22: =AG22/M22 -> 0.13341478 | AT22: =W22-'15.4'!W22 -> 0 | AU22: =AB22-'15.4'!AB22 -> 0 | AV22: =AG22-'15.4'!AG22 -> 0 | AX22: 1487 | AY22: 1135 | AZ22: =+AX22+AY22 -> 2622
A23: 9 | B23: Huyện Lộc Hà | C23: =SUM(D23:G23) -> 25.51 | D23: - | E23: 1.93 | F23: 14.39 | G23: 9.19 | H23: =SUM(I23:L23) -> 32.1 | I23: 1.9 | J23: 23.7 | K23: 6.5 | M23: =SUM(N23:U23) -> 9.32 | N23: 0.37 | O23: 0 | P23: 0 | Q23: 0 | R23: 6.25 | S23: 0 | T23: 2.7 | U23: 0 | V23: 3432 | W23: =SUM(X23:AA23) -> 0.22 | Y23: 0.22 | AB23: =SUM(AC23:AE23) -> 4.51 | AC23: 1.91 | AD23: 1.2 | AE23: 1.4 | AF23: =(AC23*5+AD23*3.5)*1000 -> 13750 | AG23: =+SUM(AH23:AO23) -> 0 | AP23: 60 | AQ23: =$W23/C23 -> 0.008624069 | AR23: =IF(H23=0,"-",AB23/H23) -> 0.14049844 | AS23: =AG23/M23 -> 0 | AT23: =W23-'15.4'!W23 -> 0.22 | AU23: =AB23-'15.4'!AB23 -> 0 | AV23: =AG23-'15.4'!AG23 -> 0 | AX23: 2791 | AY23: 641 | AZ23: =+AX23+AY23 -> 3432
B24: Tổng cộng | C24: =SUM(C10:C23) -> 560.53 | D24: =SUM(D10:D23) -> 14.82 | E24: =SUM(E10:E23) -> 101.57 | F24: =SUM(F10:F23) -> 322.25 | G24: =SUM(G10:G23) -> 121.89 | H24: =SUM(H10:H23) -> 150 | I24: =SUM(I10:I23) -> 33.4 | J24: =SUM(J10:J23) -> 95.4 | ... AP24: =SUM(AP10:AP23) -> 7766.3 | AQ24: =$W24/C24 -> 0.086059622 | AR24: =IF(H24=0,"-",AB24/H24) -> 0.13833333 | AS24: =AG24/M24 -> 0.086359663 | AT24: =SUM(AT10:AT23) -> 17 | AU24: =SUM(AU10:AU23) -> 2.5 | AV24: =SUM(AV10:AV23) -> 6.3
AX25: =+SUM(AX10:AX23) -> 67090 | AY25: =+SUM(AY10:AY23) -> 11605 | AZ25: =+SUM(AZ10:AZ23) -> 78695
AP26: =+AP24/V24 -> 0.098688608
AZ41: =11+7+5+1 -> 24

Sheet 29.4
B1: UỶ BAN NHÂN DÂN TỈNH HÀ TĨNH
B2: SỞ GIAO THÔNG VẬN TẢI
A3: BÁO CÁO KẾT QUẢ THỰC HIỆN KẾ HOẠCH LÀM ĐƯỜNG GIAO THÔNG, RÃNH THOÁT NƯỚC, PHỤC HỒI MẶT ĐƯỜNG BTXM THEO CƠ CHẾ HỖ TRỢ CỦA TỈNH ĐẾN NGÀY 29/4/2021
A5: TT | B5: Huyện, thị xã, thành phố | C5: Khối lượng theo kế hoạch UBND tỉnh | W5: Kết quả thực hiện lũy kế đến thời điểm báo cáo | AQ5: Mức độ hoàn thành kế hoạch đầu năm | AT5: Tăng so với tuần trước | BA5: Định mức cho 1 km đường (tấn/km) | BG5: Định mức xi măng tính cho 1km rãnh (tấn/km)
C6: Đường giao thông (km) | D6: Trong đó | H6: Nâng cấp phục hồi mặt đường BTXM (km) | I6: Trong đó | M6: Rãnh thoát nước (km) | N6: Rãnh trên đường trục xã | R6: Rãnh trên đường trục thôn | V6: Tổng khối lượng xi măng (tấn) | W6: Đường giao thông (km) | X6: Trong đó | AB6: Nâng cấp phục hồi mặt đường BTXM (km) | AC6: Trong đó | AG6: Rãnh thoát nước (km) | AH6: Rãnh trên đường trục xã | AL6: Rãnh trên đường trục thôn | AP6: Tổng khối lượng xi măng đã nhận (tấn) | AQ6: Đường giao thông (%) | AR6: Nâng cấp phục hồi mặt đường BTXM (%) | AS6: Rãnh thoát nước (%) | AT6: Đường giao thông (km) | AU6: Nâng cấp phục hồi mặt đường BTXM (km) | AV6: Rãnh thoát nước (km) | BA6: Loại đường | BB6: ĐMXM theo 3212 | BC6: ĐMXM theo TT10.2019 | BD6: Chênh | BG6: Loại rãnh | BH6: ĐMXM theo 3212 | BI6: ĐMXM theo TT10.2019 | BJ6: Chênh
D7: Đường trục xã và đường phố (km) | E7: Đường trục thôn, xóm và đường ngõ phố (km) | F7: Đường ngõ, xóm và đường ngách hẻm (km) | G7: Đường trục chính nội đồng (km) | I7: Đường trục xã và đường phố (km) | J7: Đường trục thôn, xóm và đường ngõ phố (km) | K7: Đường ngõ, xóm và đường ngách hẻm (km) | L7: Đường trục chính nội đồng (km) | N7: Rãnh BTXM có nắp đậy | O7: Rãnh BTXM không có nắp đậy | P7: Rãnh Gạch xây có nắp đậy | Q7: Rãnh Gạch xây không có nắp đậy | R7: Rãnh BTXM có nắp đậy | S7: Rãnh BTXM không có nắp đậy | T7: Rãnh Gạch xây có nắp đậy | U7: Rãnh Gạch xây không có nắp đậy | X7: Đường trục xã và đường phố (km) | Y7: Đường trục thôn, xóm và đường ngõ phố (km) | Z7: Đường ngõ, xóm và đường ngách hẻm (km) | AA7: Đường trục chính nội đồng (km) | AC7: Đường trục xã và đường phố (km) | AD7: Đường trục thôn, xóm và đường ngõ phố (km) | AE7: Đường ngõ, xóm và đường ngách hẻm (km) | AF7: Tổng diện tích tỉnh hỗ trợ (m2) | AH7: Rãnh BTXM có nắp đậy | AI7: Rãnh BTXM không có nắp đậy | AJ7: Rãnh Gạch xây có nắp đậy | AK7: Rãnh Gạch xây không có nắp đậy | AL7: Rãnh BTXM có nắp đậy | AM7: Rãnh BTXM không có nắp đậy | AN7: Rãnh Gạch xây có nắp đậy | AO7: Rãnh Gạch xây không có nắp đậy | BA7: Trục xã | BB7: =ROUNDUP(5*0.18*1000*309/1000*1.025,2) -> 285.06 | BC7: =ROUND(5*0.18*1000*284/1000*1.025,2) -> 261.99 | BD7: =+BC7-BB7 -> -23.07 | BG7: Rãnh trục xã
A8: 1 | B8: 2 | C8: 3 | D8: 4 | E8: 5 | F8: 6 | G8: 7 | H8: 8 | I8: 9 | J8: 10 | K8: 11 | L8: 12 | M8: 13 | N8: 14 | O8: 15 | P8: 16 | Q8: 17 | R8: 18 | S8: 19 | T8: 20 | U8: 21 | V8: 22 | W8: 23 | X8: 24 | Y8: 25 | Z8: 26 | AA8: 27 | AB8: 28 | AC8: 29 | AD8: 30 | AE8: 31 | AF8: 32 | AG8: 33 | AH8: 34 | AI8: 35 | AJ8: 36 | AK8: 37 | AL8: 38 | AM8: 39 | AN8: 40 | AO8: 41 | AP8: 42 | AQ8: 43 | AR8: 44 | AS8: 45 | AT8: 69 | AU8: 70 | AV8: 71 | BA8: Trục thôn | BB8: =ROUND(3.5*0.16*1000*309/1000*1.025,2) -> 177.37 | BC8: =ROUND(3.5*0.16*1000*284/1000*1.025,2) -> 163.02 | BD8: =+BC8-BB8 -> -14.35 | BG8: Rãnh BTXM có nắp | BH8: 85.72 | BI8: 79.66 | BJ8: =+BI8-BH8 -> -6.06
A9: I | B9: Huyện miền núi | AF9: =(AC9*5+AD9*3.5)*1000 -> 0
A10: 1 | B10: Huyện Kỳ Anh | C10: =SUM(D10:G10) -> 58.41 | D10: 1.83 | E10: 10.19 | F10: 38.71 | G10: 7.68 | H10: =SUM(I10:L10) -> 6.2 | I10: 0 | J10: 5.3 | K10: 0.9 | M10: =SUM(N10:U10) -> 57.37 | N10: 1 | O10: 5.38 | P10: 2.48 | Q10: 3.28 | R10: 0.54 | S10: 23.22 | T10: 2.36 | U10: 19.11 | V10: 10271 | W10: =SUM(X10:AA10) -> 4.491 | X10: 0.07 | Y10: 0.48 | Z10: 3.726 | AA10: 0.215 | AB10: =SUM(AC10:AE10) -> 0 | AF10: =(AC10*5+AD10*3.5)*1000 -> 0 | AG10: =+SUM(AH10:AO10) -> 5.65 | AH10: 0 | AI10: 0 | AJ10: 0 | AK10: 0.8 | AL10: 0 | AM10: 2.45 | AN10: 0.14 | AO10: 2.26 | AP10: 855 | AQ10: =$W10/C10 -> 0.076887519 | AR10: =IF(H10=0,"-",AB10/H10) -> 0 | AS10: =AG10/M10 -> 0.098483528 | AT10: =W10-'22.4'!W10 -> 0 | AU10: =AB10-'22.4'!AB10 -> 0 | AV10: =AG10-'22.4'!AG10 -> 0 | AX10: 7013 | AY10: 3258 | AZ10: =+AX10+AY10 -> 10271 | BA10: Ngõ xóm | BB10: =ROUND(3*0.14*1000*266/1000*1.025,2) -> 114.51 | BC10: =ROUND(3*0.14*1000*244/1000*1.025,2) -> 105.04 | BD10: =+BC10-BB10 -> -9.47 | BG10: Rãnh BTXM không nắp | BH10: 71.65 | BI10: 66.73 | BJ10: =+BI10-BH10 -> -4.92
A11: 2 | B11: Huyện Hương Sơn | C11: =SUM(D11:G11) -> 28.7 | D11: - | E11: 5.2 | F11: 20.2 | G11: 3.3 | H11: =SUM(I11:L11) -> 5.5 | I11: 0 | J11: 5.5 | K11: 0 | M11: =SUM(N11:U11) -> 13.94 | N11: 0.6 | O11: 0.5 | P11: 0.12 | Q11: 0.1 | R11: 1.6 | S11: 3.92 | T11: 1.71 | U11: 5.39 | V11: 4122 | W11: =SUM(X11:AA11) -> 2.1 | Y11: 1.2 | Z11: 0.9 | AB11: =SUM(AC11:AE11) -> 2.5 | AC11: 2.5 | AF11: =(AC11*5+AD11*3.5+AE11*3)*1000 -> 12500 | AG11: =+SUM(AH11:AO11) -> 0.8 | AH11: 0.8 | AP11: 798 | AQ11: =$W11/C11 -> 0.073170732 | AR11: =IF(H11=0,"-",AB11/H11) -> 0.45454545 | AS11: =AG11/M11 -> 0.057388809 | AT11: =W11-'22.4'!W11 -> 0 | AU11: =AB11-'22.4'!AB11 -> 0 | AV11: =AG11-'22.4'!AG11 -> 0 | AX11: 3316 | AY11: 806 | AZ11: =+AX11+AY11 -> 4122 | BG11: Rãnh gạch xây có nắp | BH11: 87 | BI11: 81.34 | BJ11: =+BI11-BH11 -> -5.66
A12: 3 | B12: Huyện Hương Khê | C12: =SUM(D12:G12) -> 83.71 | D12: 0.36 | E12: 13.42 | F12: 53.2 | G12: 16.73 | H12: =SUM(I12:L12) -> 1.5 | I12: 1.5 | J12: 0 | K12: 0 | M12: =SUM(N12:U12) -> 17.11 | N12: 0.79 | O12: 1.83 | P12: 2.15 | Q12: 0.35 | R12: 0.52 | S12: 11.22 | T12: 0 | U12: 0.25 | V12: 10689 | W12: =SUM(X12:AA12) -> 4.68 | X12: 0 | Y12: 1.3 | Z12: 1.78 | AA12: 1.6 | AB12: =SUM(AC12:AE12) -> 0 | AF12: =(AC12*5+AD12*3.5+AE12*3)*1000 -> 0 | AG12: =+SUM(AH12:AO12) -> 0.5 | AO12: 0.5 | AP12: 1100 | AQ12: =$W12/C12 -> 0.055907299 | AR12: =IF(H12=0,"-",AB12/H12) -> 0 | AS12: =AG12/M12 -> 0.029222677 | AT12: =W12-'22.4'!W12 -> 2.145 | AU12: =AB12-'22.4'!AB12 -> 0 | AV12: =AG12-'22.4'!AG12 -> 0 | AX12: 9627 | AY12: 1062 | AZ12: =+AX12+AY12 -> 10689 | BG12: Rãnh gạch xây không nắp | BH12: 58.26 | BI12: 55.2 | BJ12: =+BI12-BH12 -> -3.06
A13: 4 | B13: Huyện Vũ Quang | C13: =SUM(D13:G13) -> 13.77 | D13: 0.72 | E13: 1.69 | F13: 8.34 | G13: 3.02 | H13: =SUM(I13:L13) -> 0.9 | I13: 0 | J13: 0.9 | K13: 0 | M13: =SUM(N13:U13) -> 1.18 | N13: 0 | O13: 0 | P13: 0 | Q13: 0 | R13: 0.32 | S13: 0.86 | T13: 0 | U13: 0 | V13: 1727 | W13: =SUM(X13:AA13) -> 0 | AB13: =SUM(AC13:AE13) -> 0.33 | AD13: 0.33 | AF13: =(AC13*5+AD13*3.5+AE13*3)*1000 -> 1155 | AG13: =+SUM(AH13:AO13) -> 0 | AQ13: =$W13/C13 -> 0 | AR13: =IF(H13=0,"-",AB13/H13) -> 0.36666667 | AS13: =AG13/M13 -> 0 | AT13: =W13-'22.4'!W13 -> 0 | AU13: =AB13-'22.4'!AB13 -> 0 | AV13: =AG13-'22.4'!AG13 -> 0 | AX13: 1657 | AY13: 70 | AZ13: =+AX13+AY13 -> 1727 | BG13: Rãnh trục thôn
A14: II | B14: Các địa phương khác | AF14: =(AC14*5+AD14*3.5+AE14*3)*1000 -> 0 | AT14: =W14-'22.4'!W14 -> 0 | AU14: =AB14-'22.4'!AB14 -> 0 | AV14: =AG14-'22.4'!AG14 -> 0
A15: 1 | B15: Thị xã Kỳ Anh | C15: =SUM(D15:G15) -> 16.11 | D15: - | E15: 5.31 | F15: 10.8 | G15: - | H15: =SUM(I15:L15) -> 0.42 | I15: 0 | J15: 0.12 | K15: 0.3 | M15: =SUM(N15:U15) -> 8.87 | N15: 0 | O15: 0 | P15: 0 | Q15: 0 | R15: 1.56 | S15: 5.86 | T15: 1.45 | U15: - | V15: 2541 | W15: =SUM(X15:AA15) -> 0 | AB15: =SUM(AC15:AE15) -> 0 | AF15: =(AC15*5+AD15*3.5+AE15*3)*1000 -> 0 | AG15: =+SUM(AH15:AO15) -> 0 | AQ15: =$W15/C15 -> 0 | AR15: =IF(H15=0,"-",AB15/H15) -> 0 | AS15: =AG15/M15 -> 0 | AT15: =W15-'22.4'!W15 -> 0 | AU15: =AB15-'22.4'!AB15 -> 0 | AV15: =AG15-'22.4'!AG15 -> 0 | AX15: 2000 | AY15: 541 | AZ15: =+AX15+AY15 -> 2541 | BG15: Rãnh BTXM có nắp | BH15: 72.16 | BI15: 67.06 | BJ15: =+BI15-BH15 -> -5.1
A16: 2 | B16: Huyện Cẩm Xuyên | C16: =SUM(D16:G16) -> 80.01 | D16: 3.05 | E16: 22.12 | F16: 43.28 | G16: 11.56 | H16: =SUM(I16:L16) -> 12.4 | I16: 4.5 | J16: 5.9 | K16: 2 | M16: =SUM(N16:U16) -> 7.55 | N16: 2.1 | O16: 2.5 | P16: 0 | Q16: 0 | R16: 0.89 | S16: 0.75 | T16: 0.3 | U16: 1.01 | V16: 10671 | W16: =SUM(X16:AA16) -> 8.5 | Y16: 1.45 | Z16: 6.05 | AA16: 1 | AB16: =SUM(AC16:AE16) -> 0 | AF16: =(AC16*5+AD16*3.5+AE16*3)*1000 -> 0 | AG16: =+SUM(AH16:AO16) -> 1.75 | AH16: 1.1 | AL16: 0.65 | AP16: 1100 | AQ16: =$W16/C16 -> 0.10623672 | AS16: =AG16/M16 -> 0.23178808 | AT16: =W16-'22.4'!W16 -> 0 | AU16: =AB16-'22.4'!AB16 -> 0 | AV16: =AG16-'22.4'!AG16 -> 0 | AX16: 10165 | AY16: 506 | AZ16: =+AX16+AY16 -> 10671 | BG16: Rãnh BTXM không nắp | BH16: 60.9 | BI16: 56.72 | BJ16: =+BI16-BH16 -> -4.18
A17: 3 | B17: Thành phố Hà Tĩnh | C17: =SUM(D17:G17) -> 15.29 | D17: - | E17: 4.18 | F17: 8.78 | G17: 2.33 | H17: =SUM(I17:L17) -> 12.7 | I17: 0 | J17: 8.5 | K17: 4.2 | M17: =SUM(N17:U17) -> 6.95 | N17: 6.32 | O17: 0 | P17: 0 | Q17: 0 | R17: 0.63 | S17: 0 | T17: 0 | U17: 0 | V17: 2394 | W17: =SUM(X17:AA17) -> 2.66 | Y17: 0.94 | Z17: 1.72 | AB17: =SUM(AC17:AE17) -> 3.82 | AE17: 3.82 | AF17: 13370 | AG17: =+SUM(AH17:AO17) -> 0.57 | AH17: 0 | AL17: 0.57 | AP17: 640 | AQ17: =$W17/C17 -> 0.17396991 | AR17: =IF(H17=0,"-",AB17/H17) -> 0.3007874 | AS17: =AG17/M17 -> 0.082014388 | AT17: =W17-'22.4'!W17 -> 1.71 | AU17: =AB17-'22.4'!AB17 -> 0.91 | AV17: =AG17-'22.4'!AG17 -> -1.68 | AX17: 1848 | AY17: 546 | AZ17: =+AX17+AY17 -> 2394 | BG17: Rãnh gạch xây có nắp | BH17: 76.52 | BI17: 71.44 | BJ17: =+BI17-BH17 -> -5.08
A18: 4 | B18: Huyện Thạch Hà | C18: =SUM(D18:G18) -> 97.59 | D18: 8.17 | E18: 7.68 | F18: 40.79 | G18: 40.95 | H18: =SUM(I18:L18) -> 30.29 | I18: 8.3 | J18: 17.8 | K18: 4.19 | M18: =SUM(N18:U18) -> 7.45 | N18: 0.9 | O18: 0.42 | P18: 0 | Q18: 0.35 | R18: 1.88 | S18: 3.4 | T18: 0.1 | U18: 0.4 | V18: 12442 | W18: =SUM(X18:AA18) -> 19.814 | X18: 0 | Y18: 2.09 | Z18: 12.664 | AA18: 5.06 | AB18: =SUM(AC18:AE18) -> 7.16 | AC18: 1.5 | AD18: 5.66 | AE18: 0 | AF18: =(AC18*5+AD18*3.5+AE18*3)*1000 -> 27310 | AG18: =+SUM(AH18:AO18) -> 1.11 | AH18: 0 | AI18: 0.19 | AJ18: 0 | AK18: 0 | AL18: 0.29 | AM18: 0.45 | AN18: 0.18 | AO18: 0 | AP18: 2883 | AQ18: =$W18/C18 -> 0.2030331 | AS18: =AG18/M18 -> 0.14899329 | AT18: =W18-'22.4'!W18 -> 4.99 | AU18: =AB18-'22.4'!AB18 -> 0.942 | AV18: =AG18-'22.4'!AG18 -> 0.1 | AX18: 11978 | AY18: 464 | AZ18: =+AX18+AY18 -> 12442 | BG18: Rãnh gạch xây không nắp | BH18: 50.58 | BI18: 47.89 | BJ18: =+BI18-BH18 -> -2.69
A19: 5 | B19: Huyện Can Lộc | C19: =SUM(D19:G19) -> 86.61 | D19: 0.4 | E19: 14.6 | F19: 53.25 | G19: 18.36 | H19: =SUM(I19:L19) -> 28.88 | I19: 10.7 | J19: 17.4 | K19: 0.78 | M19: =SUM(N19:U19) -> 28.57 | N19: 0.81 | O19: 0 | P19: 1.53 | Q19: 0 | R19: 8.38 | S19: 0 | T19: 17.85 | U19: 0 | V19: 12033 | W19: =SUM(X19:AA19) -> 13.465 | X19: 0 | Y19: 5.75 | Z19: 6.325 | AA19: 1.39 | AB19: =SUM(AC19:AE19) -> 6.226 | AC19: 5.134 | AD19: 1.092 | AE19: 0 | AF19: =(AC19*5+AD19*3.5+AE19*3)*1000 -> 29492 | AG19: =+SUM(AH19:AO19) -> 11.278 | AH19: 0 | AI19: 0 | AJ19: 0.18 | AK19: 0 | AL19: 0.9 | AM19: 0 | AN19: 10.198 | AO19: 0 | AP19: 3459 | AQ19: =$W19/C19 -> 0.15546704 | AR19: =IF(H19=0,"-",AB19/H19) -> 0.21558172 | AS19: =AG19/M19 -> 0.39474974 | AT19: =W19-'22.4'!W19 -> 8.905 | AU19: =AB19-'22.4'!AB19 -> 2.1 | AV19: =AG19-'22.4'!AG19 -> 9.613 | AX19: 10007 | AY19: 2026 | AZ19: =+AX19+AY19 -> 12033
A20: 6 | B20: Huyện Đức Thọ | C20: =SUM(D20:G20) -> 28.4 | D20: - | E20: 2.4 | F20: 23.6 | G20: 2.4 | H20: =SUM(I20:L20) -> 10.08 | I20: 4 | J20: 3.95 | K20: 2.13 | M20: =SUM(N20:U20) -> 3.1 | N20: 0 | O20: 0 | P20: 0 | Q20: 0 | R20: 3.1 | S20: 0 | T20: 0 | U20: 0 | V20: 3330 | W20: =SUM(X20:AA20) -> 7.09 | X20: 0.5 | Y20: 0 | Z20: 6.59 | AA20: 0 | AB20: =SUM(AC20:AE20) -> 0 | AF20: =(AC20*5+AD20*3.5+AE20*3)*1000 -> 0 | AG20: =+SUM(AH20:AO20) -> 0 | AP20: 875 | AQ20: =$W20/C20 -> 0.24964789 | AR20: =IF(H20=0,"-",AB20/H20) -> 0 | AS20: =AG20/M20 -> 0 | AT20: =W20-'22.4'!W20 -> 0 | AU20: =AB20-'22.4'!AB20 -> 0 | AV20: =AG20-'22.4'!AG20 -> 0 | AX20: 3122 | AY20: 208 | AZ20: =+AX20+AY20 -> 3330
A21: 7 | B21: Huyện Nghi Xuân | C21: =SUM(D21:G21) -> 17 | D21: 0.29 | E21: 4.27 | F21: 6.57 | G21: 5.87 | H21: =SUM(I21:L21) -> 3.03 | I21: 1.8 | J21: 1.03 | K21: 0.2 | M21: =SUM(N21:U21) -> 5.28 | N21: 0 | O21: 0 | P21: 0.85 | Q21: 0 | R21: 0 | S21: 1.55 | T21: 2 | U21: 0.88 | V21: 2421 | W21: =SUM(X21:AA21) -> 1.435 | Y21: 0.625 | Z21: 0.81 | AB21: =SUM(AC21:AE21) -> 0.156 | AD21: 0.156 | AF21: =(AC21*5+AD21*3.5+AE21*3)*1000 -> 546 | AG21: =+SUM(AH21:AO21) -> 0 | AP21: 158.3 | AQ21: =$W21/C21 -> 0.084411765 | AR21: =IF(H21=0,"-",AB21/H21) -> 0.051485149 | AS21: =AG21/M21 -> 0 | AT21: =W21-'22.4'!W21 -> 0 | AU21: =AB21-'22.4'!AB21 -> 0 | AV21: =AG21-'22.4'!AG21 -> 0 | AX21: 2079 | AY21: 342 | AZ21: =+AX21+AY21 -> 2421
A22: 8 | B22: Thị xã Hồng Lĩnh | C22: =SUM(D22:G22) -> 9.42 | D22: - | E22: 8.58 | F22: 0.34 | G22: 0.5 | H22: =SUM(I22:L22) -> 6 | I22: 0.7 | J22: 5.3 | K22: 0 | M22: =SUM(N22:U22) -> 16.37 | N22: 0 | O22: 0 | P22: 0 | Q22: 0 | R22: 7.93 | S22: 0 | T22: 8.44 | U22: 0 | V22: 2622 | W22: =SUM(X22:AA22) -> 1.534 | Y22: 1.534 | AB22: =SUM(AC22:AE22) -> 0 | AF22: =(AC22*5+AD22*3.5+AE22*3)*1000 -> 0 | AG22: =+SUM(AH22:AO22) -> 2.184 | AL22: 2.184 | AQ22: =$W22/C22 -> 0.16284501 | AR22: =IF(H22=0,"-",AB22/H22) -> 0 | AS22: =AG22/M22 -> 0.13341478 | AT22: =W22-'22.4'!W22 -> 0 | AU22: =AB22-'22.4'!AB22 -> 0 | AV22: =AG22-'22.4'!AG22 -> 0 | AX22: 1487 | AY22: 1135 | AZ22: =+AX22+AY22 -> 2622
A23: 9 | B23: Huyện Lộc Hà | C23: =SUM(D23:G23) -> 25.51 | D23: - | E23: 1.93 | F23: 14.39 | G23: 9.19 | H23: =SUM(I23:L23) -> 32.1 | I23: 1.9 | J23: 23.7 | K23: 6.5 | M23: =SUM(N23:U23) -> 9.32 | N23: 0.37 | O23: 0 | P23: 0 | Q23: 0 | R23: 6.25 | S23: 0 | T23: 2.7 | U23: 0 | V23: 3432 | W23: =SUM(X23:AA23) -> 0.22 | Y23: 0.22 | AB23: =SUM(AC23:AE23) -> 4.51 | AC23: 1.91 | AD23: 1.2 | AE23: 1.4 | AF23: =(AC23*5+AD23*3.5+AE23*3)*1000 -> 17950 | AG23: =+SUM(AH23:AO23) -> 0 | AP23: 60 | AQ23: =$W23/C23 -> 0.008624069 | AR23: =IF(H23=0,"-",AB23/H23) -> 0.14049844 | AS23: =AG23/M23 -> 0 | AT23: =W23-'22.4'!W23 -> 0 | AU23: =AB23-'22.4'!AB23 -> 0 | AV23: =AG23-'22.4'!AG23 -> 0 | AX23: 2791 | AY23: 641 | AZ23: =+AX23+AY23 -> 3432
B24: Tổng cộng | C24: =SUM(C10:C23) -> 560.53 | D24: =SUM(D10:D23) -> 14.82 | E24: =SUM(E10:E23) -> 101.57 | F24: =SUM(F10:F23) -> 322.25 | G24: =SUM(G10:G23) -> 121.89 | H24: =SUM(H10:H23) -> 150 | I24: =SUM(I10:I23) -> 33.4 | J24: =SUM(J10:J23) -> 95.4 | ... AP24: =SUM(AP10:AP23) -> 11928.3 | AQ24: =$W24/C24 -> 0.11772608 | AR24: =IF(H24=0,"-",AB24/H24) -> 0.16468 | AS24: =AG24/M24 -> 0.13024145 | AT24: =SUM(AT10:AT23) -> 17.75 | AU24: =SUM(AU10:AU23) -> 3.952 | AV24: =SUM(AV10:AV23) -> 8.033
AX25: =+SUM(AX10:AX23) -> 67090 | AY25: =+SUM(AY10:AY23) -> 11605 | AZ25: =+SUM(AZ10:AZ23) -> 78695
AP26: =+AP24/V24 -> 0.15157634
AZ41: =11+7+5+1 -> 24

Sheet 6.5
B1: UỶ BAN NHÂN DÂN TỈNH HÀ TĨNH
B2: SỞ GIAO THÔNG VẬN TẢI
A3: BÁO CÁO KẾT QUẢ THỰC HIỆN KẾ HOẠCH LÀM ĐƯỜNG GIAO THÔNG, RÃNH THOÁT NƯỚC, PHỤC HỒI MẶT ĐƯỜNG BTXM THEO CƠ CHẾ HỖ TRỢ CỦA TỈNH ĐẾN NGÀY 06-5-2021
A5: TT | B5: Huyện, thị xã, thành phố | C5: Khối lượng theo kế hoạch UBND tỉnh | W5: Kết quả thực hiện lũy kế đến thời điểm báo cáo | AQ5: Mức độ hoàn thành kế hoạch đầu năm | AT5: Tăng so với tuần trước
C6: Đường giao thông (km) | D6: Trong đó | H6: Nâng cấp phục hồi mặt đường BTXM (km) | I6: Trong đó | M6: Rãnh thoát nước (km) | N6: Rãnh trên đường trục xã | R6: Rãnh trên đường trục thôn | V6: Tổng khối lượng xi măng (tấn) | W6: Đường giao thông (km) | X6: Trong đó | AB6: Nâng cấp phục hồi mặt đường BTXM (km) | AC6: Trong đó | AG6: Rãnh thoát nước (km) | AH6: Rãnh trên đường trục xã | AL6: Rãnh trên đường trục thôn | AP6: Tổng khối lượng xi măng đã nhận (tấn) | AQ6: Đường giao thông (%) | AR6: Nâng cấp phục hồi mặt đường BTXM (%) | AS6: Rãnh thoát nước (%) | AT6: Đường giao thông (km) | AU6: Nâng cấp phục hồi mặt đường BTXM (km) | AV6: Rãnh thoát nước (km)
D7: Đường trục xã và đường phố (km) | E7: Đường trục thôn, xóm và đường ngõ phố (km) | F7: Đường ngõ, xóm và đường ngách hẻm (km) | G7: Đường trục chính nội đồng (km) | I7: Đường trục xã và đường phố (km) | J7: Đường trục thôn, xóm và đường ngõ phố (km) | K7: Đường ngõ, xóm và đường ngách hẻm (km) | L7: Đường trục chính nội đồng (km) | N7: Rãnh BTXM có nắp đậy | O7: Rãnh BTXM không có nắp đậy | P7: Rãnh Gạch xây có nắp đậy | Q7: Rãnh Gạch xây không có nắp đậy | R7: Rãnh BTXM có nắp đậy | S7: Rãnh BTXM không có nắp đậy | T7: Rãnh Gạch xây có nắp đậy | U7: Rãnh Gạch xây không có nắp đậy | X7: Đường trục xã và đường phố (km) | Y7: Đường trục thôn, xóm và đường ngõ phố (km) | Z7: Đường ngõ, xóm và đường ngách hẻm (km) | AA7: Đường trục chính nội đồng (km) | AC7: Đường trục xã và đường phố (km) | AD7: Đường trục thôn, xóm và đường ngõ phố (km) | AE7: Đường ngõ, xóm và đường ngách hẻm (km) | AF7: Tổng diện tích tỉnh hỗ trợ (m2) | AH7: Rãnh BTXM có nắp đậy | AI7: Rãnh BTXM không có nắp đậy | AJ7: Rãnh Gạch xây có nắp đậy | AK7: Rãnh Gạch xây không có nắp đậy | AL7: Rãnh BTXM có nắp đậy | AM7: Rãnh BTXM không có nắp đậy | AN7: Rãnh Gạch xây có nắp đậy | AO7: Rãnh Gạch xây không có nắp đậy
A8: 1 | B8: 2 | C8: 3 | D8: 4 | E8: 5 | F8: 6 | G8: 7 | H8: 8 | I8: 9 | J8: 10 | K8: 11 | L8: 12 | M8: 13 | N8: 14 | O8: 15 | P8: 16 | Q8: 17 | R8: 18 | S8: 19 | T8: 20 | U8: 21 | V8: 22 | W8: 23 | X8: 24 | Y8: 25 | Z8: 26 | AA8: 27 | AB8: 28 | AC8: 29 | AD8: 30 | AE8: 31 | AF8: 32 | AG8: 33 | AH8: 34 | AI8: 35 | AJ8: 36 | AK8: 37 | AL8: 38 | AM8: 39 | AN8: 40 | AO8: 41 | AP8: 42 | AQ8: 43 | AR8: 44 | AS8: 45 | AT8: 69 | AU8: 70 | AV8: 71
A9: I | B9: Huyện miền núi | AF9: =(AC9*5+AD9*3.5)*1000 -> 0
A10: 1 | B10: Huyện Kỳ Anh | C10: =SUM(D10:G10) -> 58.41 | D10: 1.83 | E10: 10.19 | F10: 38.71 | G10: 7.68 | H10: =SUM(I10:L10) -> 6.2 | I10: 0 | J10: 5.3 | K10: 0.9 | M10: =SUM(N10:U10) -> 57.37 | N10: 1 | O10: 5.38 | P10: 2.48 | Q10: 3.28 | R10: 0.54 | S10: 23.22 | T10: 2.36 | U10: 19.11 | V10: 10271 | W10: =SUM(X10:AA10) -> 4.491 | X10: 0.07 | Y10: 0.48 | Z10: 3.726 | AA10: 0.215 | AB10: =SUM(AC10:AE10) -> 0 | AF10: =(AC10*5+AD10*3.5)*1000 -> 0 | AG10: =+SUM(AH10:AO10) -> 5.65 | AH10: 0 | AI10: 0 | AJ10: 0 | AK10: 0.8 | AL10: 0 | AM10: 2.45 | AN10: 0.14 | AO10: 2.26 | AP10: 855 | AQ10: =$W10/C10 -> 0.076887519 | AR10: =IF(H10=0,"-",AB10/H10) -> 0 | AS10: =AG10/M10 -> 0.098483528 | AT10: =W10-'29.4'!W10 -> 0 | AU10: =AB10-'29.4'!AB10 -> 0 | AV10: =AG10-'29.4'!AG10 -> 0
A11: 2 | B11: Huyện Hương Sơn | C11: =SUM(D11:G11) -> 28.7 | D11: - | E11: 5.2 | F11: 20.2 | G11: 3.3 | H11: =SUM(I11:L11) -> 5.5 | I11: 0 | J11: 5.5 | K11: 0 | M11: =SUM(N11:U11) -> 13.94 | N11: 0.6 | O11: 0.5 | P11: 0.12 | Q11: 0.1 | R11: 1.6 | S11: 3.92 | T11: 1.71 | U11: 5.39 | V11: 4122 | W11: =SUM(X11:AA11) -> 2.1 | Y11: 1.2 | Z11: 0.9 | AB11: =SUM(AC11:AE11) -> 2.5 | AC11: 2.5 | AF11: =(AC11*5+AD11*3.5+AE11*3)*1000 -> 12500 | AG11: =+SUM(AH11:AO11) -> 0.8 | AH11: 0.8 | AP11: 798 | AQ11: =$W11/C11 -> 0.073170732 | AR11: =IF(H11=0,"-",AB11/H11) -> 0.45454545 | AS11: =AG11/M11 -> 0.057388809 | AT11: =W11-'29.4'!W11 -> 0 | AU11: =AB11-'29.4'!AB11 -> 0 | AV11: =AG11-'29.4'!AG11 -> 0
A12: 3 | B12: Huyện Hương Khê | C12: =SUM(D12:G12) -> 83.71 | D12: 0.36 | E12: 13.42 | F12: 53.2 | G12: 16.73 | H12: =SUM(I12:L12) -> 1.5 | I12: 1.5 | J12: 0 | K12: 0 | M12: =SUM(N12:U12) -> 17.11 | N12: 0.79 | O12: 1.83 | P12: 2.15 | Q12: 0.35 | R12: 0.52 | S12: 11.22 | T12: 0 | U12: 0.25 | V12: 10689 | W12: =SUM(X12:AA12) -> 7.589 | X12: 0 | Y12: 1.404 | Z12: 4.37 | AA12: 1.815 | AB12: =SUM(AC12:AE12) -> 0 | AF12: =(AC12*5+AD12*3.5+AE12*3)*1000 -> 0 | AG12: =+SUM(AH12:AO12) -> 0.6 | AM12: 0.1 | AO12: 0.5 | AP12: 1190 | AQ12: =$W12/C12 -> 0.090658225 | AR12: =IF(H12=0,"-",AB12/H12) -> 0 | AS12: =AG12/M12 -> 0.035067212 | AT12: =W12-'29.4'!W12 -> 2.909 | AU12: =AB12-'29.4'!AB12 -> 0 | AV12: =AG12-'29.4'!AG12 -> 0.1
A13: 4 | B13: Huyện Vũ Quang | C13: =SUM(D13:G13) -> 13.77 | D13: 0.72 | E13: 1.69 | F13: 8.34 | G13: 3.02 | H13: =SUM(I13:L13) -> 0.9 | I13: 0 | J13: 0.9 | K13: 0 | M13: =SUM(N13:U13) -> 1.18 | N13: 0 | O13: 0 | P13: 0 | Q13: 0 | R13: 0.32 | S13: 0.86 | T13: 0 | U13: 0 | V13: 1727 | W13: =SUM(X13:AA13) -> 0.66 | Y13: 0.16 | Z13: 0.38 | AA13: 0.12 | AB13: =SUM(AC13:AE13) -> 0.33 | AD13: 0.33 | AG13: =+SUM(AH13:AO13) -> 0 | AP13: 248.4 | AQ13: =$W13/C13 -> 0.047930283 | AR13: =IF(H13=0,"-",AB13/H13) -> 0.36666667 | AS13: =AG13/M13 -> 0 | AT13: =W13-'29.4'!W13 -> 0.66 | AU13: =AB13-'29.4'!AB13 -> 0 | AV13: =AG13-'29.4'!AG13 -> 0
A14: II | B14: Các địa phương khác | AF14: =(AC14*5+AD14*3.5+AE14*3)*1000 -> 0 | AT14: =W14-'29.4'!W14 -> 0 | AU14: =AB14-'29.4'!AB14 -> 0 | AV14: =AG14-'29.4'!AG14 -> 0
A15: 1 | B15: Thị xã Kỳ Anh | C15: =SUM(D15:G15) -> 16.11 | D15: - | E15: 5.31 | F15: 10.8 | G15: - | H15: =SUM(I15:L15) -> 0.42 | I15: 0 | J15: 0.12 | K15: 0.3 | M15: =SUM(N15:U15) -> 8.87 | N15: 0 | O15: 0 | P15: 0 | Q15: 0 | R15: 1.56 | S15: 5.86 | T15: 1.45 | U15: - | V15: 2541 | W15: =SUM(X15:AA15) -> 0 | AB15: =SUM(AC15:AE15) -> 0 | AF15: =(AC15*5+AD15*3.5+AE15*3)*1000 -> 0 | AG15: =+SUM(AH15:AO15) -> 0 | AQ15: =$W15/C15 -> 0 | AR15: =IF(H15=0,"-",AB15/H15) -> 0 | AS15: =AG15/M15 -> 0 | AT15: =W15-'29.4'!W15 -> 0 | AU15: =AB15-'29.4'!AB15 -> 0 | AV15: =AG15-'29.4'!AG15 -> 0
A16: 2 | B16: Huyện Cẩm Xuyên | C16: =SUM(D16:G16) -> 80.01 | D16: 3.05 | E16: 22.12 | F16: 43.28 | G16: 11.56 | H16: =SUM(I16:L16) -> 12.4 | I16: 4.5 | J16: 5.9 | K16: 2 | M16: =SUM(N16:U16) -> 7.55 | N16: 2.1 | O16: 2.5 | P16: 0 | Q16: 0 | R16: 0.89 | S16: 0.75 | T16: 0.3 | U16: 1.01 | V16: 10671 | W16: =SUM(X16:AA16) -> 8.5 | Y16: 1.45 | Z16: 6.05 | AA16: 1 | AB16: =SUM(AC16:AE16) -> 0 | AF16: =(AC16*5+AD16*3.5+AE16*3)*1000 -> 0 | AG16: =+SUM(AH16:AO16) -> 1.75 | AH16: 1.1 | AL16: 0.65 | AP16: 1100 | AQ16: =$W16/C16 -> 0.10623672 | AS16: =AG16/M16 -> 0.23178808 | AT16: =W16-'29.4'!W16 -> 0 | AU16: =AB16-'29.4'!AB16 -> 0 | AV16: =AG16-'29.4'!AG16 -> 0
A17: 3 | B17: Thành phố Hà Tĩnh | C17: =SUM(D17:G17) -> 15.29 | D17: - | E17: 4.18 | F17: 8.78 | G17: 2.33 | H17: =SUM(I17:L17) -> 12.7 | I17: 0 | J17: 8.5 | K17: 4.2 | M17: =SUM(N17:U17) -> 6.95 | N17: 6.32 | O17: 0 | P17: 0 | Q17: 0 | R17: 0.63 | S17: 0 | T17: 0 | U17: 0 | V17: 2394 | W17: =SUM(X17:AA17) -> 2.66 | Y17: 0.94 | Z17: 1.72 | AB17: =SUM(AC17:AE17) -> 3.82 | AE17: 3.82 | AF17: 13370 | AG17: =+SUM(AH17:AO17) -> 0.57 | AH17: 0 | AL17: 0.57 | AP17: 640 | AQ17: =$W17/C17 -> 0.17396991 | AR17: =IF(H17=0,"-",AB17/H17) -> 0.3007874 | AS17: =AG17/M17 -> 0.082014388 | AT17: =W17-'29.4'!W17 -> 0 | AU17: =AB17-'29.4'!AB17 -> 0 | AV17: =AG17-'29.4'!AG17 -> 0
A18: 4 | B18: Huyện Thạch Hà | C18: =SUM(D18:G18) -> 97.59 | D18: 8.17 | E18: 7.68 | F18: 40.79 | G18: 40.95 | H18: =SUM(I18:L18) -> 30.29 | I18: 8.3 | J18: 17.8 | K18: 4.19 | M18: =SUM(N18:U18) -> 7.45 | N18: 0.9 | O18: 0.42 | P18: 0 | Q18: 0.35 | R18: 1.88 | S18: 3.4 | T18: 0.1 | U18: 0.4 | V18: 12442 | W18: =SUM(X18:AA18) -> 23.831 | X18: 0 | Y18: 2.59 | Z18: 15.334 | AA18: 5.907 | AB18: =SUM(AC18:AE18) -> 7.29 | AC18: 1.5 | AD18: 5.79 | AE18: 0 | AF18: 0 | AG18: =+SUM(AH18:AO18) -> 1.11 | AH18: 0 | AI18: 0.19 | AJ18: 0 | AK18: 0 | AL18: 0.29 | AM18: 0.45 | AN18: 0.18 | AO18: 0 | AP18: 3396 | AQ18: =$W18/C18 -> 0.2441951 | AS18: =AG18/M18 -> 0.14899329 | AT18: =W18-'29.4'!W18 -> 4.017 | AU18: =AB18-'29.4'!AB18 -> 0.13 | AV18: =AG18-'29.4'!AG18 -> 0
A19: 5 | B19: Huyện Can Lộc | C19: =SUM(D19:G19) -> 86.61 | D19: 0.4 | E19: 14.6 | F19: 53.25 | G19: 18.36 | H19: =SUM(I19:L19) -> 28.88 | I19: 10.7 | J19: 17.4 | K19: 0.78 | M19: =SUM(N19:U19) -> 28.57 | N19: 0.81 | O19: 0 | P19: 1.53 | Q19: 0 | R19: 8.38 | S19: 0 | T19: 17.85 | U19: 0 | V19: 12033 | W19: =SUM(X19:AA19) -> 15.905 | X19: 0 | Y19: 6.65 | Z19: 7.665 | AA19: 1.59 | AB19: =SUM(AC19:AE19) -> 6.226 | AC19: 5.134 | AD19: 1.092 | AE19: 0 | AF19: =(AC19*5+AD19*3.5+AE19*3)*1000 -> 29492 | AG19: =+SUM(AH19:AO19) -> 11.988 | AH19: 0 | AI19: 0 | AJ19: 0.18 | AK19: 0 | AL19: 0.9 | AM19: 0 | AN19: 10.908 | AO19: 0 | AP19: 3919 | AQ19: =$W19/C19 -> 0.1836393 | AR19: =IF(H19=0,"-",AB19/H19) -> 0.21558172 | AS19: =AG19/M19 -> 0.41960098 | AT19: =W19-'29.4'!W19 -> 2.44 | AU19: =AB19-'29.4'!AB19 -> 0 | AV19: =AG19-'29.4'!AG19 -> 0.71
A20: 6 | B20: Huyện Đức Thọ | C20: =SUM(D20:G20) -> 28.4 | D20: - | E20: 2.4 | F20: 23.6 | G20: 2.4 | H20: =SUM(I20:L20) -> 10.08 | I20: 4 | J20: 3.95 | K20: 2.13 | M20: =SUM(N20:U20) -> 3.1 | N20: 0 | O20: 0 | P20: 0 | Q20: 0 | R20: 3.1 | S20: 0 | T20: 0 | U20: 0 | V20: 3330 | W20: =SUM(X20:AA20) -> 9.18 | X20: 0.76 | Y20: 0 | Z20: 8.42 | AA20: 0 | AB20: =SUM(AC20:AE20) -> 0 | AF20: =(AC20*5+AD20*3.5+AE20*3)*1000 -> 0 | AG20: =+SUM(AH20:AO20) -> 0 | AP20: 1128 | AQ20: =$W20/C20 -> 0.32323944 | AR20: =IF(H20=0,"-",AB20/H20) -> 0 | AS20: =AG20/M20 -> 0 | AT20: =W20-'29.4'!W20 -> 2.09 | AU20: =AB20-'29.4'!AB20 -> 0 | AV20: =AG20-'29.4'!AG20 -> 0
A21: 7 | B21: Huyện Nghi Xuân | C21: =SUM(D21:G21) -> 17 | D21: 0.29 | E21: 4.27 | F21: 6.57 | G21: 5.87 | H21: =SUM(I21:L21) -> 3.03 | I21: 1.8 | J21: 1.03 | K21: 0.2 | M21: =SUM(N21:U21) -> 5.28 | N21: 0 | O21: 0 | P21: 0.85 | Q21: 0 | R21: 0 | S21: 1.55 | T21: 2 | U21: 0.88 | V21: 2421 | W21: =SUM(X21:AA21) -> 1.741 | X21: 0 | Y21: 0.1 | Z21: 1.641 | AA21: 0 | AB21: =SUM(AC21:AE21) -> 0.156 | AD21: 0.156 | AF21: =(AC21*5+AD21*3.5+AE21*3)*1000 -> 546 | AG21: =+SUM(AH21:AO21) -> 0.725 | AL21: 0 | AM21: 0.1 | AN21: 0 | AO21: 0.625 | AP21: 278.3 | AQ21: =$W21/C21 -> 0.10241176 | AR21: =IF(H21=0,"-",AB21/H21) -> 0.051485149 | AS21: =AG21/M21 -> 0.13731061 | AT21: =W21-'29.4'!W21 -> 0.306 | AU21: =AB21-'29.4'!AB21 -> 0 | AV21: =AG21-'29.4'!AG21 -> 0.725
A22: 8 | B22: Thị xã Hồng Lĩnh | C22: =SUM(D22:G22) -> 9.42 | D22: - | E22: 8.58 | F22: 0.34 | G22: 0.5 | H22: =SUM(I22:L22) -> 6 | I22: 0.7 | J22: 5.3 | K22: 0 | M22: =SUM(N22:U22) -> 16.37 | N22: 0 | O22: 0 | P22: 0 | Q22: 0 | R22: 7.93 | S22: 0 | T22: 8.44 | U22: 0 | V22: 2622 | W22: =SUM(X22:AA22) -> 1.534 | Y22: 1.534 | AB22: =SUM(AC22:AE22) -> 0 | AF22: =(AC22*5+AD22*3.5+AE22*3)*1000 -> 0 | AG22: =+SUM(AH22:AO22) -> 2.184 | AL22: 2.184 | AQ22: =$W22/C22 -> 0.16284501 | AR22: =IF(H22=0,"-",AB22/H22) -> 0 | AS22: =AG22/M22 -> 0.13341478 | AT22: =W22-'29.4'!W22 -> 0 | AU22: =AB22-'29.4'!AB22 -> 0 | AV22: =AG22-'29.4'!AG22 -> 0
A23: 9 | B23: Huyện Lộc Hà | C23: =SUM(D23:G23) -> 25.51 | D23: - | E23: 1.93 | F23: 14.39 | G23: 9.19 | H23: =SUM(I23:L23) -> 32.1 | I23: 1.9 | J23: 23.7 | K23: 6.5 | M23: =SUM(N23:U23) -> 9.32 | N23: 0.37 | O23: 0 | P23: 0 | Q23: 0 | R23: 6.25 | S23: 0 | T23: 2.7 | U23: 0 | V23: 3432 | W23: =SUM(X23:AA23) -> 0.22 | Y23: 0.22 | AB23: =SUM(AC23:AE23) -> 4.51 | AC23: 1.91 | AD23: 1.2 | AE23: 1.4 | AF23: =(AC23*5+AD23*3.5+AE23*3)*1000 -> 17950 | AG23: =+SUM(AH23:AO23) -> 0 | AP23: 60 | AQ23: =$W23/C23 -> 0.008624069 | AR23: =IF(H23=0,"-",AB23/H23) -> 0.14049844 | AS23: =AG23/M23 -> 0 | AT23: =W23-'29.4'!W23 -> 0 | AU23: =AB23-'29.4'!AB23 -> 0 | AV23: =AG23-'29.4'!AG23 -> 0
B24: Tổng cộng | C24: =SUM(C10:C23) -> 560.53 | D24: =SUM(D10:D23) -> 14.82 | E24: =SUM(E10:E23) -> 101.57 | F24: =SUM(F10:F23) -> 322.25 | G24: =SUM(G10:G23) -> 121.89 | H24: =SUM(H10:H23) -> 150 | I24: =SUM(I10:I23) -> 33.4 | J24: =SUM(J10:J23) -> 95.4 | ... AP24: =SUM(AP10:AP23) -> 13612.7 | AQ24: =$W24/C24 -> 0.13988725 | AR24: =IF(H24=0,"-",AB24/H24) -> 0.16554667 | AS24: =AG24/M24 -> 0.13862668 | AT24: =SUM(AT10:AT23) -> 12.422 | AU24: =SUM(AU10:AU23) -> 0.13 | AV24: =SUM(AV10:AV23) -> 1.535
AG26: Xi măng đạt | AP26: =+AP24/V24 -> 0.17298049

Sheet 13.5
B1: UỶ BAN NHÂN DÂN TỈNH HÀ TĨNH
B2: SỞ GIAO THÔNG VẬN TẢI
A3: BÁO CÁO KẾT QUẢ THỰC HIỆN KẾ HOẠCH LÀM ĐƯỜNG GIAO THÔNG, RÃNH THOÁT NƯỚC, PHỤC HỒI MẶT ĐƯỜNG BTXM THEO CƠ CHẾ HỖ TRỢ CỦA TỈNH ĐẾN NGÀY 13-5-2021
A5: TT | B5: Huyện, thị xã, thành phố | C5: Khối lượng theo kế hoạch UBND tỉnh | W5: Kết quả thực hiện lũy kế đến thời điểm báo cáo | AQ5: Mức độ hoàn thành kế hoạch đầu năm | AT5: Tăng so với tuần trước
C6: Đường giao thông (km) | D6: Trong đó | H6: Nâng cấp phục hồi mặt đường BTXM (km) | I6: Trong đó | M6: Rãnh thoát nước (km) | N6: Rãnh trên đường trục xã | R6: Rãnh trên đường trục thôn | V6: Tổng khối lượng xi măng (tấn) | W6: Đường giao thông (km) | X6: Trong đó | AB6: Nâng cấp phục hồi mặt đường BTXM (km) | AC6: Trong đó | AG6: Rãnh thoát nước (km) | AH6: Rãnh trên đường trục xã | AL6: Rãnh trên đường trục thôn | AP6: Tổng khối lượng xi măng đã nhận (tấn) | AQ6: Đường giao thông (%) | AR6: Nâng cấp phục hồi mặt đường BTXM (%) | AS6: Rãnh thoát nước (%) | AT6: Đường giao thông (km) | AU6: Nâng cấp phục hồi mặt đường BTXM (km) | AV6: Rãnh thoát nước (km)
D7: Đường trục xã và đường phố (km) | E7: Đường trục thôn, xóm và đường ngõ phố (km) | F7: Đường ngõ, xóm và đường ngách hẻm (km) | G7: Đường trục chính nội đồng (km) | I7: Đường trục xã và đường phố (km) | J7: Đường trục thôn, xóm và đường ngõ phố (km) | K7: Đường ngõ, xóm và đường ngách hẻm (km) | L7: Đường trục chính nội đồng (km) | N7: Rãnh BTXM có nắp đậy | O7: Rãnh BTXM không có nắp đậy | P7: Rãnh Gạch xây có nắp đậy | Q7: Rãnh Gạch xây không có nắp đậy | R7: Rãnh BTXM có nắp đậy | S7: Rãnh BTXM không có nắp đậy | T7: Rãnh Gạch xây có nắp đậy | U7: Rãnh Gạch xây không có nắp đậy | X7: Đường trục xã và đường phố (km) | Y7: Đường trục thôn, xóm và đường ngõ phố (km) | Z7: Đường ngõ, xóm và đường ngách hẻm (km) | AA7: Đường trục chính nội đồng (km) | AC7: Đường trục xã và đường phố (km) | AD7: Đường trục thôn, ngõ phố (km) | AE7: Đường ngõ, xóm và đường ngách hẻm (km) | AF7: Tổng diện tích tỉnh hỗ trợ (m2) | AH7: Rãnh BTXM có nắp đậy | AI7: Rãnh BTXM không có nắp đậy | AJ7: Rãnh Gạch xây có nắp đậy | AK7: Rãnh Gạch xây không có nắp đậy | AL7: Rãnh BTXM có nắp đậy | AM7: Rãnh BTXM không có nắp đậy | AN7: Rãnh Gạch xây có nắp đậy | AO7: Rãnh Gạch xây không có nắp đậy
A8: 1 | B8: 2 | C8: 3 | D8: 4 | E8: 5 | F8: 6 | G8: 7 | H8: 8 | I8: 9 | J8: 10 | K8: 11 | L8: 12 | M8: 13 | N8: 14 | O8: 15 | P8: 16 | Q8: 17 | R8: 18 | S8: 19 | T8: 20 | U8: 21 | V8: 22 | W8: 23 | X8: 24 | Y8: 25 | Z8: 26 | AA8: 27 | AB8: 28 | AC8: 29 | AD8: 30 | AE8: 31 | AF8: 32 | AG8: 33 | AH8: 34 | AI8: 35 | AJ8: 36 | AK8: 37 | AL8: 38 | AM8: 39 | AN8: 40 | AO8: 41 | AP8: 42 | AQ8: 43 | AR8: 44 | AS8: 45 | AT8: 69 | AU8: 70 | AV8: 71
A9: I | B9: Huyện miền núi | AF9: =(AC9*5+AD9*3.5)*1000 -> 0
A10: 1 | B10: Huyện Kỳ Anh | C10: =SUM(D10:G10) -> 58.41 | D10: 1.83 | E10: 10.19 | F10: 38.71 | G10: 7.68 | H10: =SUM(I10:L10) -> 6.2 | I10: 0 | J10: 5.3 | K10: 0.9 | M10: =SUM(N10:U10) -> 57.37 | N10: 1 | O10: 5.38 | P10: 2.48 | Q10: 3.28 | R10: 0.54 | S10: 23.22 | T10: 2.36 | U10: 19.11 | V10: 10271 | W10: =SUM(X10:AA10) -> 4.491 | X10: 0.07 | Y10: 0.48 | Z10: 3.726 | AA10: 0.215 | AB10: =SUM(AC10:AE10) -> 0 | AF10: =(AC10*5+AD10*3.5)*1000 -> 0 | AG10: =+SUM(AH10:AO10) -> 5.65 | AH10: 0 | AI10: 0 | AJ10: 0 | AK10: 0.8 | AL10: 0 | AM10: 2.45 | AN10: 0.14 | AO10: 2.26 | AP10: 855 | AQ10: =$W10/C10 -> 0.076887519 | AR10: =IF(H10=0,"-",AB10/H10) -> 0 | AS10: =AG10/M10 -> 0.098483528 | AT10: =W10-'6.5'!W10 -> 0 | AU10: =AB10-'6.5'!AB10 -> 0 | AV10: =AG10-'6.5'!AG10 -> 0
A11: 2 | B11: Huyện Hương Sơn | C11: =SUM(D11:G11) -> 28.7 | D11: - | E11: 5.2 | F11: 20.2 | G11: 3.3 | H11: =SUM(I11:L11) -> 5.5 | I11: 0 | J11: 5.5 | K11: 0 | M11: =SUM(N11:U11) -> 13.94 | N11: 0.6 | O11: 0.5 | P11: 0.12 | Q11: 0.1 | R11: 1.6 | S11: 3.92 | T11: 1.71 | U11: 5.39 | V11: 4122 | W11: =SUM(X11:AA11) -> 2.1 | Y11: 1.2 | Z11: 0.9 | AB11: =SUM(AC11:AE11) -> 2.5 | AC11: 2.5 | AF11: =(AC11*5+AD11*3.5+AE11*3)*1000 -> 12500 | AG11: =+SUM(AH11:AO11) -> 0.8 | AH11: 0.8 | AP11: 798 | AQ11: =$W11/C11 -> 0.073170732 | AR11: =IF(H11=0,"-",AB11/H11) -> 0.45454545 | AS11: =AG11/M11 -> 0.057388809 | AT11: =W11-'6.5'!W11 -> 0 | AU11: =AB11-'6.5'!AB11 -> 0 | AV11: =AG11-'6.5'!AG11 -> 0
A12: 3 | B12: Huyện Hương Khê | C12: =SUM(D12:G12) -> 83.71 | D12: 0.36 | E12: 13.42 | F12: 53.2 | G12: 16.73 | H12: =SUM(I12:L12) -> 1.5 | I12: 1.5 | J12: 0 | K12: 0 | M12: =SUM(N12:U12) -> 17.11 | N12: 0.79 | O12: 1.83 | P12: 2.15 | Q12: 0.35 | R12: 0.52 | S12: 11.22 | T12: 0 | U12: 0.25 | V12: 10689 | W12: =SUM(X12:AA12) -> 7.589 | X12: 0 | Y12: 1.404 | Z12: 4.37 | AA12: 1.815 | AB12: =SUM(AC12:AE12) -> 0 | AF12: =(AC12*5+AD12*3.5+AE12*3)*1000 -> 0 | AG12: =+SUM(AH12:AO12) -> 0.6 | AM12: 0.1 | AO12: 0.5 | AP12: 1190 | AQ12: =$W12/C12 -> 0.090658225 | AR12: =IF(H12=0,"-",AB12/H12) -> 0 | AS12: =AG12/M12 -> 0.035067212 | AT12: =W12-'6.5'!W12 -> 0 | AU12: =AB12-'6.5'!AB12 -> 0 | AV12: =AG12-'6.5'!AG12 -> 0
A13: 4 | B13: Huyện Vũ Quang | C13: =SUM(D13:G13) -> 13.77 | D13: 0.72 | E13: 1.69 | F13: 8.34 | G13: 3.02 | H13: =SUM(I13:L13) -> 0.9 | I13: 0 | J13: 0.9 | K13: 0 | M13: =SUM(N13:U13) -> 1.18 | N13: 0 | O13: 0 | P13: 0 | Q13: 0 | R13: 0.32 | S13: 0.86 | T13: 0 | U13: 0 | V13: 1727 | W13: =SUM(X13:AA13) -> 0.66 | Y13: 0.16 | Z13: 0.38 | AA13: 0.12 | AB13: =SUM(AC13:AE13) -> 0.33 | AD13: 0.33 | AG13: =+SUM(AH13:AO13) -> 0 | AP13: 248.4 | AQ13: =$W13/C13 -> 0.047930283 | AR13: =IF(H13=0,"-",AB13/H13) -> 0.36666667 | AS13: =AG13/M13 -> 0 | AT13: =W13-'6.5'!W13 -> 0 | AU13: =AB13-'6.5'!AB13 -> 0 | AV13: =AG13-'6.5'!AG13 -> 0
A14: II | B14: Các địa phương khác | AF14: =(AC14*5+AD14*3.5+AE14*3)*1000 -> 0 | AT14: =W14-'6.5'!W14 -> 0 | AU14: =AB14-'6.5'!AB14 -> 0 | AV14: =AG14-'6.5'!AG14 -> 0
A15: 1 | B15: Thị xã Kỳ Anh | C15: =SUM(D15:G15) -> 16.11 | D15: - | E15: 5.31 | F15: 10.8 | G15: - | H15: =SUM(I15:L15) -> 0.42 | I15: 0 | J15: 0.12 | K15: 0.3 | M15: =SUM(N15:U15) -> 8.87 | N15: 0 | O15: 0 | P15: 0 | Q15: 0 | R15: 1.56 | S15: 5.86 | T15: 1.45 | U15: - | V15: 2541 | W15: =SUM(X15:AA15) -> 4.669 | X15: 0.25 | Y15: 2.255 | Z15: 1.744 | AA15: 0.42 | AB15: =SUM(AC15:AE15) -> 0 | AF15: =(AC15*5+AD15*3.5+AE15*3)*1000 -> 0 | AG15: =+SUM(AH15:AO15) -> 2.188 | AL15: 0.1 | AM15: 2.088 | AN15: 0 | AO15: 0 | AP15: 912 | AQ15: =$W15/C15 -> 0.28981999 | AR15: =IF(H15=0,"-",AB15/H15) -> 0 | AS15: =AG15/M15 -> 0.24667418 | AT15: =W15-'6.5'!W15 -> 4.669 | AU15: =AB15-'6.5'!AB15 -> 0 | AV15: =AG15-'6.5'!AG15 -> 2.188
A16: 2 | B16: Huyện Cẩm Xuyên | C16: =SUM(D16:G16) -> 80.01 | D16: 3.05 | E16: 22.12 | F16: 43.28 | G16: 11.56 | H16: =SUM(I16:L16) -> 12.4 | I16: 4.5 | J16: 5.9 | K16: 2 | M16: =SUM(N16:U16) -> 7.55 | N16: 2.1 | O16: 2.5 | P16: 0 | Q16: 0 | R16: 0.89 | S16: 0.75 | T16: 0.3 | U16: 1.01 | V16: 10671 | W16: =SUM(X16:AA16) -> 15.05 | X16: 0.1 | Y16: 2.59 | Z16: 10.195 | AA16: 2.165 | AB16: =SUM(AC16:AE16) -> 0 | AF16: =(AC16*5+AD16*3.5+AE16*3)*1000 -> 0 | AG16: =+SUM(AH16:AO16) -> 3.13 | AH16: 1.8 | AI16: 0 | AJ16: 0 | AK16: 0 | AL16: 0.98 | AM16: 0.35 | AN16: 0 | AO16: 0 | AP16: 2000 | AQ16: =$W16/C16 -> 0.18810149 | AS16: =AG16/M16 -> 0.41456954 | AT16: =W16-'6.5'!W16 -> 6.55 | AU16: =AB16-'6.5'!AB16 -> 0 | AV16: =AG16-'6.5'!AG16 -> 1.38
A17: 3 | B17: Thành phố Hà Tĩnh | C17: =SUM(D17:G17) -> 15.29 | D17: - | E17: 4.18 | F17: 8.78 | G17: 2.33 | H17: =SUM(I17:L17) -> 12.7 | I17: 0 | J17: 8.5 | K17: 4.2 | M17: =SUM(N17:U17) -> 6.95 | N17: 6.32 | O17: 0 | P17: 0 | Q17: 0 | R17: 0.63 | S17: 0 | T17: 0 | U17: 0 | V17: 2394 | W17: =SUM(X17:AA17) -> 4.09 | Y17: 1.4 | Z17: 2.69 | AB17: =SUM(AC17:AE17) -> 5.15 | AD17: 5.15 | AF17: 13370 | AG17: =+SUM(AH17:AO17) -> 1.2 | AH17: 0 | AL17: 1.2 | AP17: 953 | AQ17: =$W17/C17 -> 0.26749509 | AR17: =IF(H17=0,"-",AB17/H17) -> 0.40551181 | AS17: =AG17/M17 -> 0.17266187 | AT17: =W17-'6.5'!W17 -> 1.43 | AU17: =AB17-'6.5'!AB17 -> 1.33 | AV17: =AG17-'6.5'!AG17 -> 0.63
A18: 4 | B18: Huyện Thạch Hà | C18: =SUM(D18:G18) -> 97.59 | D18: 8.17 | E18: 7.68 | F18: 40.79 | G18: 40.95 | H18: =SUM(I18:L18) -> 30.29 | I18: 8.3 | J18: 17.8 | K18: 4.19 | M18: =SUM(N18:U18) -> 7.45 | N18: 0.9 | O18: 0.42 | P18: 0 | Q18: 0.35 | R18: 1.88 | S18: 3.4 | T18: 0.1 | U18: 0.4 | V18: 12442 | W18: =SUM(X18:AA18) -> 27.51 | X18: 0 | Y18: 2.59 | Z18: 18.063 | AA18: 6.857 | AB18: =SUM(AC18:AE18) -> 8.46 | AC18: 1.5 | AD18: 6.96 | AE18: 0 | AF18: 0 | AG18: =+SUM(AH18:AO18) -> 1.11 | AH18: 0 | AI18: 0.19 | AJ18: 0 | AK18: 0 | AL18: 0.29 | AM18: 0.45 | AN18: 0.18 | AO18: 0 | AP18: 3853 | AQ18: =$W18/C18 -> 0.28189364 | AS18: =AG18/M18 -> 0.14899329 | AT18: =W18-'6.5'!W18 -> 3.679 | AU18: =AB18-'6.5'!AB18 -> 1.17 | AV18: =AG18-'6.5'!AG18 -> 0
A19: 5 | B19: Huyện Can Lộc | C19: =SUM(D19:G19) -> 86.61 | D19: 0.4 | E19: 14.6 | F19: 53.25 | G19: 18.36 | H19: =SUM(I19:L19) -> 28.88 | I19: 10.7 | J19: 17.4 | K19: 0.78 | M19: =SUM(N19:U19) -> 28.57 | N19: 0.81 | O19: 0 | P19: 1.53 | Q19: 0 | R19: 8.38 | S19: 0 | T19: 17.85 | U19: 0 | V19: 12033 | W19: =SUM(X19:AA19) -> 16.919 | X19: 0 | Y19: 6.97 | Z19: 8.359 | AA19: 1.59 | AB19: =SUM(AC19:AE19) -> 6.226 | AC19: 5.134 | AD19: 1.092 | AE19: 0 | AF19: =(AC19*5+AD19*3.5+AE19*3)*1000 -> 29492 | AG19: =+SUM(AH19:AO19) -> 12.208 | AH19: 0 | AI19: 0 | AJ19: 0.18 | AK19: 0 | AL19: 0.9 | AM19: 0 | AN19: 11.128 | AO19: 0 | AP19: 4214 | AQ19: =$W19/C19 -> 0.19534696 | AR19: =IF(H19=0,"-",AB19/H19) -> 0.21558172 | AS19: =AG19/M19 -> 0.42730137 | AT19: =W19-'6.5'!W19 -> 1.014 | AU19: =AB19-'6.5'!AB19 -> 0 | AV19: =AG19-'6.5'!AG19 -> 0.22
A20: 6 | B20: Huyện Đức Thọ | C20: =SUM(D20:G20) -> 28.4 | D20: - | E20: 2.4 | F20: 23.6 | G20: 2.4 | H20: =SUM(I20:L20) -> 10.08 | I20: 4 | J20: 3.95 | K20: 2.13 | M20: =SUM(N20:U20) -> 3.1 | N20: 0 | O20: 0 | P20: 0 | Q20: 0 | R20: 3.1 | S20: 0 | T20: 0 | U20: 0 | V20: 3330 | W20: =SUM(X20:AA20) -> 9.91 | X20: 0.76 | Y20: 0 | Z20: 9.15 | AA20: 0 | AB20: =SUM(AC20:AE20) -> 0 | AF20: =(AC20*5+AD20*3.5+AE20*3)*1000 -> 0 | AG20: =+SUM(AH20:AO20) -> 0 | AP20: 1204 | AQ20: =$W20/C20 -> 0.34894366 | AR20: =IF(H20=0,"-",AB20/H20) -> 0 | AS20: =AG20/M20 -> 0 | AT20: =W20-'6.5'!W20 -> 0.73 | AU20: =AB20-'6.5'!AB20 -> 0 | AV20: =AG20-'6.5'!AG20 -> 0
A21: 7 | B21: Huyện Nghi Xuân | C21: =SUM(D21:G21) -> 17 | D21: 0.29 | E21: 4.27 | F21: 6.57 | G21: 5.87 | H21: =SUM(I21:L21) -> 3.03 | I21: 1.8 | J21: 1.03 | K21: 0.2 | M21: =SUM(N21:U21) -> 5.28 | N21: 0 | O21: 0 | P21: 0.85 | Q21: 0 | R21: 0 | S21: 1.55 | T21: 2 | U21: 0.88 | V21: 2421 | W21: =SUM(X21:AA21) -> 2.841 | X21: 0 | Y21: 0.16 | Z21: 1.856 | AA21: 0.825 | AB21: =SUM(AC21:AE21) -> 0.156 | AD21: 0.156 | AF21: =(AC21*5+AD21*3.5+AE21*3)*1000 -> 546 | AG21: =+SUM(AH21:AO21) -> 1.625 | AL21: 0 | AM21: 1 | AN21: 0 | AO21: 0.625 | AP21: 448 | AQ21: =$W21/C21 -> 0.16711765 | AR21: =IF(H21=0,"-",AB21/H21) -> 0.051485149 | AS21: =AG21/M21 -> 0.30776515 | AT21: =W21-'6.5'!W21 -> 1.1 | AU21: =AB21-'6.5'!AB21 -> 0 | AV21: =AG21-'6.5'!AG21 -> 0.9
A22: 8 | B22: Thị xã Hồng Lĩnh | C22: =SUM(D22:G22) -> 9.42 | D22: - | E22: 8.58 | F22: 0.34 | G22: 0.5 | H22: =SUM(I22:L22) -> 6 | I22: 0.7 | J22: 5.3 | K22: 0 | M22: =SUM(N22:U22) -> 16.37 | N22: 0 | O22: 0 | P22: 0 | Q22: 0 | R22: 7.93 | S22: 0 | T22: 8.44 | U22: 0 | V22: 2622 | W22: =SUM(X22:AA22) -> 1.534 | Y22: 1.534 | AB22: =SUM(AC22:AE22) -> 0 | AF22: =(AC22*5+AD22*3.5+AE22*3)*1000 -> 0 | AG22: =+SUM(AH22:AO22) -> 2.184 | AL22: 2.184 | AP22: 900 | AQ22: =$W22/C22 -> 0.16284501 | AR22: =IF(H22=0,"-",AB22/H22) -> 0 | AS22: =AG22/M22 -> 0.13341478 | AT22: =W22-'6.5'!W22 -> 0 | AU22: =AB22-'6.5'!AB22 -> 0 | AV22: =AG22-'6.5'!AG22 -> 0
A23: 9 | B23: Huyện Lộc Hà | C23: =SUM(D23:G23) -> 25.51 | D23: - | E23: 1.93 | F23: 14.39 | G23: 9.19 | H23: =SUM(I23:L23) -> 32.1 | I23: 1.9 | J23: 23.7 | K23: 6.5 | M23: =SUM(N23:U23) -> 9.32 | N23: 0.37 | O23: 0 | P23: 0 | Q23: 0 | R23: 6.25 | S23: 0 | T23: 2.7 | U23: 0 | V23: 3432 | W23: =SUM(X23:AA23) -> 2.18 | Y23: 0.16 | Z23: 1.9 | AA23: 0.12 | AB23: =SUM(AC23:AE23) -> 4.51 | AC23: 1.91 | AD23: 1.2 | AE23: 1.4 | AF23: =(AC23*5+AD23*3.5+AE23*3)*1000 -> 17950 | AG23: =+SUM(AH23:AO23) -> 0.2 | AL23: 0.2 | AP23: 454 | AQ23: =$W23/C23 -> 0.085456684 | AR23: =IF(H23=0,"-",AB23/H23) -> 0.14049844 | AS23: =AG23/M23 -> 0.021459227 | AT23: =W23-'6.5'!W23 -> 1.96 | AU23: =AB23-'6.5'!AB23 -> 0 | AV23: =AG23-'6.5'!AG23 -> 0.2
B24: Tổng cộng | C24: =SUM(C10:C23) -> 560.53 | D24: =SUM(D10:D23) -> 14.82 | E24: =SUM(E10:E23) -> 101.57 | F24: =SUM(F10:F23) -> 322.25 | G24: =SUM(G10:G23) -> 121.89 | H24: =SUM(H10:H23) -> 150 | I24: =SUM(I10:I23) -> 33.4 | J24: =SUM(J10:J23) -> 95.4 | ... AP24: =SUM(AP10:AP23) -> 18029.4 | AQ24: =$W24/C24 -> 0.17758728 | AR24: =IF(H24=0,"-",AB24/H24) -> 0.18221333 | AS24: =AG24/M24 -> 0.1687698 | AT24: =SUM(AT10:AT23) -> 21.132 | AU24: =SUM(AU10:AU23) -> 2.5 | AV24: =SUM(AV10:AV23) -> 5.518
AG26: Xi măng đạt | AP26: =+AP24/V24 -> 0.22910477

Sheet 20.5
B1: UỶ BAN NHÂN DÂN TỈNH HÀ TĨNH
B2: SỞ GIAO THÔNG VẬN TẢI
A3: BÁO CÁO KẾT QUẢ THỰC HIỆN KẾ HOẠCH LÀM ĐƯỜNG GIAO THÔNG, RÃNH THOÁT NƯỚC, PHỤC HỒI MẶT ĐƯỜNG BTXM THEO CƠ CHẾ HỖ TRỢ CỦA TỈNH ĐẾN NGÀY 20-5-2021
A5: TT | B5: Huyện, thị xã, thành phố | C5: Khối lượng theo kế hoạch UBND tỉnh | W5: Kết quả thực hiện lũy kế đến thời điểm báo cáo | AQ5: Mức độ hoàn thành kế hoạch đầu năm | AT5: Tăng so với tuần trước
C6: Đường giao thông (km) | D6: Trong đó | H6: Nâng cấp phục hồi mặt đường BTXM (km) | I6: Trong đó | M6: Rãnh thoát nước (km) | N6: Rãnh trên đường trục xã | R6: Rãnh trên đường trục thôn | V6: Tổng khối lượng xi măng (tấn) | W6: Đường giao thông (km) | X6: Trong đó | AB6: Nâng cấp phục hồi mặt đường BTXM (km) | AC6: Trong đó | AG6: Rãnh thoát nước (km) | AH6: Rãnh trên đường trục xã | AL6: Rãnh trên đường trục thôn | AP6: Tổng khối lượng xi măng đã nhận (tấn) | AQ6: Đường giao thông (%) | AR6: Nâng cấp phục hồi mặt đường BTXM (%) | AS6: Rãnh thoát nước (%) | AT6: Đường giao thông (km) | AU6: Nâng cấp phục hồi mặt đường BTXM (km) | AV6: Rãnh thoát nước (km)
D7: Đường trục xã và đường phố (km) | E7: Đường trục thôn, xóm và đường ngõ phố (km) | F7: Đường ngõ, xóm và đường ngách hẻm (km) | G7: Đường trục chính nội đồng (km) | I7: Đường trục xã và đường phố (km) | J7: Đường trục thôn, xóm và đường ngõ phố (km) | K7: Đường ngõ, xóm và đường ngách hẻm (km) | L7: Đường trục chính nội đồng (km) | N7: Rãnh BTXM có nắp đậy | O7: Rãnh BTXM không có nắp đậy | P7: Rãnh Gạch xây có nắp đậy | Q7: Rãnh Gạch xây không có nắp đậy | R7: Rãnh BTXM có nắp đậy | S7: Rãnh BTXM không có nắp đậy | T7: Rãnh Gạch xây có nắp đậy | U7: Rãnh Gạch xây không có nắp đậy | X7: Đường trục xã và đường phố (km) | Y7: Đường trục thôn, xóm và đường ngõ phố (km) | Z7: Đường ngõ, xóm và đường ngách hẻm (km) | AA7: Đường trục chính nội đồng (km) | AC7: Đường trục xã và đường phố (km) | AD7: Đường trục thôn, ngõ phố (km) | AE7: Đường ngõ, xóm và đường ngách hẻm (km) | AF7: Tổng diện tích tỉnh hỗ trợ (m2) | AH7: Rãnh BTXM có nắp đậy | AI7: Rãnh BTXM không có nắp đậy | AJ7: Rãnh Gạch xây có nắp đậy | AK7: Rãnh Gạch xây không có nắp đậy | AL7: Rãnh BTXM có nắp đậy | AM7: Rãnh BTXM không có nắp đậy | AN7: Rãnh Gạch xây có nắp đậy | AO7: Rãnh Gạch xây không có nắp đậy
A8: 1 | B8: 2 | C8: 3 | D8: 4 | E8: 5 | F8: 6 | G8: 7 | H8: 8 | I8: 9 | J8: 10 | K8: 11 | L8: 12 | M8: 13 | N8: 14 | O8: 15 | P8: 16 | Q8: 17 | R8: 18 | S8: 19 | T8: 20 | U8: 21 | V8: 22 | W8: 23 | X8: 24 | Y8: 25 | Z8: 26 | AA8: 27 | AB8: 28 | AC8: 29 | AD8: 30 | AE8: 31 | AF8: 32 | AG8: 33 | AH8: 34 | AI8: 35 | AJ8: 36 | AK8: 37 | AL8: 38 | AM8: 39 | AN8: 40 | AO8: 41 | AP8: 42 | AQ8: 43 | AR8: 44 | AS8: 45 | AT8: 69 | AU8: 70 | AV8: 71
A9: I | B9: Huyện miền núi | AF9: =(AC9*5+AD9*3.5)*1000 -> 0
A10: 1 | B10: Huyện Kỳ Anh | C10: =SUM(D10:G10) -> 58.41 | D10: 1.83 | E10: 10.19 | F10: 38.71 | G10: 7.68 | H10: =SUM(I10:L10) -> 6.2 | I10: 0 | J10: 5.3 | K10: 0.9 | M10: =SUM(N10:U10) -> 57.37 | N10: 1 | O10: 5.38 | P10: 2.48 | Q10: 3.28 | R10: 0.54 | S10: 23.22 | T10: 2.36 | U10: 19.11 | V10: 10271 | W10: =SUM(X10:AA10) -> 4.491 | X10: 0.07 | Y10: 0.48 | Z10: 3.726 | AA10: 0.215 | AB10: =SUM(AC10:AE10) -> 0 | AF10: =(AC10*5+AD10*3.5)*1000 -> 0 | AG10: =+SUM(AH10:AO10) -> 5.65 | AH10: 0 | AI10: 0 | AJ10: 0 | AK10: 0.8 | AL10: 0 | AM10: 2.45 | AN10: 0.14 | AO10: 2.26 | AP10: 855 | AQ10: =$W10/C10 -> 0.076887519 | AR10: =IF(H10=0,"-",AB10/H10) -> 0 | AS10: =AG10/M10 -> 0.098483528 | AT10: =W10-'13.5'!W10 -> 0 | AU10: =AB10-'13.5'!AB10 -> 0 | AV10: =AG10-'13.5'!AG10 -> 0
A11: 2 | B11: Huyện Hương Sơn | C11: =SUM(D11:G11) -> 28.7 | D11: - | E11: 5.2 | F11: 20.2 | G11: 3.3 | H11: =SUM(I11:L11) -> 5.5 | I11: 0 | J11: 5.5 | K11: 0 | M11: =SUM(N11:U11) -> 13.94 | N11: 0.6 | O11: 0.5 | P11: 0.12 | Q11: 0.1 | R11: 1.6 | S11: 3.92 | T11: 1.71 | U11: 5.39 | V11: 4122 | W11: =SUM(X11:AA11) -> 12.25 | X11: 0.7 | Y11: 0.7 | Z11: 10.2 | AA11: 0.65 | AB11: =SUM(AC11:AE11) -> 2.3 | AC11: 2.3 | AF11: =(AC11*5+AD11*3.5+AE11*3)*1000 -> 11500 | AG11: =+SUM(AH11:AO11) -> 8.9 | AH11: 8.9 | AP11: 2477 | AQ11: =$W11/C11 -> 0.42682927 | AR11: =IF(H11=0,"-",AB11/H11) -> 0.41818182 | AS11: =AG11/M11 -> 0.6384505 | AT11: =W11-'13.5'!W11 -> 10.15 | AU11: =AB11-'13.5'!AB11 -> -0.2 | AV11: =AG11-'13.5'!AG11 -> 8.1
A12: 3 | B12: Huyện Hương Khê | C12: =SUM(D12:G12) -> 83.71 | D12: 0.36 | E12: 13.42 | F12: 53.2 | G12: 16.73 | H12: =SUM(I12:L12) -> 1.5 | I12: 1.5 | J12: 0 | K12: 0 | M12: =SUM(N12:U12) -> 17.11 | N12: 0.79 | O12: 1.83 | P12: 2.15 | Q12: 0.35 | R12: 0.52 | S12: 11.22 | T12: 0 | U12: 0.25 | V12: 10689 | W12: =SUM(X12:AA12) -> 12.754 | X12: 0.337 | Y12: 1.96 | Z12: 8.252 | AA12: 2.205 | AB12: =SUM(AC12:AE12) -> 0 | AF12: =(AC12*5+AD12*3.5+AE12*3)*1000 -> 0 | AG12: =+SUM(AH12:AO12) -> 1.408 | AH12: 0.208 | AI12: 0 | AJ12: 0 | AK12: 0 | AL12: 0 | AM12: 0.7 | AN12: 0 | AO12: 0.5 | AP12: 1838 | AQ12: =$W12/C12 -> 0.15235934 | AR12: =IF(H12=0,"-",AB12/H12) -> 0 | AS12: =AG12/M12 -> 0.082291058 | AT12: =W12-'13.5'!W12 -> 5.165 | AU12: =AB12-'13.5'!AB12 -> 0 | AV12: =AG12-'13.5'!AG12 -> 0.808
A13: 4 | B13: Huyện Vũ Quang | C13: =SUM(D13:G13) -> 13.77 | D13: 0.72 | E13: 1.69 | F13: 8.34 | G13: 3.02 | H13: =SUM(I13:L13) -> 0.9 | I13: 0 | J13: 0.9 | K13: 0 | M13: =SUM(N13:U13) -> 1.18 | N13: 0 | O13: 0 | P13: 0 | Q13: 0 | R13: 0.32 | S13: 0.86 | T13: 0 | U13: 0 | V13: 1727 | W13: =SUM(X13:AA13) -> 0.66 | Y13: 0.16 | Z13: 0.38 | AA13: 0.12 | AB13: =SUM(AC13:AE13) -> 0.33 | AD13: 0.33 | AG13: =+SUM(AH13:AO13) -> 0 | AP13: 248.4 | AQ13: =$W13/C13 -> 0.047930283 | AR13: =IF(H13=0,"-",AB13/H13) -> 0.36666667 | AS13: =AG13/M13 -> 0 | AT13: =W13-'13.5'!W13 -> 0 | AU13: =AB13-'13.5'!AB13 -> 0 | AV13: =AG13-'13.5'!AG13 -> 0
A14: II | B14: Các địa phương khác | AF14: =(AC14*5+AD14*3.5+AE14*3)*1000 -> 0 | AT14: =W14-'13.5'!W14 -> 0 | AU14: =AB14-'13.5'!AB14 -> 0 | AV14: =AG14-'13.5'!AG14 -> 0
A15: 1 | B15: Thị xã Kỳ Anh | C15: =SUM(D15:G15) -> 16.11 | D15: - | E15: 5.31 | F15: 10.8 | G15: - | H15: =SUM(I15:L15) -> 0.42 | I15: 0 | J15: 0.12 | K15: 0.3 | M15: =SUM(N15:U15) -> 8.87 | N15: 0 | O15: 0 | P15: 0 | Q15: 0 | R15: 1.56 | S15: 5.86 | T15: 1.45 | U15: - | V15: 2541 | W15: =SUM(X15:AA15) -> 6.427 | X15: 0.25 | Y15: 2.255 | Z15: 3.502 | AA15: 0.42 | AB15: =SUM(AC15:AE15) -> 0 | AF15: =(AC15*5+AD15*3.5+AE15*3)*1000 -> 0 | AG15: =+SUM(AH15:AO15) -> 2.333 | AL15: 0.245 | AM15: 2.088 | AN15: 0 | AO15: 0 | AP15: 1196 | AQ15: =$W15/C15 -> 0.39894475 | AR15: =IF(H15=0,"-",AB15/H15) -> 0 | AS15: =AG15/M15 -> 0.26302142 | AT15: =W15-'13.5'!W15 -> 1.758 | AU15: =AB15-'13.5'!AB15 -> 0 | AV15: =AG15-'13.5'!AG15 -> 0.145
A16: 2 | B16: Huyện Cẩm Xuyên | C16: =SUM(D16:G16) -> 80.01 | D16: 3.05 | E16: 22.12 | F16: 43.28 | G16: 11.56 | H16: =SUM(I16:L16) -> 12.4 | I16: 4.5 | J16: 5.9 | K16: 2 | M16: =SUM(N16:U16) -> 7.55 | N16: 2.1 | O16: 2.5 | P16: 0 | Q16: 0 | R16: 0.89 | S16: 0.75 | T16: 0.3 | U16: 1.01 | V16: 10671 | W16: =SUM(X16:AA16) -> 15.05 | X16: 0.1 | Y16: 2.59 | Z16: 10.195 | AA16: 2.165 | AB16: =SUM(AC16:AE16) -> 0 | AF16: =(AC16*5+AD16*3.5+AE16*3)*1000 -> 0 | AG16: =+SUM(AH16:AO16) -> 3.13 | AH16: 1.8 | AI16: 0 | AJ16: 0 | AK16: 0 | AL16: 0.98 | AM16: 0.35 | AN16: 0 | AO16: 0 | AP16: 2000 | AQ16: =$W16/C16 -> 0.18810149 | AS16: =AG16/M16 -> 0.41456954 | AT16: =W16-'13.5'!W16 -> 0 | AU16: =AB16-'13.5'!AB16 -> 0 | AV16: =AG16-'13.5'!AG16 -> 0
A17: 3 | B17: Thành phố Hà Tĩnh | C17: =SUM(D17:G17) -> 15.29 | D17: - | E17: 4.18 | F17: 8.78 | G17: 2.33 | H17: =SUM(I17:L17) -> 12.7 | I17: 0 | J17: 8.5 | K17: 4.2 | M17: =SUM(N17:U17) -> 6.95 | N17: 6.32 | O17: 0 | P17: 0 | Q17: 0 | R17: 0.63 | S17: 0 | T17: 0 | U17: 0 | V17: 2394 | W17: =SUM(X17:AA17) -> 4.25 | Y17: 1.5 | Z17: 2.75 | AB17: =SUM(AC17:AE17) -> 5.76 | AD17: 5.76 | AF17: 13370 | AG17: =+SUM(AH17:AO17) -> 1.45 | AH17: 0 | AL17: 1.45 | AP17: 983 | AQ17: =$W17/C17 -> 0.27795945 | AR17: =IF(H17=0,"-",AB17/H17) -> 0.45354331 | AS17: =AG17/M17 -> 0.20863309 | AT17: =W17-'13.5'!W17 -> 0.16 | AU17: =AB17-'13.5'!AB17 -> 0.61 | AV17: =AG17-'13.5'!AG17 -> 0.25
A18: 4 | B18: Huyện Thạch Hà | C18: =SUM(D18:G18) -> 97.59 | D18: 8.17 | E18: 7.68 | F18: 40.79 | G18: 40.95 | H18: =SUM(I18:L18) -> 30.29 | I18: 8.3 | J18: 17.8 | K18: 4.19 | M18: =SUM(N18:U18) -> 7.45 | N18: 0.9 | O18: 0.42 | P18: 0 | Q18: 0.35 | R18: 1.88 | S18: 3.4 | T18: 0.1 | U18: 0.4 | V18: 12442 | W18: =SUM(X18:AA18) -> 29.911 | X18: 0 | Y18: 2.59 | Z18: 19.341 | AA18: 7.98 | AB18: =SUM(AC18:AE18) -> 9.46 | AC18: 1.673 | AD18: 7.787 | AE18: 0 | AF18: 0 | AG18: =+SUM(AH18:AO18) -> 1.11 | AH18: 0 | AI18: 0.19 | AJ18: 0 | AK18: 0 | AL18: 0.29 | AM18: 0.45 | AN18: 0.18 | AO18: 0 | AP18: 3924 | AQ18: =$W18/C18 -> 0.30649657 | AS18: =AG18/M18 -> 0.14899329 | AT18: =W18-'13.5'!W18 -> 2.401 | AU18: =AB18-'13.5'!AB18 -> 1 | AV18: =AG18-'13.5'!AG18 -> 0
A19: 5 | B19: Huyện Can Lộc | C19: =SUM(D19:G19) -> 86.61 | D19: 0.4 | E19: 14.6 | F19: 53.25 | G19: 18.36 | H19: =SUM(I19:L19) -> 28.88 | I19: 10.7 | J19: 17.4 | K19: 0.78 | M19: =SUM(N19:U19) -> 28.57 | N19: 0.81 | O19: 0 | P19: 1.53 | Q19: 0 | R19: 8.38 | S19: 0 | T19: 17.85 | U19: 0 | V19: 12033 | W19: =SUM(X19:AA19) -> 16.919 | X19: 0 | Y19: 6.97 | Z19: 8.359 | AA19: 1.59 | AB19: =SUM(AC19:AE19) -> 6.712 | AC19: 5.264 | AD19: 1.448 | AE19: 0 | AF19: =(AC19*5+AD19*3.5+AE19*3)*1000 -> 31388 | AG19: =+SUM(AH19:AO19) -> 12.208 | AH19: 0 | AI19: 0 | AJ19: 0.18 | AK19: 0 | AL19: 0.9 | AM19: 0 | AN19: 11.128 | AO19: 0 | AP19: 4214 | AQ19: =$W19/C19 -> 0.19534696 | AR19: =IF(H19=0,"-",AB19/H19) -> 0.23240997 | AS19: =AG19/M19 -> 0.42730137 | AT19: =W19-'13.5'!W19 -> 0 | AU19: =AB19-'13.5'!AB19 -> 0.486 | AV19: =AG19-'13.5'!AG19 -> 0
A20: 6 | B20: Huyện Đức Thọ | C20: =SUM(D20:G20) -> 28.4 | D20: - | E20: 2.4 | F20: 23.6 | G20: 2.4 | H20: =SUM(I20:L20) -> 10.08 | I20: 4 | J20: 3.95 | K20: 2.13 | M20: =SUM(N20:U20) -> 3.1 | N20: 0 | O20: 0 | P20: 0 | Q20: 0 | R20: 3.1 | S20: 0 | T20: 0 | U20: 0 | V20: 3330 | W20: =SUM(X20:AA20) -> 9.91 | X20: 0.76 | Y20: 0 | Z20: 9.15 | AA20: 0 | AB20: =SUM(AC20:AE20) -> 0 | AF20: =(AC20*5+AD20*3.5+AE20*3)*1000 -> 0 | AG20: =+SUM(AH20:AO20) -> 0 | AP20: 1204 | AQ20: =$W20/C20 -> 0.34894366 | AR20: =IF(H20=0,"-",AB20/H20) -> 0 | AS20: =AG20/M20 -> 0 | AT20: =W20-'13.5'!W20 -> 0 | AU20: =AB20-'13.5'!AB20 -> 0 | AV20: =AG20-'13.5'!AG20 -> 0
A21: 7 | B21: Huyện Nghi Xuân | C21: =SUM(D21:G21) -> 17 | D21: 0.29 | E21: 4.27 | F21: 6.57 | G21: 5.87 | H21: =SUM(I21:L21) -> 3.03 | I21: 1.8 | J21: 1.03 | K21: 0.2 | M21: =SUM(N21:U21) -> 5.28 | N21: 0 | O21: 0 | P21: 0.85 | Q21: 0 | R21: 0 | S21: 1.55 | T21: 2 | U21: 0.88 | V21: 2421 | W21: =SUM(X21:AA21) -> 2.841 | X21: 0 | Y21: 0.16 | Z21: 1.856 | AA21: 0.825 | AB21: =SUM(AC21:AE21) -> 0.156 | AD21: 0.156 | AF21: =(AC21*5+AD21*3.5+AE21*3)*1000 -> 546 | AG21: =+SUM(AH21:AO21) -> 1.625 | AL21: 0 | AM21: 1 | AN21: 0 | AO21: 0.625 | AP21: 448 | AQ21: =$W21/C21 -> 0.16711765 | AR21: =IF(H21=0,"-",AB21/H21) -> 0.051485149 | AS21: =AG21/M21 -> 0.30776515 | AT21: =W21-'13.5'!W21 -> 0 | AU21: =AB21-'13.5'!AB21 -> 0 | AV21: =AG21-'13.5'!AG21 -> 0
A22: 8 | B22: Thị xã Hồng Lĩnh | C22: =SUM(D22:G22) -> 9.42 | D22: - | E22: 8.58 | F22: 0.34 | G22: 0.5 | H22: =SUM(I22:L22) -> 6 | I22: 0.7 | J22: 5.3 | K22: 0 | M22: =SUM(N22:U22) -> 16.37 | N22: 0 | O22: 0 | P22: 0 | Q22: 0 | R22: 7.93 | S22: 0 | T22: 8.44 | U22: 0 | V22: 2622 | W22: =SUM(X22:AA22) -> 1.534 | Y22: 1.534 | AB22: =SUM(AC22:AE22) -> 0 | AF22: =(AC22*5+AD22*3.5+AE22*3)*1000 -> 0 | AG22: =+SUM(AH22:AO22) -> 2.184 | AL22: 2.184 | AP22: 900 | AQ22: =$W22/C22 -> 0.16284501 | AR22: =IF(H22=0,"-",AB22/H22) -> 0 | AS22: =AG22/M22 -> 0.13341478 | AT22: =W22-'13.5'!W22 -> 0 | AU22: =AB22-'13.5'!AB22 -> 0 | AV22: =AG22-'13.5'!AG22 -> 0
A23: 9 | B23: Huyện Lộc Hà | C23: =SUM(D23:G23) -> 25.51 | D23: - | E23: 1.93 | F23: 14.39 | G23: 9.19 | H23: =SUM(I23:L23) -> 32.1 | I23: 1.9 | J23: 23.7 | K23: 6.5 | M23: =SUM(N23:U23) -> 9.32 | N23: 0.37 | O23: 0 | P23: 0 | Q23: 0 | R23: 6.25 | S23: 0 | T23: 2.7 | U23: 0 | V23: 3432 | W23: =SUM(X23:AA23) -> 2.18 | Y23: 0.16 | Z23: 1.9 | AA23: 0.12 | AB23: =SUM(AC23:AE23) -> 4.51 | AC23: 1.91 | AD23: 1.2 | AE23: 1.4 | AF23: =(AC23*5+AD23*3.5+AE23*3)*1000 -> 17950 | AG23: =+SUM(AH23:AO23) -> 0.2 | AL23: 0.2 | AP23: 454 | AQ23: =$W23/C23 -> 0.085456684 | AR23: =IF(H23=0,"-",AB23/H23) -> 0.14049844 | AS23: =AG23/M23 -> 0.021459227 | AT23: =W23-'13.5'!W23 -> 0 | AU23: =AB23-'13.5'!AB23 -> 0 | AV23: =AG23-'13.5'!AG23 -> 0
B24: Tổng cộng | C24: =SUM(C10:C23) -> 560.53 | D24: =SUM(D10:D23) -> 14.82 | E24: =SUM(E10:E23) -> 101.57 | F24: =SUM(F10:F23) -> 322.25 | G24: =SUM(G10:G23) -> 121.89 | H24: =SUM(H10:H23) -> 150 | I24: =SUM(I10:I23) -> 33.4 | J24: =SUM(J10:J23) -> 95.4 | ... AP24: =SUM(AP10:AP23) -> 20741.4 | AQ24: =$W24/C24 -> 0.21261485 | AR24: =IF(H24=0,"-",AB24/H24) -> 0.19485333 | AS24: =AG24/M24 -> 0.21958921 | AT24: =SUM(AT10:AT23) -> 19.634 | AU24: =SUM(AU10:AU23) -> 1.896 | AV24: =SUM(AV10:AV23) -> 9.303
AG26: Xi măng đạt | AP26: =+AP24/V24 -> 0.26356694

Sheet 27.5
B1: UỶ BAN NHÂN DÂN TỈNH HÀ TĨNH
B2: SỞ GIAO THÔNG VẬN TẢI
A3: BÁO CÁO KẾT QUẢ THỰC HIỆN KẾ HOẠCH LÀM ĐƯỜNG GIAO THÔNG, RÃNH THOÁT NƯỚC, PHỤC HỒI MẶT ĐƯỜNG BTXM THEO CƠ CHẾ HỖ TRỢ CỦA TỈNH ĐẾN NGÀY 27-5-2021
A5: TT | B5: Huyện, thị xã, thành phố | C5: Khối lượng theo kế hoạch UBND tỉnh | W5: Kết quả thực hiện lũy kế đến thời điểm báo cáo | AQ5: Mức độ hoàn thành kế hoạch đầu năm | AT5: Tăng so với tuần trước
C6: Đường giao thông (km) | D6: Trong đó | H6: Nâng cấp phục hồi mặt đường BTXM (km) | I6: Trong đó | M6: Rãnh thoát nước (km) | N6: Rãnh trên đường trục xã | R6: Rãnh trên đường trục thôn | V6: Tổng khối lượng xi măng (tấn) | W6: Đường giao thông (km) | X6: Trong đó | AB6: Nâng cấp phục hồi mặt đường BTXM (km) | AC6: Trong đó | AG6: Rãnh thoát nước (km) | AH6: Rãnh trên đường trục xã | AL6: Rãnh trên đường trục thôn | AP6: Tổng khối lượng xi măng đã nhận (tấn) | AQ6: Đường giao thông (%) | AR6: Nâng cấp phục hồi mặt đường BTXM (%) | AS6: Rãnh thoát nước (%) | AT6: Đường giao thông (km) | AU6: Nâng cấp phục hồi mặt đường BTXM (km) | AV6: Rãnh thoát nước (km)
D7: Đường trục xã và đường phố (km) | E7: Đường trục thôn, xóm và đường ngõ phố (km) | F7: Đường ngõ, xóm và đường ngách hẻm (km) | G7: Đường trục chính nội đồng (km) | I7: Đường trục xã và đường phố (km) | J7: Đường trục thôn, xóm và đường ngõ phố (km) | K7: Đường ngõ, xóm và đường ngách hẻm (km) | L7: Đường trục chính nội đồng (km) | N7: Rãnh BTXM có nắp đậy | O7: Rãnh BTXM không có nắp đậy | P7: Rãnh Gạch xây có nắp đậy | Q7: Rãnh Gạch xây không có nắp đậy | R7: Rãnh BTXM có nắp đậy | S7: Rãnh BTXM không có nắp đậy | T7: Rãnh Gạch xây có nắp đậy | U7: Rãnh Gạch xây không có nắp đậy | X7: Đường trục xã và đường phố (km) | Y7: Đường trục thôn, xóm và đường ngõ phố (km) | Z7: Đường ngõ, xóm và đường ngách hẻm (km) | AA7: Đường trục chính nội đồng (km) | AC7: Đường trục xã và đường phố (km) | AD7: Đường trục thôn, ngõ phố (km) | AE7: Đường ngõ, xóm và đường ngách hẻm (km) | AF7: Tổng diện tích tỉnh hỗ trợ (m2) | AH7: Rãnh BTXM có nắp đậy | AI7: Rãnh BTXM không có nắp đậy | AJ7: Rãnh Gạch xây có nắp đậy | AK7: Rãnh Gạch xây không có nắp đậy | AL7: Rãnh BTXM có nắp đậy | AM7: Rãnh BTXM không có nắp đậy | AN7: Rãnh Gạch xây có nắp đậy | AO7: Rãnh Gạch xây không có nắp đậy
A8: 1 | B8: 2 | C8: 3 | D8: 4 | E8: 5 | F8: 6 | G8: 7 | H8: 8 | I8: 9 | J8: 10 | K8: 11 | L8: 12 | M8: 13 | N8: 14 | O8: 15 | P8: 16 | Q8: 17 | R8: 18 | S8: 19 | T8: 20 | U8: 21 | V8: 22 | W8: 23 | X8: 24 | Y8: 25 | Z8: 26 | AA8: 27 | AB8: 28 | AC8: 29 | AD8: 30 | AE8: 31 | AF8: 32 | AG8: 33 | AH8: 34 | AI8: 35 | AJ8: 36 | AK8: 37 | AL8: 38 | AM8: 39 | AN8: 40 | AO8: 41 | AP8: 42 | AQ8: 43 | AR8: 44 | AS8: 45 | AT8: 69 | AU8: 70 | AV8: 71
A9: I | B9: Huyện miền núi | AF9: =(AC9*5+AD9*3.5)*1000 -> 0
A10: 1 | B10: Huyện Kỳ Anh | C10: =SUM(D10:G10) -> 58.41 | D10: 1.83 | E10: 10.19 | F10: 38.71 | G10: 7.68 | H10: =SUM(I10:L10) -> 6.2 | I10: 0 | J10: 5.3 | K10: 0.9 | M10: =SUM(N10:U10) -> 57.37 | N10: 1 | O10: 5.38 | P10: 2.48 | Q10: 3.28 | R10: 0.54 | S10: 23.22 | T10: 2.36 | U10: 19.11 | V10: 10271 | W10: =SUM(X10:AA10) -> 13.984 | X10: 0.07 | Y10: 1.246 | Z10: 11.753 | AA10: 0.915 | AB10: =SUM(AC10:AE10) -> 0 | AF10: =(AC10*5+AD10*3.5)*1000 -> 0 | AG10: =+SUM(AH10:AO10) -> 9.21 | AH10: 0 | AI10: 0 | AJ10: 0 | AK10: 1 | AL10: 0 | AM10: 5.25 | AN10: 0.7 | AO10: 2.26 | AP10: 2422 | AQ10: =$W10/C10 -> 0.23941106 | AR10: =IF(H10=0,"-",AB10/H10) -> 0 | AS10: =AG10/M10 -> 0.16053687 | AT10: =W10-'20.5'!W10 -> 9.493 | AU10: =AB10-'20.5'!AB10 -> 0 | AV10: =AG10-'20.5'!AG10 -> 3.56
A11: 2 | B11: Huyện Hương Sơn | C11: =SUM(D11:G11) -> 28.7 | D11: - | E11: 5.2 | F11: 20.2 | G11: 3.3 | H11: =SUM(I11:L11) -> 5.5 | I11: 0 | J11: 5.5 | K11: 0 | M11: =SUM(N11:U11) -> 13.94 | N11: 0.6 | O11: 0.5 | P11: 0.12 | Q11: 0.1 | R11: 1.6 | S11: 3.92 | T11: 1.71 | U11: 5.39 | V11: 4122 | W11: =SUM(X11:AA11) -> 12.25 | X11: 0.7 | Y11: 0.7 | Z11: 10.2 | AA11: 0.65 | AB11: =SUM(AC11:AE11) -> 2.3 | AC11: 2.3 | AF11: =(AC11*5+AD11*3.5+AE11*3)*1000 -> 11500 | AG11: =+SUM(AH11:AO11) -> 8.9 | AH11: 8.9 | AP11: 2477 | AQ11: =$W11/C11 -> 0.42682927 | AR11: =IF(H11=0,"-",AB11/H11) -> 0.41818182 | AS11: =AG11/M11 -> 0.6384505 | AT11: =W11-'20.5'!W11 -> 0 | AU11: =AB11-'20.5'!AB11 -> 0 | AV11: =AG11-'20.5'!AG11 -> 0
A12: 3 | B12: Huyện Hương Khê | C12: =SUM(D12:G12) -> 83.71 | D12: 0.36 | E12: 13.42 | F12: 53.2 | G12: 16.73 | H12: =SUM(I12:L12) -> 1.5 | I12: 1.5 | J12: 0 | K12: 0 | M12: =SUM(N12:U12) -> 17.11 | N12: 0.79 | O12: 1.83 | P12: 2.15 | Q12: 0.35 | R12: 0.52 | S12: 11.22 | T12: 0 | U12: 0.25 | V12: 10689 | W12: =SUM(X12:AA12) -> 13.157 | X12: 0.337 | Y12: 2.09 | Z12: 8.525 | AA12: 2.205 | AB12: =SUM(AC12:AE12) -> 0 | AF12: =(AC12*5+AD12*3.5+AE12*3)*1000 -> 0 | AG12: =+SUM(AH12:AO12) -> 1.508 | AH12: 0.208 | AI12: 0 | AJ12: 0 | AK12: 0 | AL12: 0 | AM12: 0.8 | AN12: 0 | AO12: 0.5 | AP12: 1865 | AQ12: =$W12/C12 -> 0.15717358 | AR12: =IF(H12=0,"-",AB12/H12) -> 0 | AS12: =AG12/M12 -> 0.088135593 | AT12: =W12-'20.5'!W12 -> 0.403 | AU12: =AB12-'20.5'!AB12 -> 0 | AV12: =AG12-'20.5'!AG12 -> 0.1
A13: 4 | B13: Huyện Vũ Quang | C13: =SUM(D13:G13) -> 13.77 | D13: 0.72 | E13: 1.69 | F13: 8.34 | G13: 3.02 | H13: =SUM(I13:L13) -> 0.9 | I13: 0 | J13: 0.9 | K13: 0 | M13: =SUM(N13:U13) -> 1.18 | N13: 0 | O13: 0 | P13: 0 | Q13: 0 | R13: 0.32 | S13: 0.86 | T13: 0 | U13: 0 | V13: 1727 | W13: =SUM(X13:AA13) -> 0.66 | Y13: 0.16 | Z13: 0.38 | AA13: 0.12 | AB13: =SUM(AC13:AE13) -> 0.33 | AD13: 0.33 | AG13: =+SUM(AH13:AO13) -> 0 | AP13: 248.4 | AQ13: =$W13/C13 -> 0.047930283 | AR13: =IF(H13=0,"-",AB13/H13) -> 0.36666667 | AS13: =AG13/M13 -> 0 | AT13: =W13-'20.5'!W13 -> 0 | AU13: =AB13-'20.5'!AB13 -> 0 | AV13: =AG13-'20.5'!AG13 -> 0
A14: II | B14: Các địa phương khác | AF14: =(AC14*5+AD14*3.5+AE14*3)*1000 -> 0 | AT14: =W14-'20.5'!W14 -> 0 | AU14: =AB14-'20.5'!AB14 -> 0 | AV14: =AG14-'20.5'!AG14 -> 0
A15: 1 | B15: Thị xã Kỳ Anh | C15: =SUM(D15:G15) -> 16.11 | D15: - | E15: 5.31 | F15: 10.8 | G15: - | H15: =SUM(I15:L15) -> 0.42 | I15: 0 | J15: 0.12 | K15: 0.3 | M15: =SUM(N15:U15) -> 8.87 | N15: 0 | O15: 0 | P15: 0 | Q15: 0 | R15: 1.56 | S15: 5.86 | T15: 1.45 | U15: - | V15: 2541 | W15: =SUM(X15:AA15) -> 6.427 | X15: 0.25 | Y15: 2.255 | Z15: 3.502 | AA15: 0.42 | AB15: =SUM(AC15:AE15) -> 0 | AF15: =(AC15*5+AD15*3.5+AE15*3)*1000 -> 0 | AG15: =+SUM(AH15:AO15) -> 2.333 | AL15: 0.245 | AM15: 2.088 | AN15: 0 | AO15: 0 | AP15: 1196 | AQ15: =$W15/C15 -> 0.39894475 | AR15: =IF(H15=0,"-",AB15/H15) -> 0 | AS15: =AG15/M15 -> 0.26302142 | AT15: =W15-'20.5'!W15 -> 0 | AU15: =AB15-'20.5'!AB15 -> 0 | AV15: =AG15-'20.5'!AG15 -> 0
A16: 2 | B16: Huyện Cẩm Xuyên | C16: =SUM(D16:G16) -> 80.01 | D16: 3.05 | E16: 22.12 | F16: 43.28 | G16: 11.56 | H16: =SUM(I16:L16) -> 12.4 | I16: 4.5 | J16: 5.9 | K16: 2 | M16: =SUM(N16:U16) -> 7.55 | N16: 2.1 | O16: 2.5 | P16: 0 | Q16: 0 | R16: 0.89 | S16: 0.75 | T16: 0.3 | U16: 1.01 | V16: 10671 | W16: =SUM(X16:AA16) -> 15.05 | X16: 0.1 | Y16: 2.59 | Z16: 10.195 | AA16: 2.165 | AB16: =SUM(AC16:AE16) -> 0 | AF16: =(AC16*5+AD16*3.5+AE16*3)*1000 -> 0 | AG16: =+SUM(AH16:AO16) -> 3.13 | AH16: 1.8 | AI16: 0 | AJ16: 0 | AK16: 0 | AL16: 0.98 | AM16: 0.35 | AN16: 0 | AO16: 0 | AP16: 2000 | AQ16: =$W16/C16 -> 0.18810149 | AS16: =AG16/M16 -> 0.41456954 | AT16: =W16-'20.5'!W16 -> 0 | AU16: =AB16-'20.5'!AB16 -> 0 | AV16: =AG16-'20.5'!AG16 -> 0
A17: 3 | B17: Thành phố Hà Tĩnh | C17: =SUM(D17:G17) -> 15.29 | D17: - | E17: 4.18 | F17: 8.78 | G17: 2.33 | H17: =SUM(I17:L17) -> 12.7 | I17: 0 | J17: 8.5 | K17: 4.2 | M17: =SUM(N17:U17) -> 6.95 | N17: 6.32 | O17: 0 | P17: 0 | Q17: 0 | R17: 0.63 | S17: 0 | T17: 0 | U17: 0 | V17: 2394 | W17: =SUM(X17:AA17) -> 4.25 | Y17: 1.5 | Z17: 2.75 | AB17: =SUM(AC17:AE17) -> 5.76 | AD17: 5.76 | AF17: 13370 | AG17: =+SUM(AH17:AO17) -> 1.45 | AH17: 0 | AL17: 1.45 | AP17: 983 | AQ17: =$W17/C17 -> 0.27795945 | AR17: =IF(H17=0,"-",AB17/H17) -> 0.45354331 | AS17: =AG17/M17 -> 0.20863309 | AT17: =W17-'20.5'!W17 -> 0 | AU17: =AB17-'20.5'!AB17 -> 0 | AV17: =AG17-'20.5'!AG17 -> 0
A18: 4 | B18: Huyện Thạch Hà | C18: =SUM(D18:G18) -> 97.59 | D18: 8.17 | E18: 7.68 | F18: 40.79 | G18: 40.95 | H18: =SUM(I18:L18) -> 30.29 | I18: 8.3 | J18: 17.8 | K18: 4.19 | M18: =SUM(N18:U18) -> 7.45 | N18: 0.9 | O18: 0.42 | P18: 0 | Q18: 0.35 | R18: 1.88 | S18: 3.4 | T18: 0.1 | U18: 0.4 | V18: 12442 | W18: =SUM(X18:AA18) -> 30.161 | X18: 0 | Y18: 2.59 | Z18: 19.591 | AA18: 7.98 | AB18: =SUM(AC18:AE18) -> 12.905 | AC18: 3.818 | AD18: 9.087 | AE18: 0 | AF18: 0 | AG18: =+SUM(AH18:AO18) -> 1.11 | AH18: 0 | AI18: 0.19 | AJ18: 0 | AK18: 0 | AL18: 0.29 | AM18: 0.45 | AN18: 0.18 | AO18: 0 | AP18: 3952 | AQ18: =$W18/C18 -> 0.30905831 | AS18: =AG18/M18 -> 0.14899329 | AT18: =W18-'20.5'!W18 -> 0.25 | AU18: =AB18-'20.5'!AB18 -> 3.445 | AV18: =AG18-'20.5'!AG18 -> 0
A19: 5 | B19: Huyện Can Lộc | C19: =SUM(D19:G19) -> 86.61 | D19: 0.4 | E19: 14.6 | F19: 53.25 | G19: 18.36 | H19: =SUM(I19:L19) -> 28.88 | I19: 10.7 | J19: 17.4 | K19: 0.78 | M19: =SUM(N19:U19) -> 28.57 | N19: 0.81 | O19: 0 | P19: 1.53 | Q19: 0 | R19: 8.38 | S19: 0 | T19: 17.85 | U19: 0 | V19: 12033 | W19: =SUM(X19:AA19) -> 19.904 | X19: 0 | Y19: 8.064 | Z19: 9.9 | AA19: 1.94 | AB19: =SUM(AC19:AE19) -> 8.954 | AC19: 5.264 | AD19: 3.69 | AE19: 0 | AF19: =(AC19*5+AD19*3.5+AE19*3)*1000 -> 39235 | AG19: =+SUM(AH19:AO19) -> 12.583 | AH19: 0 | AI19: 0 | AJ19: 0.18 | AK19: 0 | AL19: 1.15 | AM19: 0 | AN19: 11.253 | AO19: 0 | AP19: 4902 | AQ19: =$W19/C19 -> 0.2298118 | AR19: =IF(H19=0,"-",AB19/H19) -> 0.31004155 | AS19: =AG19/M19 -> 0.44042702 | AT19: =W19-'20.5'!W19 -> 2.985 | AU19: =AB19-'20.5'!AB19 -> 2.242 | AV19: =AG19-'20.5'!AG19 -> 0.375
A20: 6 | B20: Huyện Đức Thọ | C20: =SUM(D20:G20) -> 28.4 | D20: - | E20: 2.4 | F20: 23.6 | G20: 2.4 | H20: =SUM(I20:L20) -> 10.08 | I20: 4 | J20: 3.95 | K20: 2.13 | M20: =SUM(N20:U20) -> 3.1 | N20: 0 | O20: 0 | P20: 0 | Q20: 0 | R20: 3.1 | S20: 0 | T20: 0 | U20: 0 | V20: 3330 | W20: =SUM(X20:AA20) -> 9.91 | X20: 0.76 | Y20: 0 | Z20: 9.15 | AA20: 0 | AB20: =SUM(AC20:AE20) -> 0 | AF20: =(AC20*5+AD20*3.5+AE20*3)*1000 -> 0 | AG20: =+SUM(AH20:AO20) -> 0 | AP20: 1204 | AQ20: =$W20/C20 -> 0.34894366 | AR20: =IF(H20=0,"-",AB20/H20) -> 0 | AS20: =AG20/M20 -> 0 | AT20: =W20-'20.5'!W20 -> 0 | AU20: =AB20-'20.5'!AB20 -> 0 | AV20: =AG20-'20.5'!AG20 -> 0
A21: 7 | B21: Huyện Nghi Xuân | C21: =SUM(D21:G21) -> 17 | D21: 0.29 | E21: 4.27 | F21: 6.57 | G21: 5.87 | H21: =SUM(I21:L21) -> 3.03 | I21: 1.8 | J21: 1.03 | K21: 0.2 | M21: =SUM(N21:U21) -> 5.28 | N21: 0 | O21: 0 | P21: 0.85 | Q21: 0 | R21: 0 | S21: 1.55 | T21: 2 | U21: 0.88 | V21: 2421 | W21: =SUM(X21:AA21) -> 2.841 | X21: 0 | Y21: 0.16 | Z21: 1.856 | AA21: 0.825 | AB21: =SUM(AC21:AE21) -> 1.23166 | AC21: 0.80578 | AD21: 0.42588 | AE21: 0 | AF21: =(AC21*5+AD21*3.5+AE21*3)*1000 -> 5519.48 | AG21: =+SUM(AH21:AO21) -> 1.625 | AL21: 0 | AM21: 1 | AN21: 0 | AO21: 0.625 | AP21: 448 | AQ21: =$W21/C21 -> 0.16711765 | AR21: =IF(H21=0,"-",AB21/H21) -> 0.40648845 | AS21: =AG21/M21 -> 0.30776515 | AT21: =W21-'20.5'!W21 -> 0 | AU21: =AB21-'20.5'!AB21 -> 1.07566 | AV21: =AG21-'20.5'!AG21 -> 0
A22: 8 | B22: Thị xã Hồng Lĩnh | C22: =SUM(D22:G22) -> 9.42 | D22: - | E22: 8.58 | F22: 0.34 | G22: 0.5 | H22: =SUM(I22:L22) -> 6 | I22: 0.7 | J22: 5.3 | K22: 0 | M22: =SUM(N22:U22) -> 16.37 | N22: 0 | O22: 0 | P22: 0 | Q22: 0 | R22: 7.93 | S22: 0 | T22: 8.44 | U22: 0 | V22: 2622 | W22: =SUM(X22:AA22) -> 1.534 | Y22: 1.534 | AB22: =SUM(AC22:AE22) -> 0 | AF22: =(AC22*5+AD22*3.5+AE22*3)*1000 -> 0 | AG22: =+SUM(AH22:AO22) -> 2.184 | AL22: 2.184 | AP22: 900 | AQ22: =$W22/C22 -> 0.16284501 | AR22: =IF(H22=0,"-",AB22/H22) -> 0 | AS22: =AG22/M22 -> 0.13341478 | AT22: =W22-'20.5'!W22 -> 0 | AU22: =AB22-'20.5'!AB22 -> 0 | AV22: =AG22-'20.5'!AG22 -> 0
A23: 9 | B23: Huyện Lộc Hà | C23: =SUM(D23:G23) -> 25.51 | D23: - | E23: 1.93 | F23: 14.39 | G23: 9.19 | H23: =SUM(I23:L23) -> 32.1 | I23: 1.9 | J23: 23.7 | K23: 6.5 | M23: =SUM(N23:U23) -> 9.32 | N23: 0.37 | O23: 0 | P23: 0 | Q23: 0 | R23: 6.25 | S23: 0 | T23: 2.7 | U23: 0 | V23: 3432 | W23: =SUM(X23:AA23) -> 2.5 | Z23: 2.5 | AB23: =SUM(AC23:AE23) -> 4.51 | AC23: 1.91 | AD23: 1.2 | AE23: 1.4 | AF23: =(AC23*5+AD23*3.5+AE23*3)*1000 -> 17950 | AG23: =+SUM(AH23:AO23) -> 0.2 | AL23: 0.2 | AP23: 454 | AQ23: =$W23/C23 -> 0.098000784 | AR23: =IF(H23=0,"-",AB23/H23) -> 0.14049844 | AS23: =AG23/M23 -> 0.021459227 | AT23: =W23-'20.5'!W23 -> 0.32 | AU23: =AB23-'20.5'!AB23 -> 0 | AV23: =AG23-'20.5'!AG23 -> 0
B24: Tổng cộng | C24: =SUM(C10:C23) -> 560.53 | D24: =SUM(D10:D23) -> 14.82 | E24: =SUM(E10:E23) -> 101.57 | F24: =SUM(F10:F23) -> 322.25 | G24: =SUM(G10:G23) -> 121.89 | H24: =SUM(H10:H23) -> 150 | I24: =SUM(I10:I23) -> 33.4 | J24: =SUM(J10:J23) -> 95.4 | ... AP24: =SUM(AP10:AP23) -> 23051.4 | AQ24: =$W24/C24 -> 0.23661178 | AR24: =IF(H24=0,"-",AB24/H24) -> 0.23993773 | AS24: =AG24/M24 -> 0.24163116 | AT24: =SUM(AT10:AT23) -> 13.451 | AU24: =SUM(AU10:AU23) -> 6.76266 | AV24: =SUM(AV10:AV23) -> 4.035
AG26: Xi măng đạt | AP26: =+AP24/V24 -> 0.29292077
C27: =+C24*0.8 -> 448.424 | D27: =+D24*0.8 -> 11.856 | E27: =+E24*0.8 -> 81.256 | F27: =+F24*0.8 -> 257.8 | G27: =+G24*0.8 -> 97.512 | H27: =+H24*0.8 -> 120 | I27: =+I24*0.8 -> 26.72 | J27: =+J24*0.8 -> 76.32 | ... U27: =+U24*0.8 -> 21.632

Sheet 3.6
B1: UỶ BAN NHÂN DÂN TỈNH HÀ TĨNH
B2: SỞ GIAO THÔNG VẬN TẢI
A3: BÁO CÁO KẾT QUẢ THỰC HIỆN KẾ HOẠCH LÀM ĐƯỜNG GIAO THÔNG, RÃNH THOÁT NƯỚC, PHỤC HỒI MẶT ĐƯỜNG BTXM THEO CƠ CHẾ HỖ TRỢ CỦA TỈNH ĐẾN NGÀY 03-6-2021
A5: TT | B5: Huyện, thị xã, thành phố | C5: Khối lượng theo kế hoạch UBND tỉnh | W5: Kết quả thực hiện lũy kế đến thời điểm báo cáo | AQ5: Mức độ hoàn thành kế hoạch đầu năm | AT5: Tăng so với tuần trước
C6: Đường giao thông (km) | D6: Trong đó | H6: Nâng cấp phục hồi mặt đường BTXM (km) | I6: Trong đó | M6: Rãnh thoát nước (km) | N6: Rãnh trên đường trục xã | R6: Rãnh trên đường trục thôn | V6: Tổng khối lượng xi măng (tấn) | W6: Đường giao thông (km) | X6: Trong đó | AB6: Nâng cấp phục hồi mặt đường BTXM (km) | AC6: Trong đó | AG6: Rãnh thoát nước (km) | AH6: Rãnh trên đường trục xã | AL6: Rãnh trên đường trục thôn | AP6: Tổng khối lượng xi măng đã nhận (tấn) | AQ6: Đường giao thông (%) | AR6: Nâng cấp phục hồi mặt đường BTXM (%) | AS6: Rãnh thoát nước (%) | AT6: Đường giao thông (km) | AU6: Nâng cấp phục hồi mặt đường BTXM (km) | AV6: Rãnh thoát nước (km)
D7: Đường trục xã và đường phố (km) | E7: Đường trục thôn, xóm và đường ngõ phố (km) | F7: Đường ngõ, xóm và đường ngách hẻm (km) | G7: Đường trục chính nội đồng (km) | I7: Đường trục xã và đường phố (km) | J7: Đường trục thôn, xóm và đường ngõ phố (km) | K7: Đường ngõ, xóm và đường ngách hẻm (km) | L7: Đường trục chính nội đồng (km) | N7: Rãnh BTXM có nắp đậy | O7: Rãnh BTXM không có nắp đậy | P7: Rãnh Gạch xây có nắp đậy | Q7: Rãnh Gạch xây không có nắp đậy | R7: Rãnh BTXM có nắp đậy | S7: Rãnh BTXM không có nắp đậy | T7: Rãnh Gạch xây có nắp đậy | U7: Rãnh Gạch xây không có nắp đậy | X7: Đường trục xã và đường phố (km) | Y7: Đường trục thôn, xóm và đường ngõ phố (km) | Z7: Đường ngõ, xóm và đường ngách hẻm (km) | AA7: Đường trục chính nội đồng (km) | AC7: Đường trục xã và đường phố (km) | AD7: Đường trục thôn, ngõ phố (km) | AE7: Đường ngõ, xóm và đường ngách hẻm (km) | AF7: Tổng diện tích tỉnh hỗ trợ (m2) | AH7: Rãnh BTXM có nắp đậy | AI7: Rãnh BTXM không có nắp đậy | AJ7: Rãnh Gạch xây có nắp đậy | AK7: Rãnh Gạch xây không có nắp đậy | AL7: Rãnh BTXM có nắp đậy | AM7: Rãnh BTXM không có nắp đậy | AN7: Rãnh Gạch xây có nắp đậy | AO7: Rãnh Gạch xây không có nắp đậy
A8: 1 | B8: 2 | C8: 3 | D8: 4 | E8: 5 | F8: 6 | G8: 7 | H8: 8 | I8: 9 | J8: 10 | K8: 11 | L8: 12 | M8: 13 | N8: 14 | O8: 15 | P8: 16 | Q8: 17 | R8: 18 | S8: 19 | T8: 20 | U8: 21 | V8: 22 | W8: 23 | X8: 24 | Y8: 25 | Z8: 26 | AA8: 27 | AB8: 28 | AC8: 29 | AD8: 30 | AE8: 31 | AF8: 32 | AG8: 33 | AH8: 34 | AI8: 35 | AJ8: 36 | AK8: 37 | AL8: 38 | AM8: 39 | AN8: 40 | AO8: 41 | AP8: 42 | AQ8: 43 | AR8: 44 | AS8: 45 | AT8: 69 | AU8: 70 | AV8: 71
A9: I | B9: Huyện miền núi | AF9: =(AC9*5+AD9*3.5)*1000 -> 0
A10: 1 | B10: Huyện Kỳ Anh | C10: =SUM(D10:G10) -> 58.41 | D10: 1.83 | E10: 10.19 | F10: 38.71 | G10: 7.68 | H10: =SUM(I10:L10) -> 6.2 | I10: 0 | J10: 5.3 | K10: 0.9 | M10: =SUM(N10:U10) -> 57.37 | N10: 1 | O10: 5.38 | P10: 2.48 | Q10: 3.28 | R10: 0.54 | S10: 23.22 | T10: 2.36 | U10: 19.11 | V10: 10271 | W10: =SUM(X10:AA10) -> 18.963 | X10: 0.07 | Y10: 1.896 | Z10: 15.982 | AA10: 1.015 | AB10: =SUM(AC10:AE10) -> 0 | AF10: =(AC10*5+AD10*3.5)*1000 -> 0 | AG10: =+SUM(AH10:AO10) -> 9.94 | AH10: 0 | AI10: 0 | AJ10: 0 | AK10: 1 | AL10: 0 | AM10: 5.98 | AN10: 0.7 | AO10: 2.26 | AP10: 2841 | AQ10: =$W10/C10 -> 0.32465331 | AR10: =IF(H10=0,"-",AB10/H10) -> 0 | AS10: =AG10/M10 -> 0.17326129 | AT10: =W10-'27.5'!W10 -> 4.979 | AU10: =AB10-'27.5'!AB10 -> 0 | AV10: =AG10-'27.5'!AG10 -> 0.73 | AW10: từ 27/5
A11: 2 | B11: Huyện Hương Sơn | C11: =SUM(D11:G11) -> 28.7 | D11: - | E11: 5.2 | F11: 20.2 | G11: 3.3 | H11: =SUM(I11:L11) -> 5.5 | I11: 0 | J11: 5.5 | K11: 0 | M11: =SUM(N11:U11) -> 13.94 | N11: 0.6 | O11: 0.5 | P11: 0.12 | Q11: 0.1 | R11: 1.6 | S11: 3.92 | T11: 1.71 | U11: 5.39 | V11: 4122 | W11: =SUM(X11:AA11) -> 16.3 | X11: 0.7 | Y11: 1 | Z11: 13.95 | AA11: 0.65 | AB11: =SUM(AC11:AE11) -> 2.3 | AC11: 2.3 | AF11: =(AC11*5+AD11*3.5+AE11*3)*1000 -> 11500 | AG11: =+SUM(AH11:AO11) -> 11.3 | AH11: 11.3 | AP11: 2797 | AQ11: =$W11/C11 -> 0.56794425 | AR11: =IF(H11=0,"-",AB11/H11) -> 0.41818182 | AS11: =AG11/M11 -> 0.81061693 | AT11: =W11-'27.5'!W11 -> 4.05 | AU11: =AB11-'27.5'!AB11 -> 0 | AV11: =AG11-'27.5'!AG11 -> 2.4 | AW11: từ 20/5
A12: 3 | B12: Huyện Hương Khê | C12: =SUM(D12:G12) -> 83.71 | D12: 0.36 | E12: 13.42 | F12: 53.2 | G12: 16.73 | H12: =SUM(I12:L12) -> 1.5 | I12: 1.5 | J12: 0 | K12: 0 | M12: =SUM(N12:U12) -> 17.11 | N12: 0.79 | O12: 1.83 | P12: 2.15 | Q12: 0.35 | R12: 0.52 | S12: 11.22 | T12: 0 | U12: 0.25 | V12: 10689 | W12: =SUM(X12:AA12) -> 14.449 | X12: 0.337 | Y12: 2.09 | Z12: 10.052 | AA12: 1.97 | AB12: =SUM(AC12:AE12) -> 0 | AF12: =(AC12*5+AD12*3.5+AE12*3)*1000 -> 0 | AG12: =+SUM(AH12:AO12) -> 1.838 | AH12: 0.208 | AI12: 0 | AJ12: 0 | AK12: 0 | AL12: 0 | AM12: 1.13 | AN12: 0 | AO12: 0.5 | AP12: 2121 | AQ12: =$W12/C12 -> 0.17260781 | AR12: =IF(H12=0,"-",AB12/H12) -> 0 | AS12: =AG12/M12 -> 0.10742256 | AT12: =W12-'27.5'!W12 -> 1.292 | AU12: =AB12-'27.5'!AB12 -> 0 | AV12: =AG12-'27.5'!AG12 -> 0.33
A13: 4 | B13: Huyện Vũ Quang | C13: =SUM(D13:G13) -> 13.77 | D13: 0.72 | E13: 1.69 | F13: 8.34 | G13: 3.02 | H13: =SUM(I13:L13) -> 0.9 | I13: 0 | J13: 0.9 | K13: 0 | M13: =SUM(N13:U13) -> 1.18 | N13: 0 | O13: 0 | P13: 0 | Q13: 0 | R13: 0.32 | S13: 0.86 | T13: 0 | U13: 0 | V13: 1727 | W13: =SUM(X13:AA13) -> 4.233 | Y13: 0.16 | Z13: 3.353 | AA13: 0.72 | AB13: =SUM(AC13:AE13) -> 0.33 | AD13: 0.33 | AG13: =+SUM(AH13:AO13) -> 0.36 | AH13: 0.36 | AP13: 514 | AQ13: =$W13/C13 -> 0.30740741 | AR13: =IF(H13=0,"-",AB13/H13) -> 0.36666667 | AS13: =AG13/M13 -> 0.30508475 | AT13: =W13-'27.5'!W13 -> 3.573 | AU13: =AB13-'27.5'!AB13 -> 0 | AV13: =AG13-'27.5'!AG13 -> 0.36 | AW13: từ 6/5
A14: II | B14: Các địa phương khác | AF14: =(AC14*5+AD14*3.5+AE14*3)*1000 -> 0 | AT14: =W14-'27.5'!W14 -> 0 | AU14: =AB14-'27.5'!AB14 -> 0 | AV14: =AG14-'27.5'!AG14 -> 0
A15: 1 | B15: Thị xã Kỳ Anh | C15: =SUM(D15:G15) -> 16.11 | D15: - | E15: 5.31 | F15: 10.8 | G15: - | H15: =SUM(I15:L15) -> 0.42 | I15: 0 | J15: 0.12 | K15: 0.3 | M15: =SUM(N15:U15) -> 8.87 | N15: 0 | O15: 0 | P15: 0 | Q15: 0 | R15: 1.56 | S15: 5.86 | T15: 1.45 | U15: - | V15: 2541 | W15: =SUM(X15:AA15) -> 6.427 | X15: 0.25 | Y15: 2.255 | Z15: 3.502 | AA15: 0.42 | AB15: =SUM(AC15:AE15) -> 0 | AF15: =(AC15*5+AD15*3.5+AE15*3)*1000 -> 0 | AG15: =+SUM(AH15:AO15) -> 2.333 | AL15: 0.245 | AM15: 2.088 | AN15: 0 | AO15: 0 | AP15: 1196 | AQ15: =$W15/C15 -> 0.39894475 | AR15: =IF(H15=0,"-",AB15/H15) -> 0 | AS15: =AG15/M15 -> 0.26302142 | AT15: =W15-'27.5'!W15 -> 0 | AU15: =AB15-'27.5'!AB15 -> 0 | AV15: =AG15-'27.5'!AG15 -> 0 | AW15: từ 20/6
A16: 2 | B16: Huyện Cẩm Xuyên | C16: =SUM(D16:G16) -> 80.01 | D16: 3.05 | E16: 22.12 | F16: 43.28 | G16: 11.56 | H16: =SUM(I16:L16) -> 12.4 | I16: 4.5 | J16: 5.9 | K16: 2 | M16: =SUM(N16:U16) -> 7.55 | N16: 2.1 | O16: 2.5 | P16: 0 | Q16: 0 | R16: 0.89 | S16: 0.75 | T16: 0.3 | U16: 1.01 | V16: 10671 | W16: =SUM(X16:AA16) -> 15.05 | X16: 0.1 | Y16: 2.59 | Z16: 10.195 | AA16: 2.165 | AB16: =SUM(AC16:AE16) -> 0 | AF16: =(AC16*5+AD16*3.5+AE16*3)*1000 -> 0 | AG16: =+SUM(AH16:AO16) -> 3.13 | AH16: 1.8 | AI16: 0 | AJ16: 0 | AK16: 0 | AL16: 0.98 | AM16: 0.35 | AN16: 0 | AO16: 0 | AP16: 2000 | AQ16: =$W16/C16 -> 0.18810149 | AS16: =AG16/M16 -> 0.41456954 | AT16: =W16-'27.5'!W16 -> 0 | AU16: =AB16-'27.5'!AB16 -> 0 | AV16: =AG16-'27.5'!AG16 -> 0 | AW16: từ 13/5
A17: 3 | B17: Thành phố Hà Tĩnh | C17: =SUM(D17:G17) -> 15.29 | D17: - | E17: 4.18 | F17: 8.78 | G17: 2.33 | H17: =SUM(I17:L17) -> 12.7 | I17: 0 | J17: 8.5 | K17: 4.2 | M17: =SUM(N17:U17) -> 6.95 | N17: 6.32 | O17: 0 | P17: 0 | Q17: 0 | R17: 0.63 | S17: 0 | T17: 0 | U17: 0 | V17: 2394 | W17: =SUM(X17:AA17) -> 4.25 | Y17: 1.5 | Z17: 2.75 | AB17: =SUM(AC17:AE17) -> 5.76 | AD17: 5.76 | AF17: 13370 | AG17: =+SUM(AH17:AO17) -> 1.45 | AH17: 0 | AL17: 1.45 | AP17: 983 | AQ17: =$W17/C17 -> 0.27795945 | AR17: =IF(H17=0,"-",AB17/H17) -> 0.45354331 | AS17: =AG17/M17 -> 0.20863309 | AT17: =W17-'27.5'!W17 -> 0 | AU17: =AB17-'27.5'!AB17 -> 0 | AV17: =AG17-'27.5'!AG17 -> 0 | AW17: từ 20/6
A18: 4 | B18: Huyện Thạch Hà | C18: =SUM(D18:G18) -> 97.59 | D18: 8.17 | E18: 7.68 | F18: 40.79 | G18: 40.95 | H18: =SUM(I18:L18) -> 30.29 | I18: 8.3 | J18: 17.8 | K18: 4.19 | M18: =SUM(N18:U18) -> 7.45 | N18: 0.9 | O18: 0.42 | P18: 0 | Q18: 0.35 | R18: 1.88 | S18: 3.4 | T18: 0.1 | U18: 0.4 | V18: 12442 | W18: =SUM(X18:AA18) -> 31.074 | X18: 0 | Y18: 2.59 | Z18: 19.891 | AA18: 8.593 | AB18: =SUM(AC18:AE18) -> 13.363 | AC18: 3.818 | AD18: 9.545 | AE18: 0 | AF18: 0 | AG18: =+SUM(AH18:AO18) -> 1.18 | AH18: 0 | AI18: 0.19 | AJ18: 0 | AK18: 0 | AL18: 0.29 | AM18: 0.52 | AN18: 0.18 | AO18: 0 | AP18: 4050 | AQ18: =$W18/C18 -> 0.31841377 | AS18: =AG18/M18 -> 0.15838926 | AT18: =W18-'27.5'!W18 -> 0.913 | AU18: =AB18-'27.5'!AB18 -> 0.458 | AV18: =AG18-'27.5'!AG18 -> 0.07
A19: 5 | B19: Huyện Can Lộc | C19: =SUM(D19:G19) -> 86.61 | D19: 0.4 | E19: 14.6 | F19: 53.25 | G19: 18.36 | H19: =SUM(I19:L19) -> 28.88 | I19: 10.7 | J19: 17.4 | K19: 0.78 | M19: =SUM(N19:U19) -> 28.57 | N19: 0.81 | O19: 0 | P19: 1.53 | Q19: 0 | R19: 8.38 | S19: 0 | T19: 17.85 | U19: 0 | V19: 12033 | W19: =SUM(X19:AA19) -> 20.994 | X19: 0 | Y19: 8.934 | Z19: 10.12 | AA19: 1.94 | AB19: =SUM(AC19:AE19) -> 8.954 | AC19: 5.264 | AD19: 3.69 | AE19: 0 | AF19: =(AC19*5+AD19*3.5+AE19*3)*1000 -> 39235 | AG19: =+SUM(AH19:AO19) -> 12.813 | AH19: 0 | AI19: 0 | AJ19: 0.18 | AK19: 0 | AL19: 1.15 | AM19: 0 | AN19: 11.253 | AO19: 0.23 | AP19: 5004 | AQ19: =$W19/C19 -> 0.24239695 | AR19: =IF(H19=0,"-",AB19/H19) -> 0.31004155 | AS19: =AG19/M19 -> 0.44847742 | AT19: =W19-'27.5'!W19 -> 1.09 | AU19: =AB19-'27.5'!AB19 -> 0 | AV19: =AG19-'27.5'!AG19 -> 0.23
A20: 6 | B20: Huyện Đức Thọ | C20: =SUM(D20:G20) -> 28.4 | D20: - | E20: 2.4 | F20: 23.6 | G20: 2.4 | H20: =SUM(I20:L20) -> 10.08 | I20: 4 | J20: 3.95 | K20: 2.13 | M20: =SUM(N20:U20) -> 3.1 | N20: 0 | O20: 0 | P20: 0 | Q20: 0 | R20: 3.1 | S20: 0 | T20: 0 | U20: 0 | V20: 3330 | W20: =SUM(X20:AA20) -> 9.91 | X20: 0.76 | Y20: 0 | Z20: 9.15 | AA20: 0 | AB20: =SUM(AC20:AE20) -> 0 | AF20: =(AC20*5+AD20*3.5+AE20*3)*1000 -> 0 | AG20: =+SUM(AH20:AO20) -> 0 | AP20: 1204 | AQ20: =$W20/C20 -> 0.34894366 | AR20: =IF(H20=0,"-",AB20/H20) -> 0 | AS20: =AG20/M20 -> 0 | AT20: =W20-'27.5'!W20 -> 0 | AU20: =AB20-'27.5'!AB20 -> 0 | AV20: =AG20-'27.5'!AG20 -> 0 | AW20: từ 13/5
A21: 7 | B21: Huyện Nghi Xuân | C21: =SUM(D21:G21) -> 17 | D21: 0.29 | E21: 4.27 | F21: 6.57 | G21: 5.87 | H21: =SUM(I21:L21) -> 3.03 | I21: 1.8 | J21: 1.03 | K21: 0.2 | M21: =SUM(N21:U21) -> 5.28 | N21: 0 | O21: 0 | P21: 0.85 | Q21: 0 | R21: 0 | S21: 1.55 | T21: 2 | U21: 0.88 | V21: 2421 | W21: =SUM(X21:AA21) -> 2.841 | X21: 0 | Y21: 0.16 | Z21: 1.856 | AA21: 0.825 | AB21: =SUM(AC21:AE21) -> 1.23166 | AC21: 0.80578 | AD21: 0.42588 | AE21: 0 | AF21: =(AC21*5+AD21*3.5+AE21*3)*1000 -> 5519.48 | AG21: =+SUM(AH21:AO21) -> 1.625 | AL21: 0 | AM21: 1 | AN21: 0 | AO21: 0.625 | AP21: 448 | AQ21: =$W21/C21 -> 0.16711765 | AR21: =IF(H21=0,"-",AB21/H21) -> 0.40648845 | AS21: =AG21/M21 -> 0.30776515 | AT21: =W21-'27.5'!W21 -> 0 | AU21: =AB21-'27.5'!AB21 -> 0 | AV21: =AG21-'27.5'!AG21 -> 0 | AW21: từ 13/6
A22: 8 | B22: Thị xã Hồng Lĩnh | C22: =SUM(D22:G22) -> 9.42 | D22: - | E22: 8.58 | F22: 0.34 | G22: 0.5 | H22: =SUM(I22:L22) -> 6 | I22: 0.7 | J22: 5.3 | K22: 0 | M22: =SUM(N22:U22) -> 16.37 | N22: 0 | O22: 0 | P22: 0 | Q22: 0 | R22: 7.93 | S22: 0 | T22: 8.44 | U22: 0 | V22: 2622 | W22: =SUM(X22:AA22) -> 1.534 | Y22: 1.534 | AB22: =SUM(AC22:AE22) -> 0 | AF22: =(AC22*5+AD22*3.5+AE22*3)*1000 -> 0 | AG22: =+SUM(AH22:AO22) -> 2.184 | AL22: 2.184 | AP22: 900 | AQ22: =$W22/C22 -> 0.16284501 | AR22: =IF(H22=0,"-",AB22/H22) -> 0 | AS22: =AG22/M22 -> 0.13341478 | AT22: =W22-'27.5'!W22 -> 0 | AU22: =AB22-'27.5'!AB22 -> 0 | AV22: =AG22-'27.5'!AG22 -> 0 | AW22: từ 15/4
A23: 9 | B23: Huyện Lộc Hà | C23: =SUM(D23:G23) -> 25.51 | D23: - | E23: 1.93 | F23: 14.39 | G23: 9.19 | H23: =SUM(I23:L23) -> 32.1 | I23: 1.9 | J23: 23.7 | K23: 6.5 | M23: =SUM(N23:U23) -> 9.32 | N23: 0.37 | O23: 0 | P23: 0 | Q23: 0 | R23: 6.25 | S23: 0 | T23: 2.7 | U23: 0 | V23: 3432 | W23: =SUM(X23:AA23) -> 2.5 | Z23: 2.5 | AB23: =SUM(AC23:AE23) -> 4.51 | AC23: 1.91 | AD23: 1.2 | AE23: 1.4 | AF23: =(AC23*5+AD23*3.5+AE23*3)*1000 -> 17950 | AG23: =+SUM(AH23:AO23) -> 0.2 | AL23: 0.2 | AP23: 454 | AQ23: =$W23/C23 -> 0.098000784 | AR23: =IF(H23=0,"-",AB23/H23) -> 0.14049844 | AS23: =AG23/M23 -> 0.021459227 | AT23: =W23-'27.5'!W23 -> 0 | AU23: =AB23-'27.5'!AB23 -> 0 | AV23: =AG23-'27.5'!AG23 -> 0 | AW23: từ 27/5
B24: Tổng cộng | C24: =SUM(C10:C23) -> 560.53 | D24: =SUM(D10:D23) -> 14.82 | E24: =SUM(E10:E23) -> 101.57 | F24: =SUM(F10:F23) -> 322.25 | G24: =SUM(G10:G23) -> 121.89 | H24: =SUM(H10:H23) -> 150 | I24: =SUM(I10:I23) -> 33.4 | J24: =SUM(J10:J23) -> 95.4 | ... AP24: =SUM(AP10:AP23) -> 24512 | AQ24: =$W24/C24 -> 0.26497244 | AR24: =IF(H24=0,"-",AB24/H24) -> 0.24299107 | AS24: =AG24/M24 -> 0.26413744 | AT24: =SUM(AT10:AT23) -> 15.897 | AU24: =SUM(AU10:AU23) -> 0.458 | AV24: =SUM(AV10:AV23) -> 4.12
AG26: Xi măng đạt | AP26: =+AP24/V24 -> 0.31148103
C27: =+C24*0.8 -> 448.424 | D27: =+D24*0.8 -> 11.856 | E27: =+E24*0.8 -> 81.256 | F27: =+F24*0.8 -> 257.8 | G27: =+G24*0.8 -> 97.512 | H27: =+H24*0.8 -> 120 | I27: =+I24*0.8 -> 26.72 | J27: =+J24*0.8 -> 76.32 | ... U27: =+U24*0.8 -> 21.632

Sheet 11.6
B1: UỶ BAN NHÂN DÂN TỈNH HÀ TĨNH
B2: SỞ GIAO THÔNG VẬN TẢI
A3: BÁO CÁO KẾT QUẢ THỰC HIỆN KẾ HOẠCH LÀM ĐƯỜNG GIAO THÔNG, RÃNH THOÁT NƯỚC, PHỤC HỒI MẶT ĐƯỜNG BTXM THEO CƠ CHẾ HỖ TRỢ CỦA TỈNH ĐẾN NGÀY 11-6-2021
A5: TT | B5: Huyện, thị xã, thành phố | C5: Khối lượng theo kế hoạch UBND tỉnh | W5: Kết quả thực hiện lũy kế đến thời điểm báo cáo | AQ5: Mức độ hoàn thành kế hoạch đầu năm | AT5: Tăng so với tuần trước
C6: Đường giao thông (km) | D6: Trong đó | H6: Nâng cấp phục hồi mặt đường BTXM (km) | I6: Trong đó | M6: Rãnh thoát nước (km) | N6: Rãnh trên đường trục xã | R6: Rãnh trên đường trục thôn | V6: Tổng khối lượng xi măng (tấn) | W6: Đường giao thông (km) | X6: Trong đó | AB6: Nâng cấp phục hồi mặt đường BTXM (km) | AC6: Trong đó | AG6: Rãnh thoát nước (km) | AH6: Rãnh trên đường trục xã | AL6: Rãnh trên đường trục thôn | AP6: Tổng khối lượng xi măng đã nhận (tấn) | AQ6: Đường giao thông (%) | AR6: Nâng cấp phục hồi mặt đường BTXM (%) | AS6: Rãnh thoát nước (%) | AT6: Đường giao thông (km) | AU6: Nâng cấp phục hồi mặt đường BTXM (km) | AV6: Rãnh thoát nước (km)
D7: Đường trục xã và đường phố (km) | E7: Đường trục thôn, xóm và đường ngõ phố (km) | F7: Đường ngõ, xóm và đường ngách hẻm (km) | G7: Đường trục chính nội đồng (km) | I7: Đường trục xã và đường phố (km) | J7: Đường trục thôn, xóm và đường ngõ phố (km) | K7: Đường ngõ, xóm và đường ngách hẻm (km) | L7: Đường trục chính nội đồng (km) | N7: Rãnh BTXM có nắp đậy | O7: Rãnh BTXM không có nắp đậy | P7: Rãnh Gạch xây có nắp đậy | Q7: Rãnh Gạch xây không có nắp đậy | R7: Rãnh BTXM có nắp đậy | S7: Rãnh BTXM không có nắp đậy | T7: Rãnh Gạch xây có nắp đậy | U7: Rãnh Gạch xây không có nắp đậy | X7: Đường trục xã và đường phố (km) | Y7: Đường trục thôn, xóm và đường ngõ phố (km) | Z7: Đường ngõ, xóm và đường ngách hẻm (km) | AA7: Đường trục chính nội đồng (km) | AC7: Đường trục xã và đường phố (km) | AD7: Đường trục thôn, ngõ phố (km) | AE7: Đường ngõ, xóm và đường ngách hẻm (km) | AF7: Tổng diện tích tỉnh hỗ trợ (m2) | AH7: Rãnh BTXM có nắp đậy | AI7: Rãnh BTXM không có nắp đậy | AJ7: Rãnh Gạch xây có nắp đậy | AK7: Rãnh Gạch xây không có nắp đậy | AL7: Rãnh BTXM có nắp đậy | AM7: Rãnh BTXM không có nắp đậy | AN7: Rãnh Gạch xây có nắp đậy | AO7: Rãnh Gạch xây không có nắp đậy
A8: 1 | B8: 2 | C8: 3 | D8: 4 | E8: 5 | F8: 6 | G8: 7 | H8: 8 | I8: 9 | J8: 10 | K8: 11 | L8: 12 | M8: 13 | N8: 14 | O8: 15 | P8: 16 | Q8: 17 | R8: 18 | S8: 19 | T8: 20 | U8: 21 | V8: 22 | W8: 23 | X8: 24 | Y8: 25 | Z8: 26 | AA8: 27 | AB8: 28 | AC8: 29 | AD8: 30 | AE8: 31 | AF8: 32 | AG8: 33 | AH8: 34 | AI8: 35 | AJ8: 36 | AK8: 37 | AL8: 38 | AM8: 39 | AN8: 40 | AO8: 41 | AP8: 42 | AQ8: 43 | AR8: 44 | AS8: 45 | AT8: 69 | AU8: 70 | AV8: 71 | AX8: Tổng | AY8: 15/4 | AZ8: 22/4 | BA8: 29/4 | BB8: 6/5 | BC8: 13/5 | BD8: 20/5 | BE8: 27/5 | BF8: 3/6 | BG8: 11/6
A9: I | B9: Huyện miền núi | AF9: =(AC9*5+AD9*3.5)*1000 -> 0
A10: 1 | B10: Huyện Kỳ Anh | C10: =SUM(D10:G10) -> 58.41 | D10: 1.83 | E10: 10.19 | F10: 38.71 | G10: 7.68 | H10: =SUM(I10:L10) -> 6.2 | I10: 0 | J10: 5.3 | K10: 0.9 | M10: =SUM(N10:U10) -> 57.37 | N10: 1 | O10: 5.38 | P10: 2.48 | Q10: 3.28 | R10: 0.54 | S10: 23.22 | T10: 2.36 | U10: 19.11 | V10: 10271 | W10: =SUM(X10:AA10) -> 18.963 | X10: 0.07 | Y10: 1.896 | Z10: 15.982 | AA10: 1.015 | AB10: =SUM(AC10:AE10) -> 0 | AF10: =(AC10*5+AD10*3.5)*1000 -> 0 | AG10: =+SUM(AH10:AO10) -> 9.94 | AH10: 0 | AI10: 0 | AJ10: 0 | AK10: 1 | AL10: 0 | AM10: 5.98 | AN10: 0.7 | AO10: 2.26 | AP10: 2841 | AQ10: =$W10/C10 -> 0.32465331 | AR10: =IF(H10=0,"-",AB10/H10) -> 0 | AS10: =AG10/M10 -> 0.17326129 | AT10: =W10-'3.6'!W10 -> 0 | AU10: =AB10-'3.6'!AB10 -> 0 | AV10: =AG10-'3.6'!AG10 -> 0 | AW10: từ 27/5 | AX10: =+SUM(AY10:BG10) -> 4 | AY10: 1 | AZ10: 1 | BE10: 1 | BF10: 1
A11: 2 | B11: Huyện Hương Sơn | C11: =SUM(D11:G11) -> 28.7 | D11: - | E11: 5.2 | F11: 20.2 | G11: 3.3 | H11: =SUM(I11:L11) -> 5.5 | I11: 0 | J11: 5.5 | K11: 0 | M11: =SUM(N11:U11) -> 13.94 | N11: 0.6 | O11: 0.5 | P11: 0.12 | Q11: 0.1 | R11: 1.6 | S11: 3.92 | T11: 1.71 | U11: 5.39 | V11: 4122 | W11: =SUM(X11:AA11) -> 16.3 | X11: 0.7 | Y11: 1 | Z11: 13.95 | AA11: 0.65 | AB11: =SUM(AC11:AE11) -> 2.3 | AC11: 2.3 | AF11: =(AC11*5+AD11*3.5+AE11*3)*1000 -> 11500 | AG11: =+SUM(AH11:AO11) -> 11.3 | AH11: 11.3 | AP11: 2797 | AQ11: =$W11/C11 -> 0.56794425 | AR11: =IF(H11=0,"-",AB11/H11) -> 0.41818182 | AS11: =AG11/M11 -> 0.81061693 | AT11: =W11-'3.6'!W11 -> 0 | AU11: =AB11-'3.6'!AB11 -> 0 | AV11: =AG11-'3.6'!AG11 -> 0 | AW11: từ 20/5 | AX11: =+SUM(AY11:BG11) -> 3 | AZ11: 1 | BD11: 1 | BF11: 1
A12: 3 | B12: Huyện Hương Khê | C12: =SUM(D12:G12) -> 83.71 | D12: 0.36 | E12: 13.42 | F12: 53.2 | G12: 16.73 | H12: =SUM(I12:L12) -> 1.5 | I12: 1.5 | J12: 0 | K12: 0 | M12: =SUM(N12:U12) -> 17.11 | N12: 0.79 | O12: 1.83 | P12: 2.15 | Q12: 0.35 | R12: 0.52 | S12: 11.22 | T12: 0 | U12: 0.25 | V12: 10689 | W12: =SUM(X12:AA12) -> 19.346 | X12: 0.5 | Y12: 2.298 | Z12: 14.178 | AA12: 2.37 | AB12: =SUM(AC12:AE12) -> 0 | AF12: =(AC12*5+AD12*3.5+AE12*3)*1000 -> 0 | AG12: =+SUM(AH12:AO12) -> 1.838 | AH12: 0.208 | AI12: 0 | AJ12: 0 | AK12: 0 | AL12: 0 | AM12: 1.13 | AN12: 0 | AO12: 0.5 | AP12: 2765 | AQ12: =$W12/C12 -> 0.23110739 | AR12: =IF(H12=0,"-",AB12/H12) -> 0 | AS12: =AG12/M12 -> 0.10742256 | AT12: =W12-'3.6'!W12 -> 4.897 | AU12: =AB12-'3.6'!AB12 -> 0 | AV12: =AG12-'3.6'!AG12 -> 0 | AW12: 10/6 | AX12: =+SUM(AY12:BG12) -> 6 | BA12: 1 | BB12: 1 | BD12: 1 | BE12: 1 | BF12: 1 | BG12: 1
A13: 4 | B13: Huyện Vũ Quang | C13: =SUM(D13:G13) -> 13.77 | D13: 0.72 | E13: 1.69 | F13: 8.34 | G13: 3.02 | H13: =SUM(I13:L13) -> 0.9 | I13: 0 | J13: 0.9 | K13: 0 | M13: =SUM(N13:U13) -> 1.18 | N13: 0 | O13: 0 | P13: 0 | Q13: 0 | R13: 0.32 | S13: 0.86 | T13: 0 | U13: 0 | V13: 1727 | W13: =SUM(X13:AA13) -> 4.233 | Y13: 0.16 | Z13: 3.353 | AA13: 0.72 | AB13: =SUM(AC13:AE13) -> 0.33 | AD13: 0.33 | AG13: =+SUM(AH13:AO13) -> 0.36 | AH13: 0.36 | AP13: 514 | AQ13: =$W13/C13 -> 0.30740741 | AR13: =IF(H13=0,"-",AB13/H13) -> 0.36666667 | AS13: =AG13/M13 -> 0.30508475 | AT13: =W13-'3.6'!W13 -> 0 | AU13: =AB13-'3.6'!AB13 -> 0 | AV13: =AG13-'3.6'!AG13 -> 0 | AW13: từ 6/5 | AX13: =+SUM(AY13:BG13) -> 4 | AY13: 1 | AZ13: 1 | BB13: 1 | BF13: 1
A14: II | B14: Các địa phương khác | AF14: =(AC14*5+AD14*3.5+AE14*3)*1000 -> 0 | AT14: =W14-'3.6'!W14 -> 0 | AU14: =AB14-'3.6'!AB14 -> 0 | AV14: =AG14-'3.6'!AG14 -> 0
A15: 1 | B15: Thị xã Kỳ Anh | C15: =SUM(D15:G15) -> 16.11 | D15: - | E15: 5.31 | F15: 10.8 | G15: - | H15: =SUM(I15:L15) -> 0.42 | I15: 0 | J15: 0.12 | K15: 0.3 | M15: =SUM(N15:U15) -> 8.87 | N15: 0 | O15: 0 | P15: 0 | Q15: 0 | R15: 1.56 | S15: 5.86 | T15: 1.45 | U15: - | V15: 2541 | W15: =SUM(X15:AA15) -> 6.427 | X15: 0.25 | Y15: 2.255 | Z15: 3.502 | AA15: 0.42 | AB15: =SUM(AC15:AE15) -> 0 | AF15: =(AC15*5+AD15*3.5+AE15*3)*1000 -> 0 | AG15: =+SUM(AH15:AO15) -> 2.333 | AL15: 0.245 | AM15: 2.088 | AN15: 0 | AO15: 0 | AP15: 1196 | AQ15: =$W15/C15 -> 0.39894475 | AR15: =IF(H15=0,"-",AB15/H15) -> 0 | AS15: =AG15/M15 -> 0.26302142 | AT15: =W15-'3.6'!W15 -> 0 | AU15: =AB15-'3.6'!AB15 -> 0 | AV15: =AG15-'3.6'!AG15 -> 0 | AW15: từ 20/5 | AX15: =+SUM(AY15:BG15) -> 2 | BC15: 1 | BD15: 1
A16: 2 | B16: Huyện Cẩm Xuyên | C16: =SUM(D16:G16) -> 80.01 | D16: 3.05 | E16: 22.12 | F16: 43.28 | G16: 11.56 | H16: =SUM(I16:L16) -> 12.4 | I16: 4.5 | J16: 5.9 | K16: 2 | M16: =SUM(N16:U16) -> 7.55 | N16: 2.1 | O16: 2.5 | P16: 0 | Q16: 0 | R16: 0.89 | S16: 0.75 | T16: 0.3 | U16: 1.01 | V16: 10671 | W16: =SUM(X16:AA16) -> 15.05 | X16: 0.1 | Y16: 2.59 | Z16: 10.195 | AA16: 2.165 | AB16: =SUM(AC16:AE16) -> 0 | AF16: =(AC16*5+AD16*3.5+AE16*3)*1000 -> 0 | AG16: =+SUM(AH16:AO16) -> 3.13 | AH16: 1.8 | AI16: 0 | AJ16: 0 | AK16: 0 | AL16: 0.98 | AM16: 0.35 | AN16: 0 | AO16: 0 | AP16: 2000 | AQ16: =$W16/C16 -> 0.18810149 | AS16: =AG16/M16 -> 0.41456954 | AT16: =W16-'3.6'!W16 -> 0 | AU16: =AB16-'3.6'!AB16 -> 0 | AV16: =AG16-'3.6'!AG16 -> 0 | AW16: từ 13/5 | AX16: =+SUM(AY16:BG16) -> 2 | AY16: 1 | BC16: 1
A17: 3 | B17: Thành phố Hà Tĩnh | C17: =SUM(D17:G17) -> 15.29 | D17: - | E17: 4.18 | F17: 8.78 | G17: 2.33 | H17: =SUM(I17:L17) -> 12.7 | I17: 0 | J17: 8.5 | K17: 4.2 | M17: =SUM(N17:U17) -> 6.95 | N17: 6.32 | O17: 0 | P17: 0 | Q17: 0 | R17: 0.63 | S17: 0 | T17: 0 | U17: 0 | V17: 2394 | W17: =SUM(X17:AA17) -> 4.25 | Y17: 1.5 | Z17: 2.75 | AB17: =SUM(AC17:AE17) -> 5.76 | AD17: 5.76 | AF17: 13370 | AG17: =+SUM(AH17:AO17) -> 1.45 | AH17: 0 | AL17: 1.45 | AP17: 983 | AQ17: =$W17/C17 -> 0.27795945 | AR17: =IF(H17=0,"-",AB17/H17) -> 0.45354331 | AS17: =AG17/M17 -> 0.20863309 | AT17: =W17-'3.6'!W17 -> 0 | AU17: =AB17-'3.6'!AB17 -> 0 | AV17: =AG17-'3.6'!AG17 -> 0 | AW17: từ 20/5 | AX17: =+SUM(AY17:BG17) -> 5 | AY17: 1 | AZ17: 1 | BA17: 1 | BC17: 1 | BD17: 1
A18: 4 | B18: Huyện Thạch Hà | C18: =SUM(D18:G18) -> 97.59 | D18: 8.17 | E18: 7.68 | F18: 40.79 | G18: 40.95 | H18: =SUM(I18:L18) -> 30.29 | I18: 8.3 | J18: 17.8 | K18: 4.19 | M18: =SUM(N18:U18) -> 7.45 | N18: 0.9 | O18: 0.42 | P18: 0 | Q18: 0.35 | R18: 1.88 | S18: 3.4 | T18: 0.1 | U18: 0.4 | V18: 12442 | W18: =SUM(X18:AA18) -> 32.059 | X18: 0 | Y18: 2.59 | Z18: 20.141 | AA18: 9.328 | AB18: =SUM(AC18:AE18) -> 13.713 | AC18: 3.818 | AD18: 9.545 | AE18: 0.35 | AF18: 0 | AG18: =+SUM(AH18:AO18) -> 1.18 | AH18: 0 | AI18: 0.19 | AJ18: 0 | AK18: 0 | AL18: 0.29 | AM18: 0.52 | AN18: 0.18 | AO18: 0 | AP18: 4139 | AQ18: =$W18/C18 -> 0.32850702 | AS18: =AG18/M18 -> 0.15838926 | AT18: =W18-'3.6'!W18 -> 0.985 | AU18: =AB18-'3.6'!AB18 -> 0.35 | AV18: =AG18-'3.6'!AG18 -> 0 | AW18: 10/6 | AX18: =+SUM(AY18:BG18) -> 9 | AY18: 1 | AZ18: 1 | BA18: 1 | BB18: 1 | BC18: 1 | BD18: 1 | BE18: 1 | BF18: 1 | BG18: 1
A19: 5 | B19: Huyện Can Lộc | C19: =SUM(D19:G19) -> 86.61 | D19: 0.4 | E19: 14.6 | F19: 53.25 | G19: 18.36 | H19: =SUM(I19:L19) -> 28.88 | I19: 10.7 | J19: 17.4 | K19: 0.78 | M19: =SUM(N19:U19) -> 28.57 | N19: 0.81 | O19: 0 | P19: 1.53 | Q19: 0 | R19: 8.38 | S19: 0 | T19: 17.85 | U19: 0 | V19: 12033 | W19: =SUM(X19:AA19) -> 21.244 | X19: 0 | Y19: 8.974 | Z19: 10.33 | AA19: 1.94 | AB19: =SUM(AC19:AE19) -> 8.954 | AC19: 5.264 | AD19: 3.69 | AE19: 0 | AF19: =(AC19*5+AD19*3.5+AE19*3)*1000 -> 39235 | AG19: =+SUM(AH19:AO19) -> 12.933 | AH19: 0 | AI19: 0 | AJ19: 0.18 | AK19: 0 | AL19: 1.15 | AM19: 0 | AN19: 11.373 | AO19: 0.23 | AP19: 5393 | AQ19: =$W19/C19 -> 0.24528345 | AR19: =IF(H19=0,"-",AB19/H19) -> 0.31004155 | AS19: =AG19/M19 -> 0.45267763 | AT19: =W19-'3.6'!W19 -> 0.25 | AU19: =AB19-'3.6'!AB19 -> 0 | AV19: =AG19-'3.6'!AG19 -> 0.12 | AW19: 10/6 | AX19: =+SUM(AY19:BG19) -> 9 | AY19: 1 | AZ19: 1 | BA19: 1 | BB19: 1 | BC19: 1 | BD19: 1 | BE19: 1 | BF19: 1 | BG19: 1
A20: 6 | B20: Huyện Đức Thọ | C20: =SUM(D20:G20) -> 28.4 | D20: - | E20: 2.4 | F20: 23.6 | G20: 2.4 | H20: =SUM(I20:L20) -> 10.08 | I20: 4 | J20: 3.95 | K20: 2.13 | M20: =SUM(N20:U20) -> 3.1 | N20: 0 | O20: 0 | P20: 0 | Q20: 0 | R20: 3.1 | S20: 0 | T20: 0 | U20: 0 | V20: 3330 | W20: =SUM(X20:AA20) -> 9.91 | X20: 0.76 | Y20: 0 | Z20: 9.15 | AA20: 0 | AB20: =SUM(AC20:AE20) -> 0 | AF20: =(AC20*5+AD20*3.5+AE20*3)*1000 -> 0 | AG20: =+SUM(AH20:AO20) -> 0 | AP20: 1204 | AQ20: =$W20/C20 -> 0.34894366 | AR20: =IF(H20=0,"-",AB20/H20) -> 0 | AS20: =AG20/M20 -> 0 | AT20: =W20-'3.6'!W20 -> 0 | AU20: =AB20-'3.6'!AB20 -> 0 | AV20: =AG20-'3.6'!AG20 -> 0 | AW20: từ 13/5 | AX20: =+SUM(AY20:BG20) -> 3 | AY20: 1 | BB20: 1 | BC20: 1
A21: 7 | B21: Huyện Nghi Xuân | C21: =SUM(D21:G21) -> 17 | D21: 0.29 | E21: 4.27 | F21: 6.57 | G21: 5.87 | H21: =SUM(I21:L21) -> 3.03 | I21: 1.8 | J21: 1.03 | K21: 0.2 | M21: =SUM(N21:U21) -> 5.28 | N21: 0 | O21: 0 | P21: 0.85 | Q21: 0 | R21: 0 | S21: 1.55 | T21: 2 | U21: 0.88 | V21: 2421 | W21: =SUM(X21:AA21) -> 2.841 | X21: 0 | Y21: 0.16 | Z21: 1.856 | AA21: 0.825 | AB21: =SUM(AC21:AE21) -> 1.23166 | AC21: 0.80578 | AD21: 0.42588 | AE21: 0 | AF21: =(AC21*5+AD21*3.5+AE21*3)*1000 -> 5519.48 | AG21: =+SUM(AH21:AO21) -> 1.625 | AL21: 0 | AM21: 1 | AN21: 0 | AO21: 0.625 | AP21: 448 | AQ21: =$W21/C21 -> 0.16711765 | AR21: =IF(H21=0,"-",AB21/H21) -> 0.40648845 | AS21: =AG21/M21 -> 0.30776515 | AT21: =W21-'3.6'!W21 -> 0 | AU21: =AB21-'3.6'!AB21 -> 0 | AV21: =AG21-'3.6'!AG21 -> 0 | AW21: từ 13/6 | AX21: =+SUM(AY21:BG21) -> 5 | AY21: 1 | AZ21: 1 | BB21: 1 | BC21: 1 | BE21: 1
A22: 8 | B22: Thị xã Hồng Lĩnh | C22: =SUM(D22:G22) -> 9.42 | D22: - | E22: 8.58 | F22: 0.34 | G22: 0.5 | H22: =SUM(I22:L22) -> 6 | I22: 0.7 | J22: 5.3 | K22: 0 | M22: =SUM(N22:U22) -> 16.37 | N22: 0 | O22: 0 | P22: 0 | Q22: 0 | R22: 7.93 | S22: 0 | T22: 8.44 | U22: 0 | V22: 2622 | W22: =SUM(X22:AA22) -> 1.534 | Y22: 1.534 | AB22: =SUM(AC22:AE22) -> 0 | AF22: =(AC22*5+AD22*3.5+AE22*3)*1000 -> 0 | AG22: =+SUM(AH22:AO22) -> 2.184 | AL22: 2.184 | AP22: 900 | AQ22: =$W22/C22 -> 0.16284501 | AR22: =IF(H22=0,"-",AB22/H22) -> 0 | AS22: =AG22/M22 -> 0.13341478 | AT22: =W22-'3.6'!W22 -> 0 | AU22: =AB22-'3.6'!AB22 -> 0 | AV22: =AG22-'3.6'!AG22 -> 0 | AW22: từ 15/4 | AX22: =+SUM(AY22:BG22) -> 1 | AY22: 1
A23: 9 | B23: Huyện Lộc Hà | C23: =SUM(D23:G23) -> 25.51 | D23: - | E23: 1.93 | F23: 14.39 | G23: 9.19 | H23: =SUM(I23:L23) -> 32.1 | I23: 1.9 | J23: 23.7 | K23: 6.5 | M23: =SUM(N23:U23) -> 9.32 | N23: 0.37 | O23: 0 | P23: 0 | Q23: 0 | R23: 6.25 | S23: 0 | T23: 2.7 | U23: 0 | V23: 3432 | W23: =SUM(X23:AA23) -> 2.5 | Z23: 2.5 | AB23: =SUM(AC23:AE23) -> 4.51 | AC23: 1.91 | AD23: 1.2 | AE23: 1.4 | AF23: =(AC23*5+AD23*3.5+AE23*3)*1000 -> 17950 | AG23: =+SUM(AH23:AO23) -> 0.2 | AL23: 0.2 | AP23: 454 | AQ23: =$W23/C23 -> 0.098000784 | AR23: =IF(H23=0,"-",AB23/H23) -> 0.14049844 | AS23: =AG23/M23 -> 0.021459227 | AT23: =W23-'3.6'!W23 -> 0 | AU23: =AB23-'3.6'!AB23 -> 0 | AV23: =AG23-'3.6'!AG23 -> 0 | AW23: từ 27/5 | AX23: =+SUM(AY23:BG23) -> 4 | AY23: 1 | AZ23: 1 | BC23: 1 | BE23: 1
B24: Tổng cộng | C24: =SUM(C10:C23) -> 560.53 | D24: =SUM(D10:D23) -> 14.82 | E24: =SUM(E10:E23) -> 101.57 | F24: =SUM(F10:F23) -> 322.25 | G24: =SUM(G10:G23) -> 121.89 | H24: =SUM(H10:H23) -> 150 | I24: =SUM(I10:I23) -> 33.4 | J24: =SUM(J10:J23) -> 95.4 | ... AP24: =SUM(AP10:AP23) -> 25634 | AQ24: =$W24/C24 -> 0.27591208 | AR24: =IF(H24=0,"-",AB24/H24) -> 0.2453244 | AS24: =AG24/M24 -> 0.26479296 | AT24: =SUM(AT10:AT23) -> 6.132 | AU24: =SUM(AU10:AU23) -> 0.35 | AV24: =SUM(AV10:AV23) -> 0.12
AG26: Xi măng đạt | AP26: =+AP24/V24 -> 0.32573861
C27: =+C24*0.8 -> 448.424 | D27: =+D24*0.8 -> 11.856 | E27: =+E24*0.8 -> 81.256 | F27: =+F24*0.8 -> 257.8 | G27: =+G24*0.8 -> 97.512 | H27: =+H24*0.8 -> 120 | I27: =+I24*0.8 -> 26.72 | J27: =+J24*0.8 -> 76.32 | ... U27: =+U24*0.8 -> 21.632

Sheet 17.6
B1: UỶ BAN NHÂN DÂN TỈNH HÀ TĨNH
B2: SỞ GIAO THÔNG VẬN TẢI
A3: BÁO CÁO KẾT QUẢ THỰC HIỆN KẾ HOẠCH LÀM ĐƯỜNG GIAO THÔNG, RÃNH THOÁT NƯỚC, PHỤC HỒI MẶT ĐƯỜNG BTXM THEO CƠ CHẾ HỖ TRỢ CỦA TỈNH ĐẾN NGÀY 17-6-2021
A5: TT | B5: Huyện, thị xã, thành phố | C5: Khối lượng theo kế hoạch UBND tỉnh | W5: Kết quả thực hiện lũy kế đến thời điểm báo cáo | AQ5: Mức độ hoàn thành kế hoạch đầu năm | AT5: Tăng so với tuần trước
C6: Đường giao thông (km) | D6: Trong đó | H6: Nâng cấp phục hồi mặt đường BTXM (km) | I6: Trong đó | M6: Rãnh thoát nước (km) | N6: Rãnh trên đường trục xã | R6: Rãnh trên đường trục thôn | V6: Tổng khối lượng xi măng (tấn) | W6: Đường giao thông (km) | X6: Trong đó | AB6: Nâng cấp phục hồi mặt đường BTXM (km) | AC6: Trong đó | AG6: Rãnh thoát nước (km) | AH6: Rãnh trên đường trục xã | AL6: Rãnh trên đường trục thôn | AP6: Tổng khối lượng xi măng đã nhận (tấn) | AQ6: Đường giao thông (%) | AR6: Nâng cấp phục hồi mặt đường BTXM (%) | AS6: Rãnh thoát nước (%) | AT6: Đường giao thông (km) | AU6: Nâng cấp phục hồi mặt đường BTXM (km) | AV6: Rãnh thoát nước (km)
D7: Đường trục xã và đường phố (km) | E7: Đường trục thôn, xóm và đường ngõ phố (km) | F7: Đường ngõ, xóm và đường ngách hẻm (km) | G7: Đường trục chính nội đồng (km) | I7: Đường trục xã và đường phố (km) | J7: Đường trục thôn, xóm và đường ngõ phố (km) | K7: Đường ngõ, xóm và đường ngách hẻm (km) | L7: Đường trục chính nội đồng (km) | N7: Rãnh BTXM có nắp đậy | O7: Rãnh BTXM không có nắp đậy | P7: Rãnh Gạch xây có nắp đậy | Q7: Rãnh Gạch xây không có nắp đậy | R7: Rãnh BTXM có nắp đậy | S7: Rãnh BTXM không có nắp đậy | T7: Rãnh Gạch xây có nắp đậy | U7: Rãnh Gạch xây không có nắp đậy | X7: Đường trục xã và đường phố (km) | Y7: Đường trục thôn, xóm và đường ngõ phố (km) | Z7: Đường ngõ, xóm và đường ngách hẻm (km) | AA7: Đường trục chính nội đồng (km) | AC7: Đường trục xã và đường phố (km) | AD7: Đường trục thôn, ngõ phố (km) | AE7: Đường ngõ, xóm và đường ngách hẻm (km) | AF7: Tổng diện tích tỉnh hỗ trợ (m2) | AH7: Rãnh BTXM có nắp đậy | AI7: Rãnh BTXM không có nắp đậy | AJ7: Rãnh Gạch xây có nắp đậy | AK7: Rãnh Gạch xây không có nắp đậy | AL7: Rãnh BTXM có nắp đậy | AM7: Rãnh BTXM không có nắp đậy | AN7: Rãnh Gạch xây có nắp đậy | AO7: Rãnh Gạch xây không có nắp đậy
A8: 1 | B8: 2 | C8: 3 | D8: 4 | E8: 5 | F8: 6 | G8: 7 | H8: 8 | I8: 9 | J8: 10 | K8: 11 | L8: 12 | M8: 13 | N8: 14 | O8: 15 | P8: 16 | Q8: 17 | R8: 18 | S8: 19 | T8: 20 | U8: 21 | V8: 22 | W8: 23 | X8: 24 | Y8: 25 | Z8: 26 | AA8: 27 | AB8: 28 | AC8: 29 | AD8: 30 | AE8: 31 | AF8: 32 | AG8: 33 | AH8: 34 | AI8: 35 | AJ8: 36 | AK8: 37 | AL8: 38 | AM8: 39 | AN8: 40 | AO8: 41 | AP8: 42 | AQ8: 43 | AR8: 44 | AS8: 45 | AT8: 69 | AU8: 70 | AV8: 71 | AX8: Tổng | AY8: 15/4 | AZ8: 22/4 | BA8: 29/4 | BB8: 6/5 | BC8: 13/5 | BD8: 20/5 | BE8: 27/5 | BF8: 3/6 | BG8: 11/6 | BH8: 17/6 | BI8: 24/6 | BJ8: 1/7
A9: I | B9: Huyện miền núi | AF9: =(AC9*5+AD9*3.5)*1000 -> 0
A10: 1 | B10: Huyện Kỳ Anh | C10: =SUM(D10:G10) -> 58.41 | D10: 1.83 | E10: 10.19 | F10: 38.71 | G10: 7.68 | H10: =SUM(I10:L10) -> 6.2 | I10: 0 | J10: 5.3 | K10: 0.9 | M10: =SUM(N10:U10) -> 57.37 | N10: 1 | O10: 5.38 | P10: 2.48 | Q10: 3.28 | R10: 0.54 | S10: 23.22 | T10: 2.36 | U10: 19.11 | V10: 10271 | W10: =SUM(X10:AA10) -> 18.963 | X10: 0.07 | Y10: 1.896 | Z10: 15.982 | AA10: 1.015 | AB10: =SUM(AC10:AE10) -> 0 | AF10: =(AC10*5+AD10*3.5)*1000 -> 0 | AG10: =+SUM(AH10:AO10) -> 9.94 | AH10: 0 | AI10: 0 | AJ10: 0 | AK10: 1 | AL10: 0 | AM10: 5.98 | AN10: 0.7 | AO10: 2.26 | AP10: 2841 | AQ10: =$W10/C10 -> 0.32465331 | AR10: =IF(H10=0,"-",AB10/H10) -> 0 | AS10: =AG10/M10 -> 0.17326129 | AT10: =W10-'11.6'!W10 -> 0 | AU10: =AB10-'11.6'!AB10 -> 0 | AV10: =AG10-'11.6'!AG10 -> 0 | AW10: từ 27/5 | AX10: =+SUM(AY10:BG10) -> 4 | AY10: 1 | AZ10: 1 | BE10: 1 | BF10: 1
A11: 2 | B11: Huyện Hương Sơn | C11: =SUM(D11:G11) -> 28.7 | D11: - | E11: 5.2 | F11: 20.2 | G11: 3.3 | H11: =SUM(I11:L11) -> 5.5 | I11: 0 | J11: 5.5 | K11: 0 | M11: =SUM(N11:U11) -> 13.94 | N11: 0.6 | O11: 0.5 | P11: 0.12 | Q11: 0.1 | R11: 1.6 | S11: 3.92 | T11: 1.71 | U11: 5.39 | V11: 4122 | W11: =SUM(X11:AA11) -> 16.3 | X11: 0.7 | Y11: 1 | Z11: 13.95 | AA11: 0.65 | AB11: =SUM(AC11:AE11) -> 2.3 | AC11: 2.3 | AF11: =(AC11*5+AD11*3.5+AE11*3)*1000 -> 11500 | AG11: =+SUM(AH11:AO11) -> 11.3 | AH11: 11.3 | AP11: 2797 | AQ11: =$W11/C11 -> 0.56794425 | AR11: =IF(H11=0,"-",AB11/H11) -> 0.41818182 | AS11: =AG11/M11 -> 0.81061693 | AT11: =W11-'11.6'!W11 -> 0 | AU11: =AB11-'11.6'!AB11 -> 0 | AV11: =AG11-'11.6'!AG11 -> 0 | AW11: từ 20/5 | AX11: =+SUM(AY11:BG11) -> 3 | AZ11: 1 | BD11: 1 | BF11: 1
A12: 3 | B12: Huyện Hương Khê | C12: =SUM(D12:G12) -> 83.71 | D12: 0.36 | E12: 13.42 | F12: 53.2 | G12: 16.73 | H12: =SUM(I12:L12) -> 1.5 | I12: 1.5 | J12: 0 | K12: 0 | M12: =SUM(N12:U12) -> 17.11 | N12: 0.79 | O12: 1.83 | P12: 2.15 | Q12: 0.35 | R12: 0.52 | S12: 11.22 | T12: 0 | U12: 0.25 | V12: 10689 | W12: =SUM(X12:AA12) -> 21.401 | X12: 0.8 | Y12: 2.298 | Z12: 15.933 | AA12: 2.37 | AB12: =SUM(AC12:AE12) -> 0 | AF12: =(AC12*5+AD12*3.5+AE12*3)*1000 -> 0 | AG12: =+SUM(AH12:AO12) -> 2.183 | AH12: 0.208 | AI12: 0 | AJ12: 0 | AK12: 0 | AL12: 0 | AM12: 1.475 | AN12: 0 | AO12: 0.5 | AP12: 3045 | AQ12: =$W12/C12 -> 0.25565643 | AR12: =IF(H12=0,"-",AB12/H12) -> 0 | AS12: =AG12/M12 -> 0.12758621 | AT12: =W12-'11.6'!W12 -> 2.055 | AU12: =AB12-'11.6'!AB12 -> 0 | AV12: =AG12-'11.6'!AG12 -> 0.345 | AW12: 11/6 | AX12: =+SUM(AY12:BG12) -> 6 | BA12: 1 | BB12: 1 | BD12: 1 | BE12: 1 | BF12: 1 | BG12: 1 | BH12: 1
A13: 4 | B13: Huyện Vũ Quang | C13: =SUM(D13:G13) -> 13.77 | D13: 0.72 | E13: 1.69 | F13: 8.34 | G13: 3.02 | H13: =SUM(I13:L13) -> 0.9 | I13: 0 | J13: 0.9 | K13: 0 | M13: =SUM(N13:U13) -> 1.18 | N13: 0 | O13: 0 | P13: 0 | Q13: 0 | R13: 0.32 | S13: 0.86 | T13: 0 | U13: 0 | V13: 1727 | W13: =SUM(X13:AA13) -> 4.233 | Y13: 0.16 | Z13: 3.353 | AA13: 0.72 | AB13: =SUM(AC13:AE13) -> 0.33 | AD13: 0.33 | AG13: =+SUM(AH13:AO13) -> 0.36 | AH13: 0.36 | AP13: 514 | AQ13: =$W13/C13 -> 0.30740741 | AR13: =IF(H13=0,"-",AB13/H13) -> 0.36666667 | AS13: =AG13/M13 -> 0.30508475 | AT13: =W13-'11.6'!W13 -> 0 | AU13: =AB13-'11.6'!AB13 -> 0 | AV13: =AG13-'11.6'!AG13 -> 0 | AW13: từ 6/5 | AX13: =+SUM(AY13:BG13) -> 4 | AY13: 1 | AZ13: 1 | BB13: 1 | BF13: 1
A14: II | B14: Các địa phương khác | AF14: =(AC14*5+AD14*3.5+AE14*3)*1000 -> 0 | AT14: =W14-'11.6'!W14 -> 0 | AU14: =AB14-'11.6'!AB14 -> 0 | AV14: =AG14-'11.6'!AG14 -> 0
A15: 1 | B15: Thị xã Kỳ Anh | C15: =SUM(D15:G15) -> 16.11 | D15: - | E15: 5.31 | F15: 10.8 | G15: - | H15: =SUM(I15:L15) -> 0.42 | I15: 0 | J15: 0.12 | K15: 0.3 | M15: =SUM(N15:U15) -> 8.87 | N15: 0 | O15: 0 | P15: 0 | Q15: 0 | R15: 1.56 | S15: 5.86 | T15: 1.45 | U15: - | V15: 2541 | W15: =SUM(X15:AA15) -> 7.333 | X15: 0.25 | Y15: 1.711 | Z15: 4.952 | AA15: 0.42 | AB15: =SUM(AC15:AE15) -> 0 | AF15: =(AC15*5+AD15*3.5+AE15*3)*1000 -> 0 | AG15: =+SUM(AH15:AO15) -> 3.063 | AL15: 0.8 | AM15: 2.263 | AN15: 0 | AO15: 0 | AP15: 1196 | AQ15: =$W15/C15 -> 0.45518312 | AR15: =IF(H15=0,"-",AB15/H15) -> 0 | AS15: =AG15/M15 -> 0.34532131 | AT15: =W15-'11.6'!W15 -> 0.906 | AU15: =AB15-'11.6'!AB15 -> 0 | AV15: =AG15-'11.6'!AG15 -> 0.73 | AW15: từ 17/6 | AX15: =+SUM(AY15:BG15) -> 2 | BC15: 1 | BD15: 1 | BH15: 1
A16: 2 | B16: Huyện Cẩm Xuyên | C16: =SUM(D16:G16) -> 80.01 | D16: 3.05 | E16: 22.12 | F16: 43.28 | G16: 11.56 | H16: =SUM(I16:L16) -> 12.4 | I16: 4.5 | J16: 5.9 | K16: 2 | M16: =SUM(N16:U16) -> 7.55 | N16: 2.1 | O16: 2.5 | P16: 0 | Q16: 0 | R16: 0.89 | S16: 0.75 | T16: 0.3 | U16: 1.01 | V16: 10671 | W16: =SUM(X16:AA16) -> 21.77 | X16: 0.5 | Y16: 3.17 | Z16: 14.98 | AA16: 3.12 | AB16: =SUM(AC16:AE16) -> 0 | AF16: =(AC16*5+AD16*3.5+AE16*3)*1000 -> 0 | AG16: =+SUM(AH16:AO16) -> 3.83 | AH16: 2.1 | AI16: 0 | AJ16: 0 | AK16: 0 | AL16: 0.98 | AM16: 0.35 | AN16: 0 | AO16: 0.4 | AP16: 2821 | AQ16: =$W16/C16 -> 0.27209099 | AS16: =AG16/M16 -> 0.50728477 | AT16: =W16-'11.6'!W16 -> 6.72 | AU16: =AB16-'11.6'!AB16 -> 0 | AV16: =AG16-'11.6'!AG16 -> 0.7 | AW16: từ 13/5 | AX16: =+SUM(AY16:BG16) -> 2 | AY16: 1 | BC16: 1 | BH16: 1
A17: 3 | B17: Thành phố Hà Tĩnh | C17: =SUM(D17:G17) -> 15.29 | D17: - | E17: 4.18 | F17: 8.78 | G17: 2.33 | H17: =SUM(I17:L17) -> 12.7 | I17: 0 | J17: 8.5 | K17: 4.2 | M17: =SUM(N17:U17) -> 6.95 | N17: 6.32 | O17: 0 | P17: 0 | Q17: 0 | R17: 0.63 | S17: 0 | T17: 0 | U17: 0 | V17: 2394 | W17: =SUM(X17:AA17) -> 4.25 | Y17: 1.5 | Z17: 2.75 | AB17: =SUM(AC17:AE17) -> 5.76 | AD17: 5.76 | AF17: 13370 | AG17: =+SUM(AH17:AO17) -> 1.45 | AH17: 0 | AL17: 1.45 | AP17: 983 | AQ17: =$W17/C17 -> 0.27795945 | AR17: =IF(H17=0,"-",AB17/H17) -> 0.45354331 | AS17: =AG17/M17 -> 0.20863309 | AT17: =W17-'11.6'!W17 -> 0 | AU17: =AB17-'11.6'!AB17 -> 0 | AV17: =AG17-'11.6'!AG17 -> 0 | AW17: từ 20/5 | AX17: =+SUM(AY17:BG17) -> 5 | AY17: 1 | AZ17: 1 | BA17: 1 | BC17: 1 | BD17: 1
A18: 4 | B18: Huyện Thạch Hà | C18: =SUM(D18:G18) -> 97.59 | D18: 8.17 | E18: 7.68 | F18: 40.79 | G18: 40.95 | H18: =SUM(I18:L18) -> 30.29 | I18: 8.3 | J18: 17.8 | K18: 4.19 | M18: =SUM(N18:U18) -> 7.45 | N18: 0.9 | O18: 0.42 | P18: 0 | Q18: 0.35 | R18: 1.88 | S18: 3.4 | T18: 0.1 | U18: 0.4 | V18: 12442 | W18: =SUM(X18:AA18) -> 32.469 | X18: 0 | Y18: 2.59 | Z18: 20.181 | AA18: 9.698 | AB18: =SUM(AC18:AE18) -> 15.712 | AC18: 3.818 | AD18: 10.041 | AE18: =1.403+0.45 -> 1.853 | AF18: 0 | AG18: =+SUM(AH18:AO18) -> 1.21 | AH18: 0 | AI18: 0.19 | AJ18: 0 | AK18: 0 | AL18: 0.29 | AM18: 0.55 | AN18: 0.18 | AO18: 0 | AP18: 4224 | AQ18: =$W18/C18 -> 0.33270827 | AS18: =AG18/M18 -> 0.16241611 | AT18: =W18-'11.6'!W18 -> 0.41 | AU18: =AB18-'11.6'!AB18 -> 1.999 | AV18: =AG18-'11.6'!AG18 -> 0.03 | AW18: 17/6 | AX18: =+SUM(AY18:BG18) -> 9 | AY18: 1 | AZ18: 1 | BA18: 1 | BB18: 1 | BC18: 1 | BD18: 1 | BE18: 1 | BF18: 1 | BG18: 1 | BH18: 1
A19: 5 | B19: Huyện Can Lộc | C19: =SUM(D19:G19) -> 86.61 | D19: 0.4 | E19: 14.6 | F19: 53.25 | G19: 18.36 | H19: =SUM(I19:L19) -> 28.88 | I19: 10.7 | J19: 17.4 | K19: 0.78 | M19: =SUM(N19:U19) -> 28.57 | N19: 0.81 | O19: 0 | P19: 1.53 | Q19: 0 | R19: 8.38 | S19: 0 | T19: 17.85 | U19: 0 | V19: 12033 | W19: =SUM(X19:AA19) -> 21.244 | X19: 0 | Y19: 8.974 | Z19: 10.33 | AA19: 1.94 | AB19: =SUM(AC19:AE19) -> 8.954 | AC19: 5.264 | AD19: 3.69 | AE19: 0 | AF19: =(AC19*5+AD19*3.5+AE19*3)*1000 -> 39235 | AG19: =+SUM(AH19:AO19) -> 12.933 | AH19: 0 | AI19: 0 | AJ19: 0.18 | AK19: 0 | AL19: 1.15 | AM19: 0 | AN19: 11.373 | AO19: 0.23 | AP19: 5393 | AQ19: =$W19/C19 -> 0.24528345 | AR19: =IF(H19=0,"-",AB19/H19) -> 0.31004155 | AS19: =AG19/M19 -> 0.45267763 | AT19: =W19-'11.6'!W19 -> 0 | AU19: =AB19-'11.6'!AB19 -> 0 | AV19: =AG19-'11.6'!AG19 -> 0 | AW19: 17/6 | AX19: =+SUM(AY19:BG19) -> 9 | AY19: 1 | AZ19: 1 | BA19: 1 | BB19: 1 | BC19: 1 | BD19: 1 | BE19: 1 | BF19: 1 | BG19: 1
A20: 6 | B20: Huyện Đức Thọ | C20: =SUM(D20:G20) -> 28.4 | D20: - | E20: 2.4 | F20: 23.6 | G20: 2.4 | H20: =SUM(I20:L20) -> 10.08 | I20: 4 | J20: 3.95 | K20: 2.13 | M20: =SUM(N20:U20) -> 3.1 | N20: 0 | O20: 0 | P20: 0 | Q20: 0 | R20: 3.1 | S20: 0 | T20: 0 | U20: 0 | V20: 3330 | W20: =SUM(X20:AA20) -> 9.91 | X20: 0.76 | Y20: 0 | Z20: 9.15 | AA20: 0 | AB20: =SUM(AC20:AE20) -> 0 | AF20: =(AC20*5+AD20*3.5+AE20*3)*1000 -> 0 | AG20: =+SUM(AH20:AO20) -> 0 | AP20: 1204 | AQ20: =$W20/C20 -> 0.34894366 | AR20: =IF(H20=0,"-",AB20/H20) -> 0 | AS20: =AG20/M20 -> 0 | AT20: =W20-'11.6'!W20 -> 0 | AU20: =AB20-'11.6'!AB20 -> 0 | AV20: =AG20-'11.6'!AG20 -> 0 | AW20: từ 13/5 | AX20: =+SUM(AY20:BG20) -> 3 | AY20: 1 | BB20: 1 | BC20: 1
A21: 7 | B21: Huyện Nghi Xuân | C21: =SUM(D21:G21) -> 17 | D21: 0.29 | E21: 4.27 | F21: 6.57 | G21: 5.87 | H21: =SUM(I21:L21) -> 3.03 | I21: 1.8 | J21: 1.03 | K21: 0.2 | M21: =SUM(N21:U21) -> 5.28 | N21: 0 | O21: 0 | P21: 0.85 | Q21: 0 | R21: 0 | S21: 1.55 | T21: 2 | U21: 0.88 | V21: 2421 | W21: =SUM(X21:AA21) -> 2.841 | X21: 0 | Y21: 0.16 | Z21: 1.856 | AA21: 0.825 | AB21: =SUM(AC21:AE21) -> 1.23166 | AC21: 0.80578 | AD21: 0.42588 | AE21: 0 | AF21: =(AC21*5+AD21*3.5+AE21*3)*1000 -> 5519.48 | AG21: =+SUM(AH21:AO21) -> 1.625 | AL21: 0 | AM21: 1 | AN21: 0 | AO21: 0.625 | AP21: 448 | AQ21: =$W21/C21 -> 0.16711765 | AR21: =IF(H21=0,"-",AB21/H21) -> 0.40648845 | AS21: =AG21/M21 -> 0.30776515 | AT21: =W21-'11.6'!W21 -> 0 | AU21: =AB21-'11.6'!AB21 -> 0 | AV21: =AG21-'11.6'!AG21 -> 0 | AW21: từ 13/6 | AX21: =+SUM(AY21:BG21) -> 5 | AY21: 1 | AZ21: 1 | BB21: 1 | BC21: 1 | BE21: 1
A22: 8 | B22: Thị xã Hồng Lĩnh | C22: =SUM(D22:G22) -> 9.42 | D22: - | E22: 8.58 | F22: 0.34 | G22: 0.5 | H22: =SUM(I22:L22) -> 6 | I22: 0.7 | J22: 5.3 | K22: 0 | M22: =SUM(N22:U22) -> 16.37 | N22: 0 | O22: 0 | P22: 0 | Q22: 0 | R22: 7.93 | S22: 0 | T22: 8.44 | U22: 0 | V22: 2622 | W22: =SUM(X22:AA22) -> 1.534 | Y22: 1.534 | AB22: =SUM(AC22:AE22) -> 0 | AF22: =(AC22*5+AD22*3.5+AE22*3)*1000 -> 0 | AG22: =+SUM(AH22:AO22) -> 2.184 | AL22: 2.184 | AP22: 900 | AQ22: =$W22/C22 -> 0.16284501 | AR22: =IF(H22=0,"-",AB22/H22) -> 0 | AS22: =AG22/M22 -> 0.13341478 | AT22: =W22-'11.6'!W22 -> 0 | AU22: =AB22-'11.6'!AB22 -> 0 | AV22: =AG22-'11.6'!AG22 -> 0 | AW22: từ 15/4 | AX22: =+SUM(AY22:BG22) -> 1 | AY22: 1
A23: 9 | B23: Huyện Lộc Hà | C23: =SUM(D23:G23) -> 25.51 | D23: - | E23: 1.93 | F23: 14.39 | G23: 9.19 | H23: =SUM(I23:L23) -> 32.1 | I23: 1.9 | J23: 23.7 | K23: 6.5 | M23: =SUM(N23:U23) -> 9.32 | N23: 0.37 | O23: 0 | P23: 0 | Q23: 0 | R23: 6.25 | S23: 0 | T23: 2.7 | U23: 0 | V23: 3432 | W23: =SUM(X23:AA23) -> 2.5 | Z23: 2.5 | AB23: =SUM(AC23:AE23) -> 4.51 | AC23: 1.91 | AD23: 1.2 | AE23: 1.4 | AF23: =(AC23*5+AD23*3.5+AE23*3)*1000 -> 17950 | AG23: =+SUM(AH23:AO23) -> 0.2 | AL23: 0.2 | AP23: 454 | AQ23: =$W23/C23 -> 0.098000784 | AR23: =IF(H23=0,"-",AB23/H23) -> 0.14049844 | AS23: =AG23/M23 -> 0.021459227 | AT23: =W23-'11.6'!W23 -> 0 | AU23: =AB23-'11.6'!AB23 -> 0 | AV23: =AG23-'11.6'!AG23 -> 0 | AW23: từ 27/5 | AX23: =+SUM(AY23:BG23) -> 4 | AY23: 1 | AZ23: 1 | BC23: 1 | BE23: 1
B24: Tổng cộng | C24: =SUM(C10:C23) -> 560.53 | D24: =SUM(D10:D23) -> 14.82 | E24: =SUM(E10:E23) -> 101.57 | F24: =SUM(F10:F23) -> 322.25 | G24: =SUM(G10:G23) -> 121.89 | H24: =SUM(H10:H23) -> 150 | I24: =SUM(I10:I23) -> 33.4 | J24: =SUM(J10:J23) -> 95.4 | ... AP24: =SUM(AP10:AP23) -> 26820 | AQ24: =$W24/C24 -> 0.29391469 | AR24: =IF(H24=0,"-",AB24/H24) -> 0.25865107 | AS24: =AG24/M24 -> 0.27465312 | AT24: =SUM(AT10:AT23) -> 10.091 | AU24: =SUM(AU10:AU23) -> 1.999 | AV24: =SUM(AV10:AV23) -> 1.805
AG26: Xi măng đạt | AP26: =+AP24/V24 -> 0.34080945
C27: =+C24*0.8 -> 448.424 | D27: =+D24*0.8 -> 11.856 | E27: =+E24*0.8 -> 81.256 | F27: =+F24*0.8 -> 257.8 | G27: =+G24*0.8 -> 97.512 | H27: =+H24*0.8 -> 120 | I27: =+I24*0.8 -> 26.72 | J27: =+J24*0.8 -> 76.32 | ... U27: =+U24*0.8 -> 21.632

Sheet 24.6
B1: UỶ BAN NHÂN DÂN TỈNH HÀ TĨNH
B2: SỞ GIAO THÔNG VẬN TẢI
A3: BÁO CÁO KẾT QUẢ THỰC HIỆN KẾ HOẠCH LÀM ĐƯỜNG GIAO THÔNG, RÃNH THOÁT NƯỚC, PHỤC HỒI MẶT ĐƯỜNG BTXM THEO CƠ CHẾ HỖ TRỢ CỦA TỈNH ĐẾN NGÀY 24-6-2021
A5: TT | B5: Huyện, thị xã, thành phố | C5: Khối lượng theo kế hoạch UBND tỉnh | W5: Kết quả thực hiện lũy kế đến thời điểm báo cáo | AQ5: Mức độ hoàn thành kế hoạch đầu năm | AT5: Tăng so với tuần trước
C6: Đường giao thông (km) | D6: Trong đó | H6: Nâng cấp phục hồi mặt đường BTXM (km) | I6: Trong đó | M6: Rãnh thoát nước (km) | N6: Rãnh trên đường trục xã | R6: Rãnh trên đường trục thôn | V6: Tổng khối lượng xi măng (tấn) | W6: Đường giao thông (km) | X6: Trong đó | AB6: Nâng cấp phục hồi mặt đường BTXM (km) | AC6: Trong đó | AG6: Rãnh thoát nước (km) | AH6: Rãnh trên đường trục xã | AL6: Rãnh trên đường trục thôn | AP6: Tổng khối lượng xi măng đã nhận (tấn) | AQ6: Đường giao thông (%) | AR6: Nâng cấp phục hồi mặt đường BTXM (%) | AS6: Rãnh thoát nước (%) | AT6: Đường giao thông (km) | AU6: Nâng cấp phục hồi mặt đường BTXM (km) | AV6: Rãnh thoát nước (km)
D7: Đường trục xã và đường phố (km) | E7: Đường trục thôn, xóm và đường ngõ phố (km) | F7: Đường ngõ, xóm và đường ngách hẻm (km) | G7: Đường trục chính nội đồng (km) | I7: Đường trục xã và đường phố (km) | J7: Đường trục thôn, xóm và đường ngõ phố (km) | K7: Đường ngõ, xóm và đường ngách hẻm (km) | L7: Đường trục chính nội đồng (km) | N7: Rãnh BTXM có nắp đậy | O7: Rãnh BTXM không có nắp đậy | P7: Rãnh Gạch xây có nắp đậy | Q7: Rãnh Gạch xây không có nắp đậy | R7: Rãnh BTXM có nắp đậy | S7: Rãnh BTXM không có nắp đậy | T7: Rãnh Gạch xây có nắp đậy | U7: Rãnh Gạch xây không có nắp đậy | X7: Đường trục xã và đường phố (km) | Y7: Đường trục thôn, xóm và đường ngõ phố (km) | Z7: Đường ngõ, xóm và đường ngách hẻm (km) | AA7: Đường trục chính nội đồng (km) | AC7: Đường trục xã và đường phố (km) | AD7: Đường trục thôn, ngõ phố (km) | AE7: Đường ngõ, xóm và đường ngách hẻm (km) | AF7: Tổng diện tích tỉnh hỗ trợ (m2) | AH7: Rãnh BTXM có nắp đậy | AI7: Rãnh BTXM không có nắp đậy | AJ7: Rãnh Gạch xây có nắp đậy | AK7: Rãnh Gạch xây không có nắp đậy | AL7: Rãnh BTXM có nắp đậy | AM7: Rãnh BTXM không có nắp đậy | AN7: Rãnh Gạch xây có nắp đậy | AO7: Rãnh Gạch xây không có nắp đậy | AW7: Thống kê báo cáo
A8: 1 | B8: 2 | C8: 3 | D8: 4 | E8: 5 | F8: 6 | G8: 7 | H8: 8 | I8: 9 | J8: 10 | K8: 11 | L8: 12 | M8: 13 | N8: 14 | O8: 15 | P8: 16 | Q8: 17 | R8: 18 | S8: 19 | T8: 20 | U8: 21 | V8: 22 | W8: 23 | X8: 24 | Y8: 25 | Z8: 26 | AA8: 27 | AB8: 28 | AC8: 29 | AD8: 30 | AE8: 31 | AF8: 32 | AG8: 33 | AH8: 34 | AI8: 35 | AJ8: 36 | AK8: 37 | AL8: 38 | AM8: 39 | AN8: 40 | AO8: 41 | AP8: 42 | AQ8: 43 | AR8: 44 | AS8: 45 | AT8: 69 | AU8: 70 | AV8: 71 | AX8: Tổng | AY8: 15/4 | AZ8: 22/4 | BA8: 29/4 | BB8: 6/5 | BC8: 13/5 | BD8: 20/5 | BE8: 27/5 | BF8: 3/6 | BG8: 11/6 | BH8: 17/6 | BI8: 24/6 | BJ8: 1/7
A9: I | B9: Huyện miền núi | AF9: =(AC9*5+AD9*3.5)*1000 -> 0
A10: 1 | B10: Huyện Kỳ Anh | C10: =SUM(D10:G10) -> 58.41 | D10: 1.83 | E10: 10.19 | F10: 38.71 | G10: 7.68 | H10: =SUM(I10:L10) -> 6.2 | I10: 0 | J10: 5.3 | K10: 0.9 | M10: =SUM(N10:U10) -> 57.37 | N10: 1 | O10: 5.38 | P10: 2.48 | Q10: 3.28 | R10: 0.54 | S10: 23.22 | T10: 2.36 | U10: 19.11 | V10: 10271 | W10: =SUM(X10:AA10) -> 20.963 | X10: 0.07 | Y10: 2.696 | Z10: 17.182 | AA10: 1.015 | AB10: =SUM(AC10:AE10) -> 0 | AF10: =(AC10*5+AD10*3.5)*1000 -> 0 | AG10: =+SUM(AH10:AO10) -> 10.94 | AH10: 0 | AI10: 0 | AJ10: 0 | AK10: 1 | AL10: 0 | AM10: 6.98 | AN10: 0.7 | AO10: 2.26 | AP10: 3659 | AQ10: =$W10/C10 -> 0.35889402 | AR10: =IF(H10=0,"-",AB10/H10) -> 0 | AS10: =AG10/M10 -> 0.190692 | AT10: =W10-'17.6'!W10 -> 2 | AU10: =AB10-'17.6'!AB10 -> 0 | AV10: =AG10-'17.6'!AG10 -> 1 | AW10: từ 24/6 | AX10: =+SUM(AY10:BG10) -> 4 | AY10: 1 | AZ10: 1 | BE10: 1 | BF10: 1 | BI10: 1
A11: 2 | B11: Huyện Hương Sơn | C11: =SUM(D11:G11) -> 28.7 | D11: - | E11: 5.2 | F11: 20.2 | G11: 3.3 | H11: =SUM(I11:L11) -> 5.5 | I11: 0 | J11: 5.5 | K11: 0 | M11: =SUM(N11:U11) -> 13.94 | N11: 0.6 | O11: 0.5 | P11: 0.12 | Q11: 0.1 | R11: 1.6 | S11: 3.92 | T11: 1.71 | U11: 5.39 | V11: 4122 | W11: =SUM(X11:AA11) -> 18.2 | X11: 0.7 | Y11: 1.8 | Z11: 15.05 | AA11: 0.65 | AB11: =SUM(AC11:AE11) -> 4.2 | AC11: 4.2 | AF11: =(AC11*5+AD11*3.5+AE11*3)*1000 -> 21000 | AG11: =+SUM(AH11:AO11) -> 11.9 | AH11: 11.9 | AP11: 2994 | AQ11: =$W11/C11 -> 0.63414634 | AR11: =IF(H11=0,"-",AB11/H11) -> 0.76363636 | AS11: =AG11/M11 -> 0.85365854 | AT11: =W11-'17.6'!W11 -> 1.9 | AU11: =AB11-'17.6'!AB11 -> 1.9 | AV11: =AG11-'17.6'!AG11 -> 0.6 | AW11: từ 24/6 | AX11: =+SUM(AY11:BG11) -> 3 | AZ11: 1 | BD11: 1 | BF11: 1 | BI11: 1
A12: 3 | B12: Huyện Hương Khê | C12: =SUM(D12:G12) -> 83.71 | D12: 0.36 | E12: 13.42 | F12: 53.2 | G12: 16.73 | H12: =SUM(I12:L12) -> 1.5 | I12: 1.5 | J12: 0 | K12: 0 | M12: =SUM(N12:U12) -> 17.11 | N12: 0.79 | O12: 1.83 | P12: 2.15 | Q12: 0.35 | R12: 0.52 | S12: 11.22 | T12: 0 | U12: 0.25 | V12: 10689 | W12: =SUM(X12:AA12) -> 24.457 | X12: 0.8 | Y12: 2.978 | Z12: 18.309 | AA12: 2.37 | AB12: =SUM(AC12:AE12) -> 0 | AF12: =(AC12*5+AD12*3.5+AE12*3)*1000 -> 0 | AG12: =+SUM(AH12:AO12) -> 2.558 | AH12: 0.208 | AI12: 0 | AJ12: 0 | AK12: 0 | AL12: 0 | AM12: 1.85 | AN12: 0 | AO12: 0.5 | AP12: 3473 | AQ12: =$W12/C12 -> 0.29216342 | AR12: =IF(H12=0,"-",AB12/H12) -> 0 | AS12: =AG12/M12 -> 0.14950321 | AT12: =W12-'17.6'!W12 -> 3.056 | AU12: =AB12-'17.6'!AB12 -> 0 | AV12: =AG12-'17.6'!AG12 -> 0.375 | AW12: từ 24/6 | AX12: =+SUM(AY12:BG12) -> 6 | BA12: 1 | BB12: 1 | BD12: 1 | BE12: 1 | BF12: 1 | BG12: 1 | BH12: 1 | BI12: 1
A13: 4 | B13: Huyện Vũ Quang | C13: =SUM(D13:G13) -> 13.77 | D13: 0.72 | E13: 1.69 | F13: 8.34 | G13: 3.02 | H13: =SUM(I13:L13) -> 0.9 | I13: 0 | J13: 0.9 | K13: 0 | M13: =SUM(N13:U13) -> 1.18 | N13: 0 | O13: 0 | P13: 0 | Q13: 0 | R13: 0.32 | S13: 0.86 | T13: 0 | U13: 0 | V13: 1727 | W13: =SUM(X13:AA13) -> 4.593 | X13: 0.26 | Y13: 0.16 | Z13: 3.353 | AA13: 0.82 | AB13: =SUM(AC13:AE13) -> 0.33 | AD13: 0.33 | AG13: =+SUM(AH13:AO13) -> 0.36 | AH13: 0.36 | AP13: 738 | AQ13: =$W13/C13 -> 0.3335512 | AR13: =IF(H13=0,"-",AB13/H13) -> 0.36666667 | AS13: =AG13/M13 -> 0.30508475 | AT13: =W13-'17.6'!W13 -> 0.36 | AU13: =AB13-'17.6'!AB13 -> 0 | AV13: =AG13-'17.6'!AG13 -> 0 | AW13: từ 24/6 | AX13: =+SUM(AY13:BG13) -> 4 | AY13: 1 | AZ13: 1 | BB13: 1 | BF13: 1 | BI13: 1
A14: II | B14: Các địa phương khác | AF14: =(AC14*5+AD14*3.5+AE14*3)*1000 -> 0 | AT14: =W14-'17.6'!W14 -> 0 | AU14: =AB14-'17.6'!AB14 -> 0 | AV14: =AG14-'17.6'!AG14 -> 0
A15: 1 | B15: Thị xã Kỳ Anh | C15: =SUM(D15:G15) -> 16.11 | D15: - | E15: 5.31 | F15: 10.8 | G15: - | H15: =SUM(I15:L15) -> 0.42 | I15: 0 | J15: 0.12 | K15: 0.3 | M15: =SUM(N15:U15) -> 8.87 | N15: 0 | O15: 0 | P15: 0 | Q15: 0 | R15: 1.56 | S15: 5.86 | T15: 1.45 | U15: - | V15: 2541 | W15: =SUM(X15:AA15) -> 7.788 | X15: 0.3 | Y15: 3.047 | Z15: 4.441 | AB15: =SUM(AC15:AE15) -> 0 | AF15: =(AC15*5+AD15*3.5+AE15*3)*1000 -> 0 | AG15: =+SUM(AH15:AO15) -> 3.193 | AL15: 0.93 | AM15: 2.263 | AN15: 0 | AO15: 0 | AP15: 1302 | AQ15: =$W15/C15 -> 0.48342644 | AR15: =IF(H15=0,"-",AB15/H15) -> 0 | AS15: =AG15/M15 -> 0.35997745 | AT15: =W15-'17.6'!W15 -> 0.455 | AU15: =AB15-'17.6'!AB15 -> 0 | AV15: =AG15-'17.6'!AG15 -> 0.13 | AW15: từ 24/6 | AX15: =+SUM(AY15:BG15) -> 2 | BC15: 1 | BD15: 1 | BH15: 1 | BI15: 1
A16: 2 | B16: Huyện Cẩm Xuyên | C16: =SUM(D16:G16) -> 80.01 | D16: 3.05 | E16: 22.12 | F16: 43.28 | G16: 11.56 | H16: =SUM(I16:L16) -> 12.4 | I16: 4.5 | J16: 5.9 | K16: 2 | M16: =SUM(N16:U16) -> 7.55 | N16: 2.1 | O16: 2.5 | P16: 0 | Q16: 0 | R16: 0.89 | S16: 0.75 | T16: 0.3 | U16: 1.01 | V16: 10671 | W16: =SUM(X16:AA16) -> 24.48 | X16: 0.5 | Y16: 5.52 | Z16: 14.81 | AA16: 3.65 | AB16: =SUM(AC16:AE16) -> 0 | AF16: =(AC16*5+AD16*3.5+AE16*3)*1000 -> 0 | AG16: =+SUM(AH16:AO16) -> 3.99 | AH16: 2.1 | AI16: 0 | AJ16: 0 | AK16: 0 | AL16: 1.14 | AM16: 0.35 | AN16: 0 | AO16: 0.4 | AP16: 3252 | AQ16: =$W16/C16 -> 0.30596175 | AS16: =AG16/M16 -> 0.52847682 | AT16: =W16-'17.6'!W16 -> 2.71 | AU16: =AB16-'17.6'!AB16 -> 0 | AV16: =AG16-'17.6'!AG16 -> 0.16 | AW16: từ 24/6 | AX16: =+SUM(AY16:BG16) -> 2 | AY16: 1 | BC16: 1 | BH16: 1 | BI16: 1
A17: 3 | B17: Thành phố Hà Tĩnh | C17: =SUM(D17:G17) -> 15.29 | D17: - | E17: 4.18 | F17: 8.78 | G17: 2.33 | H17: =SUM(I17:L17) -> 12.7 | I17: 0 | J17: 8.5 | K17: 4.2 | M17: =SUM(N17:U17) -> 6.95 | N17: 6.32 | O17: 0 | P17: 0 | Q17: 0 | R17: 0.63 | S17: 0 | T17: 0 | U17: 0 | V17: 2394 | W17: =SUM(X17:AA17) -> 4.88 | X17: 0 | Y17: 1.5 | Z17: 3.38 | AA17: 0 | AB17: =SUM(AC17:AE17) -> 6.35 | AD17: 6.35 | AF17: 13370 | AG17: =+SUM(AH17:AO17) -> 1.79 | AH17: 0 | AL17: 1.79 | AP17: 1182 | AQ17: =$W17/C17 -> 0.31916285 | AR17: =IF(H17=0,"-",AB17/H17) -> 0.5 | AS17: =AG17/M17 -> 0.25755396 | AT17: =W17-'17.6'!W17 -> 0.63 | AU17: =AB17-'17.6'!AB17 -> 0.59 | AV17: =AG17-'17.6'!AG17 -> 0.34 | AW17: từ 24/6 | AX17: =+SUM(AY17:BG17) -> 5 | AY17: 1 | AZ17: 1 | BA17: 1 | BC17: 1 | BD17: 1 | BI17: 1
A18: 4 | B18: Huyện Thạch Hà | C18: =SUM(D18:G18) -> 97.59 | D18: 8.17 | E18: 7.68 | F18: 40.79 | G18: 40.95 | H18: =SUM(I18:L18) -> 30.29 | I18: 8.3 | J18: 17.8 | K18: 4.19 | M18: =SUM(N18:U18) -> 7.45 | N18: 0.9 | O18: 0.42 | P18: 0 | Q18: 0.35 | R18: 1.88 | S18: 3.4 | T18: 0.1 | U18: 0.4 | V18: 12442 | W18: =SUM(X18:AA18) -> 35.324 | X18: 0 | Y18: 2.87 | Z18: 21.316 | AA18: 11.138 | AB18: =SUM(AC18:AE18) -> 16.262 | AC18: 3.818 | AD18: 11.421 | AE18: 1.023 | AF18: 0 | AG18: =+SUM(AH18:AO18) -> 1.71 | AH18: 0 | AI18: 0.19 | AJ18: 0 | AK18: 0 | AL18: 0.59 | AM18: 0.75 | AN18: 0.18 | AO18: 0 | AP18: 5589 | AQ18: =$W18/C18 -> 0.36196332 | AS18: =AG18/M18 -> 0.2295302 | AT18: =W18-'17.6'!W18 -> 2.855 | AU18: =AB18-'17.6'!AB18 -> 0.55 | AV18: =AG18-'17.6'!AG18 -> 0.5 | AW18: từ 24/6 | AX18: =+SUM(AY18:BG18) -> 9 | AY18: 1 | AZ18: 1 | BA18: 1 | BB18: 1 | BC18: 1 | BD18: 1 | BE18: 1 | BF18: 1 | BG18: 1 | BH18: 1 | BI18: 1
A19: 5 | B19: Huyện Can Lộc | C19: =SUM(D19:G19) -> 86.61 | D19: 0.4 | E19: 14.6 | F19: 53.25 | G19: 18.36 | H19: =SUM(I19:L19) -> 28.88 | I19: 10.7 | J19: 17.4 | K19: 0.78 | M19: =SUM(N19:U19) -> 28.57 | N19: 0.81 | O19: 0 | P19: 1.53 | Q19: 0 | R19: 8.38 | S19: 0 | T19: 17.85 | U19: 0 | V19: 12033 | W19: =SUM(X19:AA19) -> 22.935 | X19: 0 | Y19: 8.974 | Z19: 12.021 | AA19: 1.94 | AB19: =SUM(AC19:AE19) -> 9.488 | AC19: 5.344 | AD19: 3.7 | AE19: 0.444 | AF19: =(AC19*5+AD19*3.5+AE19*3)*1000 -> 41002 | AG19: =+SUM(AH19:AO19) -> 13.433 | AH19: 0 | AI19: 0 | AJ19: 0.18 | AK19: 0 | AL19: 1.15 | AM19: 0 | AN19: 11.873 | AO19: 0.23 | AP19: 5393 | AQ19: =$W19/C19 -> 0.26480776 | AR19: =IF(H19=0,"-",AB19/H19) -> 0.32853186 | AS19: =AG19/M19 -> 0.47017851 | AT19: =W19-'17.6'!W19 -> 1.691 | AU19: =AB19-'17.6'!AB19 -> 0.534 | AV19: =AG19-'17.6'!AG19 -> 0.5 | AW19: từ 24/6 | AX19: =+SUM(AY19:BG19) -> 9 | AY19: 1 | AZ19: 1 | BA19: 1 | BB19: 1 | BC19: 1 | BD19: 1 | BE19: 1 | BF19: 1 | BG19: 1 | BI19: 1
A20: 6 | B20: Huyện Đức Thọ | C20: =SUM(D20:G20) -> 28.4 | D20: - | E20: 2.4 | F20: 23.6 | G20: 2.4 | H20: =SUM(I20:L20) -> 10.08 | I20: 4 | J20: 3.95 | K20: 2.13 | M20: =SUM(N20:U20) -> 3.1 | N20: 0 | O20: 0 | P20: 0 | Q20: 0 | R20: 3.1 | S20: 0 | T20: 0 | U20: 0 | V20: 3330 | W20: =SUM(X20:AA20) -> 9.91 | X20: 0.76 | Y20: 0 | Z20: 9.15 | AA20: 0 | AB20: =SUM(AC20:AE20) -> 0 | AF20: =(AC20*5+AD20*3.5+AE20*3)*1000 -> 0 | AG20: =+SUM(AH20:AO20) -> 0 | AP20: 1204 | AQ20: =$W20/C20 -> 0.34894366 | AR20: =IF(H20=0,"-",AB20/H20) -> 0 | AS20: =AG20/M20 -> 0 | AT20: =W20-'17.6'!W20 -> 0 | AU20: =AB20-'17.6'!AB20 -> 0 | AV20: =AG20-'17.6'!AG20 -> 0 | AW20: từ 13/5 | AX20: =+SUM(AY20:BG20) -> 3 | AY20: 1 | BB20: 1 | BC20: 1
A21: 7 | B21: Huyện Nghi Xuân | C21: =SUM(D21:G21) -> 17 | D21: 0.29 | E21: 4.27 | F21: 6.57 | G21: 5.87 | H21: =SUM(I21:L21) -> 3.03 | I21: 1.8 | J21: 1.03 | K21: 0.2 | M21: =SUM(N21:U21) -> 5.28 | N21: 0 | O21: 0 | P21: 0.85 | Q21: 0 | R21: 0 | S21: 1.55 | T21: 2 | U21: 0.88 | V21: 2421 | W21: =SUM(X21:AA21) -> 3.301 | X21: 0 | Y21: 0.16 | Z21: 1.856 | AA21: 1.285 | AB21: =SUM(AC21:AE21) -> 1.23166 | AC21: 0.80578 | AD21: 0.42588 | AE21: 0 | AF21: =(AC21*5+AD21*3.5+AE21*3)*1000 -> 5519.48 | AG21: =+SUM(AH21:AO21) -> 1.625 | AL21: 0 | AM21: 1 | AN21: 0 | AO21: 0.625 | AP21: 496 | AQ21: =$W21/C21 -> 0.19417647 | AR21: =IF(H21=0,"-",AB21/H21) -> 0.40648845 | AS21: =AG21/M21 -> 0.30776515 | AT21: =W21-'17.6'!W21 -> 0.46 | AU21: =AB21-'17.6'!AB21 -> 0 | AV21: =AG21-'17.6'!AG21 -> 0 | AW21: từ 24/6 | AX21: =+SUM(AY21:BG21) -> 5 | AY21: 1 | AZ21: 1 | BB21: 1 | BC21: 1 | BE21: 1 | BI21: 1
A22: 8 | B22: Thị xã Hồng Lĩnh | C22: =SUM(D22:G22) -> 9.42 | D22: - | E22: 8.58 | F22: 0.34 | G22: 0.5 | H22: =SUM(I22:L22) -> 6 | I22: 0.7 | J22: 5.3 | K22: 0 | M22: =SUM(N22:U22) -> 16.37 | N22: 0 | O22: 0 | P22: 0 | Q22: 0 | R22: 7.93 | S22: 0 | T22: 8.44 | U22: 0 | V22: 2622 | W22: =SUM(X22:AA22) -> 1.534 | Y22: 1.534 | AB22: =SUM(AC22:AE22) -> 0 | AF22: =(AC22*5+AD22*3.5+AE22*3)*1000 -> 0 | AG22: =+SUM(AH22:AO22) -> 2.184 | AL22: 2.184 | AP22: 900 | AQ22: =$W22/C22 -> 0.16284501 | AR22: =IF(H22=0,"-",AB22/H22) -> 0 | AS22: =AG22/M22 -> 0.13341478 | AT22: =W22-'17.6'!W22 -> 0 | AU22: =AB22-'17.6'!AB22 -> 0 | AV22: =AG22-'17.6'!AG22 -> 0 | AW22: từ 15/4 | AX22: =+SUM(AY22:BG22) -> 1 | AY22: 1
A23: 9 | B23: Huyện Lộc Hà | C23: =SUM(D23:G23) -> 25.51 | D23: - | E23: 1.93 | F23: 14.39 | G23: 9.19 | H23: =SUM(I23:L23) -> 32.1 | I23: 1.9 | J23: 23.7 | K23: 6.5 | M23: =SUM(N23:U23) -> 9.32 | N23: 0.37 | O23: 0 | P23: 0 | Q23: 0 | R23: 6.25 | S23: 0 | T23: 2.7 | U23: 0 | V23: 3432 | W23: =SUM(X23:AA23) -> 2.5 | Z23: 2.5 | AB23: =SUM(AC23:AE23) -> 4.51 | AC23: 1.91 | AD23: 1.2 | AE23: 1.4 | AF23: =(AC23*5+AD23*3.5+AE23*3)*1000 -> 17950 | AG23: =+SUM(AH23:AO23) -> 0.2 | AL23: 0.2 | AP23: 454 | AQ23: =$W23/C23 -> 0.098000784 | AR23: =IF(H23=0,"-",AB23/H23) -> 0.14049844 | AS23: =AG23/M23 -> 0.021459227 | AT23: =W23-'17.6'!W23 -> 0 | AU23: =AB23-'17.6'!AB23 -> 0 | AV23: =AG23-'17.6'!AG23 -> 0 | AW23: từ 27/5 | AX23: =+SUM(AY23:BG23) -> 4 | AY23: 1 | AZ23: 1 | BC23: 1 | BE23: 1
B24: Tổng cộng | C24: =SUM(C10:C23) -> 560.53 | D24: =SUM(D10:D23) -> 14.82 | E24: =SUM(E10:E23) -> 101.57 | F24: =SUM(F10:F23) -> 322.25 | G24: =SUM(G10:G23) -> 121.89 | H24: =SUM(H10:H23) -> 150 | I24: =SUM(I10:I23) -> 33.4 | J24: =SUM(J10:J23) -> 95.4 | ... AP24: =SUM(AP10:AP23) -> 30636 | AQ24: =$W24/C24 -> 0.32266783 | AR24: =IF(H24=0,"-",AB24/H24) -> 0.28247773 | AS24: =AG24/M24 -> 0.29434612 | AT24: =SUM(AT10:AT23) -> 16.117 | AU24: =SUM(AU10:AU23) -> 3.574 | AV24: =SUM(AV10:AV23) -> 3.605
AG26: Xi măng đạt | AP26: =+AP24/V24 -> 0.38930046
N27: =+N24*0.8 -> 10.312 | O27: =+O24*0.8 -> 8.504 | P27: =+P24*0.8 -> 5.704 | Q27: =+Q24*0.8 -> 3.264 | R27: =+R24*0.8 -> 26.88 | S27: =+S24*0.8 -> 40.624 | T27: =+T24*0.8 -> 29.528 | U27: =+U24*0.8 -> 21.632

Sheet 01.7
B1: UỶ BAN NHÂN DÂN TỈNH HÀ TĨNH
B2: SỞ GIAO THÔNG VẬN TẢI
A3: BÁO CÁO KẾT QUẢ THỰC HIỆN KẾ HOẠCH LÀM ĐƯỜNG GIAO THÔNG, RÃNH THOÁT NƯỚC, PHỤC HỒI MẶT ĐƯỜNG BTXM THEO CƠ CHẾ HỖ TRỢ CỦA TỈNH ĐẾN NGÀY 01-7-2021
A5: TT | B5: Huyện, thị xã, thành phố | C5: Khối lượng theo kế hoạch UBND tỉnh | W5: Kết quả thực hiện lũy kế đến thời điểm báo cáo | AQ5: Mức độ hoàn thành kế hoạch đầu năm | AT5: Tăng so với tuần trước
C6: Đường giao thông (km) | D6: Trong đó | H6: Nâng cấp phục hồi mặt đường BTXM (km) | I6: Trong đó | M6: Rãnh thoát nước (km) | N6: Rãnh trên đường trục xã | R6: Rãnh trên đường trục thôn | V6: Tổng khối lượng xi măng (tấn) | W6: Đường giao thông (km) | X6: Trong đó | AB6: Nâng cấp phục hồi mặt đường BTXM (km) | AC6: Trong đó | AG6: Rãnh thoát nước (km) | AH6: Rãnh trên đường trục xã | AL6: Rãnh trên đường trục thôn | AP6: Tổng khối lượng xi măng đã nhận (tấn) | AQ6: Đường giao thông (%) | AR6: Nâng cấp phục hồi mặt đường BTXM (%) | AS6: Rãnh thoát nước (%) | AT6: Đường giao thông (km) | AU6: Nâng cấp phục hồi mặt đường BTXM (km) | AV6: Rãnh thoát nước (km)
D7: Đường trục xã và đường phố (km) | E7: Đường trục thôn, xóm và đường ngõ phố (km) | F7: Đường ngõ, xóm và đường ngách hẻm (km) | G7: Đường trục chính nội đồng (km) | I7: Đường trục xã và đường phố (km) | J7: Đường trục thôn, xóm và đường ngõ phố (km) | K7: Đường ngõ, xóm và đường ngách hẻm (km) | L7: Đường trục chính nội đồng (km) | N7: Rãnh BTXM có nắp đậy | O7: Rãnh BTXM không có nắp đậy | P7: Rãnh Gạch xây có nắp đậy | Q7: Rãnh Gạch xây không có nắp đậy | R7: Rãnh BTXM có nắp đậy | S7: Rãnh BTXM không có nắp đậy | T7: Rãnh Gạch xây có nắp đậy | U7: Rãnh Gạch xây không có nắp đậy | X7: Đường trục xã và đường phố (km) | Y7: Đường trục thôn, xóm và đường ngõ phố (km) | Z7: Đường ngõ, xóm và đường ngách hẻm (km) | AA7: Đường trục chính nội đồng (km) | AC7: Đường trục xã và đường phố (km) | AD7: Đường trục thôn, ngõ phố (km) | AE7: Đường ngõ, xóm và đường ngách hẻm (km) | AF7: Tổng diện tích tỉnh hỗ trợ (m2) | AH7: Rãnh BTXM có nắp đậy | AI7: Rãnh BTXM không có nắp đậy | AJ7: Rãnh Gạch xây có nắp đậy | AK7: Rãnh Gạch xây không có nắp đậy | AL7: Rãnh BTXM có nắp đậy | AM7: Rãnh BTXM không có nắp đậy | AN7: Rãnh Gạch xây có nắp đậy | AO7: Rãnh Gạch xây không có nắp đậy | AW7: Thống kê số lần báo cáo theo tuần
A8: 1 | B8: 2 | C8: 3 | D8: 4 | E8: 5 | F8: 6 | G8: 7 | H8: 8 | I8: 9 | J8: 10 | K8: 11 | L8: 12 | M8: 13 | N8: 14 | O8: 15 | P8: 16 | Q8: 17 | R8: 18 | S8: 19 | T8: 20 | U8: 21 | V8: 22 | W8: 23 | X8: 24 | Y8: 25 | Z8: 26 | AA8: 27 | AB8: 28 | AC8: 29 | AD8: 30 | AE8: 31 | AF8: 32 | AG8: 33 | AH8: 34 | AI8: 35 | AJ8: 36 | AK8: 37 | AL8: 38 | AM8: 39 | AN8: 40 | AO8: 41 | AP8: 42 | AQ8: 43 | AR8: 44 | AS8: 45 | AT8: 69 | AU8: 70 | AV8: 71 | AX8: Tổng | AY8: 15/4 | AZ8: 22/4 | BA8: 29/4 | BB8: 6/5 | BC8: 13/5 | BD8: 20/5 | BE8: 27/5 | BF8: 3/6 | BG8: 11/6 | BH8: 17/6 | BI8: 24/6 | BJ8: 1/7
A9: I | B9: Huyện miền núi | AF9: =(AC9*5+AD9*3.5)*1000 -> 0
A10: 1 | B10: Huyện Kỳ Anh | C10: =SUM(D10:G10) -> 58.41 | D10: 1.83 | E10: 10.19 | F10: 38.71 | G10: 7.68 | H10: =SUM(I10:L10) -> 6.2 | I10: 0 | J10: 5.3 | K10: 0.9 | M10: =SUM(N10:U10) -> 57.37 | N10: 1 | O10: 5.38 | P10: 2.48 | Q10: 3.28 | R10: 0.54 | S10: 23.22 | T10: 2.36 | U10: 19.11 | V10: 10271 | W10: =SUM(X10:AA10) -> 23.311 | X10: 0.181 | Y10: 2.966 | Z10: 18.899 | AA10: 1.265 | AB10: =SUM(AC10:AE10) -> 0 | AF10: =(AC10*5+AD10*3.5)*1000 -> 0 | AG10: =+SUM(AH10:AO10) -> 13.583 | AH10: 0 | AI10: 0 | AJ10: 0 | AK10: 1.645 | AL10: 0 | AM10: 7.93 | AN10: 1.2 | AO10: 2.808 | AP10: 4175 | AQ10: =$W10/C10 -> 0.39909262 | AR10: =IF(H10=0,"-",AB10/H10) -> 0 | AS10: =AG10/M10 -> 0.23676137 | AT10: =W10-'24.6'!W10 -> 2.348 | AU10: =AB10-'24.6'!AB10 -> 0 | AV10: =AG10-'24.6'!AG10 -> 2.643 | AX10: =+SUM(AY10:BJ10) -> 6 | AY10: 1 | AZ10: 1 | BE10: 1 | BF10: 1 | BI10: 1 | BJ10: 1
A11: 2 | B11: Huyện Hương Sơn | C11: =SUM(D11:G11) -> 28.7 | D11: - | E11: 5.2 | F11: 20.2 | G11: 3.3 | H11: =SUM(I11:L11) -> 5.5 | I11: 0 | J11: 5.5 | K11: 0 | M11: =SUM(N11:U11) -> 13.94 | N11: 0.6 | O11: 0.5 | P11: 0.12 | Q11: 0.1 | R11: 1.6 | S11: 3.92 | T11: 1.71 | U11: 5.39 | V11: 4122 | W11: =SUM(X11:AA11) -> 19.4 | X11: 0.7 | Y11: 2.5 | Z11: 15.55 | AA11: 0.65 | AB11: =SUM(AC11:AE11) -> 4.2 | AC11: 4.2 | AF11: =(AC11*5+AD11*3.5+AE11*3)*1000 -> 21000 | AG11: =+SUM(AH11:AO11) -> 12.6 | AH11: 12.6 | AP11: 3114 | AQ11: =$W11/C11 -> 0.67595819 | AR11: =IF(H11=0,"-",AB11/H11) -> 0.76363636 | AS11: =AG11/M11 -> 0.90387374 | AT11: =W11-'24.6'!W11 -> 1.2 | AU11: =AB11-'24.6'!AB11 -> 0 | AV11: =AG11-'24.6'!AG11 -> 0.7 | AX11: =+SUM(AY11:BJ11) -> 5 | AZ11: 1 | BD11: 1 | BF11: 1 | BI11: 1 | BJ11: 1
A12: 3 | B12: Huyện Hương Khê | C12: =SUM(D12:G12) -> 83.71 | D12: 0.36 | E12: 13.42 | F12: 53.2 | G12: 16.73 | H12: =SUM(I12:L12) -> 1.5 | I12: 1.5 | J12: 0 | K12: 0 | M12: =SUM(N12:U12) -> 17.11 | N12: 0.79 | O12: 1.83 | P12: 2.15 | Q12: 0.35 | R12: 0.52 | S12: 11.22 | T12: 0 | U12: 0.25 | V12: 10689 | W12: =SUM(X12:AA12) -> 28.473 | X12: 1.1 | Y12: 3.537 | Z12: 21.126 | AA12: 2.71 | AB12: =SUM(AC12:AE12) -> 0 | AF12: =(AC12*5+AD12*3.5+AE12*3)*1000 -> 0 | AG12: =+SUM(AH12:AO12) -> 3.658 | AH12: 0.208 | AI12: 0.315 | AJ12: 0 | AK12: 0 | AL12: 0.1 | AM12: 2.535 | AN12: 0 | AO12: 0.5 | AP12: 4046 | AQ12: =$W12/C12 -> 0.34013857 | AR12: =IF(H12=0,"-",AB12/H12) -> 0 | AS12: =AG12/M12 -> 0.2137931 | AT12: =W12-'24.6'!W12 -> 4.016 | AU12: =AB12-'24.6'!AB12 -> 0 | AV12: =AG12-'24.6'!AG12 -> 1.1 | AX12: =+SUM(AY12:BJ12) -> 9 | BA12: 1 | BB12: 1 | BD12: 1 | BE12: 1 | BF12: 1 | BG12: 1 | BH12: 1 | BI12: 1 | BJ12: 1
A13: 4 | B13: Huyện Vũ Quang | C13: =SUM(D13:G13) -> 13.77 | D13: 0.72 | E13: 1.69 | F13: 8.34 | G13: 3.02 | H13: =SUM(I13:L13) -> 0.9 | I13: 0 | J13: 0.9 | K13: 0 | M13: =SUM(N13:U13) -> 1.18 | N13: 0 | O13: 0 | P13: 0 | Q13: 0 | R13: 0.32 | S13: 0.86 | T13: 0 | U13: 0 | V13: 1727 | W13: =SUM(X13:AA13) -> 5.193 | X13: 0.26 | Y13: 0.16 | Z13: 3.953 | AA13: 0.82 | AB13: =SUM(AC13:AE13) -> 0.33 | AD13: 0.33 | AG13: =+SUM(AH13:AO13) -> 0.36 | AH13: 0.36 | AP13: 796 | AQ13: =$W13/C13 -> 0.37712418 | AR13: =IF(H13=0,"-",AB13/H13) -> 0.36666667 | AS13: =AG13/M13 -> 0.30508475 | AT13: =W13-'24.6'!W13 -> 0.6 | AU13: =AB13-'24.6'!AB13 -> 0 | AV13: =AG13-'24.6'!AG13 -> 0 | AX13: =+SUM(AY13:BJ13) -> 6 | AY13: 1 | AZ13: 1 | BB13: 1 | BF13: 1 | BI13: 1 | BJ13: 1
A14: II | B14: Các địa phương khác | AF14: =(AC14*5+AD14*3.5+AE14*3)*1000 -> 0
A15: 1 | B15: Thị xã Kỳ Anh | C15: =SUM(D15:G15) -> 16.11 | D15: - | E15: 5.31 | F15: 10.8 | G15: - | H15: =SUM(I15:L15) -> 0.42 | I15: 0 | J15: 0.12 | K15: 0.3 | M15: =SUM(N15:U15) -> 8.87 | N15: 0 | O15: 0 | P15: 0 | Q15: 0 | R15: 1.56 | S15: 5.86 | T15: 1.45 | U15: - | V15: 2541 | W15: =SUM(X15:AA15) -> 7.788 | X15: 0.3 | Y15: 3.047 | Z15: 4.441 | AB15: =SUM(AC15:AE15) -> 0 | AF15: =(AC15*5+AD15*3.5+AE15*3)*1000 -> 0 | AG15: =+SUM(AH15:AO15) -> 3.193 | AL15: 0.93 | AM15: 2.263 | AN15: 0 | AO15: 0 | AP15: 1302 | AQ15: =$W15/C15 -> 0.48342644 | AR15: =IF(H15=0,"-",AB15/H15) -> 0 | AS15: =AG15/M15 -> 0.35997745 | AT15: =W15-'24.6'!W15 -> 0 | AU15: =AB15-'24.6'!AB15 -> 0 | AV15: =AG15-'24.6'!AG15 -> 0 | AX15: =+SUM(AY15:BJ15) -> 4 | BC15: 1 | BD15: 1 | BH15: 1 | BI15: 1
A16: 2 | B16: Huyện Cẩm Xuyên | C16: =SUM(D16:G16) -> 80.01 | D16: 3.05 | E16: 22.12 | F16: 43.28 | G16: 11.56 | H16: =SUM(I16:L16) -> 12.4 | I16: 4.5 | J16: 5.9 | K16: 2 | M16: =SUM(N16:U16) -> 7.55 | N16: 2.1 | O16: 2.5 | P16: 0 | Q16: 0 | R16: 0.89 | S16: 0.75 | T16: 0.3 | U16: 1.01 | V16: 10671 | W16: =SUM(X16:AA16) -> 24.48 | X16: 0.5 | Y16: 5.52 | Z16: 14.81 | AA16: 3.65 | AB16: =SUM(AC16:AE16) -> 0 | AF16: =(AC16*5+AD16*3.5+AE16*3)*1000 -> 0 | AG16: =+SUM(AH16:AO16) -> 3.99 | AH16: 2.1 | AI16: 0 | AJ16: 0 | AK16: 0 | AL16: 1.14 | AM16: 0.35 | AN16: 0 | AO16: 0.4 | AP16: 3252 | AQ16: =$W16/C16 -> 0.30596175 | AR16: =IF(H16=0,"-",AB16/H16) -> 0 | AS16: =AG16/M16 -> 0.52847682 | AT16: =W16-'24.6'!W16 -> 0 | AU16: =AB16-'24.6'!AB16 -> 0 | AV16: =AG16-'24.6'!AG16 -> 0 | AX16: =+SUM(AY16:BJ16) -> 4 | AY16: 1 | BC16: 1 | BH16: 1 | BI16: 1
A17: 3 | B17: Thành phố Hà Tĩnh | C17: =SUM(D17:G17) -> 15.29 | D17: - | E17: 4.18 | F17: 8.78 | G17: 2.33 | H17: =SUM(I17:L17) -> 12.7 | I17: 0 | J17: 8.5 | K17: 4.2 | M17: =SUM(N17:U17) -> 6.95 | N17: 6.32 | O17: 0 | P17: 0 | Q17: 0 | R17: 0.63 | S17: 0 | T17: 0 | U17: 0 | V17: 2394 | W17: =SUM(X17:AA17) -> 5.92 | Y17: 2.05 | Z17: 3.87 | AB17: =SUM(AC17:AE17) -> 6.35 | AD17: 6.35 | AF17: 13370 | AG17: =+SUM(AH17:AO17) -> 2.19 | AH17: 0 | AL17: 2.19 | AP17: 1440 | AQ17: =$W17/C17 -> 0.38718116 | AR17: =IF(H17=0,"-",AB17/H17) -> 0.5 | AS17: =AG17/M17 -> 0.31510791 | AT17: =W17-'24.6'!W17 -> 1.04 | AU17: =AB17-'24.6'!AB17 -> 0 | AV17: =AG17-'24.6'!AG17 -> 0.4 | AX17: =+SUM(AY17:BJ17) -> 7 | AY17: 1 | AZ17: 1 | BA17: 1 | BC17: 1 | BD17: 1 | BI17: 1 | BJ17: 1
A18: 4 | B18: Huyện Thạch Hà | C18: =SUM(D18:G18) -> 97.59 | D18: 8.17 | E18: 7.68 | F18: 40.79 | G18: 40.95 | H18: =SUM(I18:L18) -> 30.29 | I18: 8.3 | J18: 17.8 | K18: 4.19 | M18: =SUM(N18:U18) -> 7.45 | N18: 0.9 | O18: 0.42 | P18: 0 | Q18: 0.35 | R18: 1.88 | S18: 3.4 | T18: 0.1 | U18: 0.4 | V18: 12442 | W18: =SUM(X18:AA18) -> 36.43 | X18: 0 | Y18: 2.87 | Z18: 22.262 | AA18: 11.298 | AB18: =SUM(AC18:AE18) -> 18.11 | AC18: 3.818 | AD18: 12.998 | AE18: 1.294 | AF18: 0 | AG18: =+SUM(AH18:AO18) -> 1.93 | AH18: 0 | AI18: 0.19 | AJ18: 0 | AK18: 0 | AL18: 0.59 | AM18: 0.97 | AN18: 0.18 | AO18: 0 | AP18: 5667 | AQ18: =$W18/C18 -> 0.37329644 | AR18: =IF(H18=0,"-",AB18/H18) -> 0.59788709 | AS18: =AG18/M18 -> 0.2590604 | AT18: =W18-'24.6'!W18 -> 1.106 | AU18: =AB18-'24.6'!AB18 -> 1.848 | AV18: =AG18-'24.6'!AG18 -> 0.22 | AX18: =+SUM(AY18:BJ18) -> 12 | AY18: 1 | AZ18: 1 | BA18: 1 | BB18: 1 | BC18: 1 | BD18: 1 | BE18: 1 | BF18: 1 | BG18: 1 | BH18: 1 | BI18: 1 | BJ18: 1
A19: 5 | B19: Huyện Can Lộc | C19: =SUM(D19:G19) -> 86.61 | D19: 0.4 | E19: 14.6 | F19: 53.25 | G19: 18.36 | H19: =SUM(I19:L19) -> 28.88 | I19: 10.7 | J19: 17.4 | K19: 0.78 | M19: =SUM(N19:U19) -> 28.57 | N19: 0.81 | O19: 0 | P19: 1.53 | Q19: 0 | R19: 8.38 | S19: 0 | T19: 17.85 | U19: 0 | V19: 12033 | W19: =SUM(X19:AA19) -> 24.204 | X19: 0 | Y19: 9.404 | Z19: 12.86 | AA19: 1.94 | AB19: =SUM(AC19:AE19) -> 9.488 | AC19: 5.344 | AD19: 3.7 | AE19: 0.444 | AF19: =(AC19*5+AD19*3.5+AE19*3)*1000 -> 41002 | AG19: =+SUM(AH19:AO19) -> 13.433 | AH19: 0 | AI19: 0 | AJ19: 0.18 | AK19: 0 | AL19: 1.15 | AM19: 0 | AN19: 11.873 | AO19: 0.23 | AP19: 5877 | AQ19: =$W19/C19 -> 0.27945965 | AR19: =IF(H19=0,"-",AB19/H19) -> 0.32853186 | AS19: =AG19/M19 -> 0.47017851 | AT19: =W19-'24.6'!W19 -> 1.269 | AU19: =AB19-'24.6'!AB19 -> 0 | AV19: =AG19-'24.6'!AG19 -> 0 | AX19: =+SUM(AY19:BJ19) -> 11 | AY19: 1 | AZ19: 1 | BA19: 1 | BB19: 1 | BC19: 1 | BD19: 1 | BE19: 1 | BF19: 1 | BG19: 1 | BI19: 1 | BJ19: 1
A20: 6 | B20: Huyện Đức Thọ | C20: =SUM(D20:G20) -> 28.4 | D20: - | E20: 2.4 | F20: 23.6 | G20: 2.4 | H20: =SUM(I20:L20) -> 10.08 | I20: 4 | J20: 3.95 | K20: 2.13 | M20: =SUM(N20:U20) -> 3.1 | N20: 0 | O20: 0 | P20: 0 | Q20: 0 | R20: 3.1 | S20: 0 | T20: 0 | U20: 0 | V20: 3330 | W20: =SUM(X20:AA20) -> 10.57 | X20: 0.76 | Y20: 0 | Z20: 9.81 | AA20: 0 | AB20: =SUM(AC20:AE20) -> 5.1 | AC20: 0.7 | AD20: 2.1 | AE20: 2.3 | AF20: =(AC20*5+AD20*3.5+AE20*3)*1000 -> 17750 | AG20: =+SUM(AH20:AO20) -> 0 | AP20: 1286 | AQ20: =$W20/C20 -> 0.3721831 | AR20: =IF(H20=0,"-",AB20/H20) -> 0.50595238 | AS20: =AG20/M20 -> 0 | AT20: =W20-'24.6'!W20 -> 0.66 | AU20: =AB20-'24.6'!AB20 -> 5.1 | AV20: =AG20-'24.6'!AG20 -> 0 | AX20: =+SUM(AY20:BJ20) -> 4 | AY20: 1 | BB20: 1 | BC20: 1 | BJ20: 1
A21: 7 | B21: Huyện Nghi Xuân | C21: =SUM(D21:G21) -> 17 | D21: 0.29 | E21: 4.27 | F21: 6.57 | G21: 5.87 | H21: =SUM(I21:L21) -> 3.03 | I21: 1.8 | J21: 1.03 | K21: 0.2 | M21: =SUM(N21:U21) -> 5.28 | N21: 0 | O21: 0 | P21: 0.85 | Q21: 0 | R21: 0 | S21: 1.55 | T21: 2 | U21: 0.88 | V21: 2421 | W21: =SUM(X21:AA21) -> 4.539 | X21: 0 | Y21: 0.355 | Z21: 2.899 | AA21: 1.285 | AB21: =SUM(AC21:AE21) -> 1.23166 | AC21: 0.80578 | AD21: 0.42588 | AE21: 0 | AF21: =(AC21*5+AD21*3.5+AE21*3)*1000 -> 5519.48 | AG21: =+SUM(AH21:AO21) -> 1.625 | AL21: 0 | AM21: 1 | AN21: 0 | AO21: 0.625 | AP21: 639 | AQ21: =$W21/C21 -> 0.267 | AR21: =IF(H21=0,"-",AB21/H21) -> 0.40648845 | AS21: =AG21/M21 -> 0.30776515 | AT21: =W21-'24.6'!W21 -> 1.238 | AU21: =AB21-'24.6'!AB21 -> 0 | AV21: =AG21-'24.6'!AG21 -> 0 | AX21: =+SUM(AY21:BJ21) -> 7 | AY21: 1 | AZ21: 1 | BB21: 1 | BC21: 1 | BE21: 1 | BI21: 1 | BJ21: 1
A22: 8 | B22: Thị xã Hồng Lĩnh | C22: =SUM(D22:G22) -> 9.42 | D22: - | E22: 8.58 | F22: 0.34 | G22: 0.5 | H22: =SUM(I22:L22) -> 6 | I22: 0.7 | J22: 5.3 | K22: 0 | M22: =SUM(N22:U22) -> 16.37 | N22: 0 | O22: 0 | P22: 0 | Q22: 0 | R22: 7.93 | S22: 0 | T22: 8.44 | U22: 0 | V22: 2622 | W22: =SUM(X22:AA22) -> 1.534 | Y22: 1.534 | AB22: =SUM(AC22:AE22) -> 0 | AF22: =(AC22*5+AD22*3.5+AE22*3)*1000 -> 0 | AG22: =+SUM(AH22:AO22) -> 2.184 | AL22: 2.184 | AP22: 900 | AQ22: =$W22/C22 -> 0.16284501 | AR22: =IF(H22=0,"-",AB22/H22) -> 0 | AS22: =AG22/M22 -> 0.13341478 | AT22: =W22-'24.6'!W22 -> 0 | AU22: =AB22-'24.6'!AB22 -> 0 | AV22: =AG22-'24.6'!AG22 -> 0 | AX22: =+SUM(AY22:BJ22) -> 1 | AY22: 1
A23: 9 | B23: Huyện Lộc Hà | C23: =SUM(D23:G23) -> 25.51 | D23: - | E23: 1.93 | F23: 14.39 | G23: 9.19 | H23: =SUM(I23:L23) -> 32.1 | I23: 1.9 | J23: 23.7 | K23: 6.5 | M23: =SUM(N23:U23) -> 9.32 | N23: 0.37 | O23: 0 | P23: 0 | Q23: 0 | R23: 6.25 | S23: 0 | T23: 2.7 | U23: 0 | V23: 3432 | W23: =SUM(X23:AA23) -> 5.666 | X23: 0 | Y23: 0 | Z23: 3.476 | AA23: 2.19 | AB23: =SUM(AC23:AE23) -> 4.51 | AC23: 1.91 | AD23: 1.2 | AE23: 1.4 | AF23: =(AC23*5+AD23*3.5+AE23*3)*1000 -> 17950 | AG23: =+SUM(AH23:AO23) -> 1.39 | AH23: 0.49 | AI23: 0 | AJ23: 0 | AK23: 0 | AL23: 0.6 | AM23: 0 | AN23: 0.3 | AO23: 0 | AP23: 811 | AQ23: =$W23/C23 -> 0.22210898 | AR23: =IF(H23=0,"-",AB23/H23) -> 0.14049844 | AS23: =AG23/M23 -> 0.14914163 | AT23: =W23-'24.6'!W23 -> 3.166 | AU23: =AB23-'24.6'!AB23 -> 0 | AV23: =AG23-'24.6'!AG23 -> 1.19 | AX23: =+SUM(AY23:BJ23) -> 5 | AY23: 1 | AZ23: 1 | BC23: 1 | BE23: 1 | BJ23: 1
B24: Tổng cộng | C24: =SUM(C10:C23) -> 560.53 | D24: =SUM(D10:D23) -> 14.82 | E24: =SUM(E10:E23) -> 101.57 | F24: =SUM(F10:F23) -> 322.25 | G24: =SUM(G10:G23) -> 121.89 | H24: =SUM(H10:H23) -> 150 | I24: =SUM(I10:I23) -> 33.4 | J24: =SUM(J10:J23) -> 95.4 | ... AP24: =SUM(AP10:AP23) -> 33305 | AQ24: =$W24/C24 -> 0.35235937 | AR24: =IF(H24=0,"-",AB24/H24) -> 0.32879773 | AS24: =AG24/M24 -> 0.32850432 | AT24: =SUM(AT10:AT23) -> 16.643 | AU24: =SUM(AU10:AU23) -> 6.948 | AV24: =SUM(AV10:AV23) -> 6.253
AG26: Xi măng đạt | AP26: =+AP24/V24 -> 0.42321621
N27: =+N24*0.8 -> 10.312 | O27: =+O24*0.8 -> 8.504 | P27: =+P24*0.8 -> 5.704 | Q27: =+Q24*0.8 -> 3.264 | R27: =+R24*0.8 -> 26.88 | S27: =+S24*0.8 -> 40.624 | T27: =+T24*0.8 -> 29.528 | U27: =+U24*0.8 -> 21.632

Sheet 8.7
B1: UỶ BAN NHÂN DÂN TỈNH HÀ TĨNH
B2: SỞ GIAO THÔNG VẬN TẢI
A3: BÁO CÁO KẾT QUẢ THỰC HIỆN KẾ HOẠCH LÀM ĐƯỜNG GIAO THÔNG, RÃNH THOÁT NƯỚC, PHỤC HỒI MẶT ĐƯỜNG BTXM THEO CƠ CHẾ HỖ TRỢ CỦA TỈNH ĐẾN NGÀY 08-7-2021
A5: TT | B5: Huyện, thị xã, thành phố | C5: Khối lượng theo kế hoạch UBND tỉnh | W5: Kết quả thực hiện lũy kế đến thời điểm báo cáo | AQ5: Mức độ hoàn thành kế hoạch đầu năm | AT5: Tăng so với tuần trước
C6: Đường giao thông (km) | D6: Trong đó | H6: Nâng cấp phục hồi mặt đường BTXM (km) | I6: Trong đó | M6: Rãnh thoát nước (km) | N6: Rãnh trên đường trục xã | R6: Rãnh trên đường trục thôn | V6: Tổng khối lượng xi măng (tấn) | W6: Đường giao thông (km) | X6: Trong đó | AB6: Nâng cấp phục hồi mặt đường BTXM (km) | AC6: Trong đó | AG6: Rãnh thoát nước (km) | AH6: Rãnh trên đường trục xã | AL6: Rãnh trên đường trục thôn | AP6: Tổng khối lượng xi măng đã nhận (tấn) | AQ6: Đường giao thông (%) | AR6: Nâng cấp phục hồi mặt đường BTXM (%) | AS6: Rãnh thoát nước (%) | AT6: Đường giao thông (km) | AU6: Nâng cấp phục hồi mặt đường BTXM (km) | AV6: Rãnh thoát nước (km)
D7: Đường trục xã và đường phố (km) | E7: Đường trục thôn, xóm và đường ngõ phố (km) | F7: Đường ngõ, xóm và đường ngách hẻm (km) | G7: Đường trục chính nội đồng (km) | I7: Đường trục xã và đường phố (km) | J7: Đường trục thôn, xóm và đường ngõ phố (km) | K7: Đường ngõ, xóm và đường ngách hẻm (km) | L7: Đường trục chính nội đồng (km) | N7: Rãnh BTXM có nắp đậy | O7: Rãnh BTXM không có nắp đậy | P7: Rãnh Gạch xây có nắp đậy | Q7: Rãnh Gạch xây không có nắp đậy | R7: Rãnh BTXM có nắp đậy | S7: Rãnh BTXM không có nắp đậy | T7: Rãnh Gạch xây có nắp đậy | U7: Rãnh Gạch xây không có nắp đậy | X7: Đường trục xã và đường phố (km) | Y7: Đường trục thôn, xóm và đường ngõ phố (km) | Z7: Đường ngõ, xóm và đường ngách hẻm (km) | AA7: Đường trục chính nội đồng (km) | AC7: Đường trục xã và đường phố (km) | AD7: Đường trục thôn, ngõ phố (km) | AE7: Đường ngõ, xóm và đường ngách hẻm (km) | AF7: Tổng diện tích tỉnh hỗ trợ (m2) | AH7: Rãnh BTXM có nắp đậy | AI7: Rãnh BTXM không có nắp đậy | AJ7: Rãnh Gạch xây có nắp đậy | AK7: Rãnh Gạch xây không có nắp đậy | AL7: Rãnh BTXM có nắp đậy | AM7: Rãnh BTXM không có nắp đậy | AN7: Rãnh Gạch xây có nắp đậy | AO7: Rãnh Gạch xây không có nắp đậy | AW7: Thống kê số lần báo cáo theo tuần
A8: 1 | B8: 2 | C8: 3 | D8: 4 | E8: 5 | F8: 6 | G8: 7 | H8: 8 | I8: 9 | J8: 10 | K8: 11 | L8: 12 | M8: 13 | N8: 14 | O8: 15 | P8: 16 | Q8: 17 | R8: 18 | S8: 19 | T8: 20 | U8: 21 | V8: 22 | W8: 23 | X8: 24 | Y8: 25 | Z8: 26 | AA8: 27 | AB8: 28 | AC8: 29 | AD8: 30 | AE8: 31 | AF8: 32 | AG8: 33 | AH8: 34 | AI8: 35 | AJ8: 36 | AK8: 37 | AL8: 38 | AM8: 39 | AN8: 40 | AO8: 41 | AP8: 42 | AQ8: 43 | AR8: 44 | AS8: 45 | AT8: 69 | AU8: 70 | AV8: 71 | AX8: Tổng | AY8: 15/4 | AZ8: 22/4 | BA8: 29/4 | BB8: 6/5 | BC8: 13/5 | BD8: 20/5 | BE8: 27/5 | BF8: 3/6 | BG8: 11/6 | BH8: 17/6 | BI8: 24/6 | BJ8: 1/7 | BK8: 8/7
A9: I | B9: Huyện miền núi | AF9: =(AC9*5+AD9*3.5)*1000 -> 0
A10: 1 | B10: Huyện Kỳ Anh | C10: =SUM(D10:G10) -> 58.41 | D10: 1.83 | E10: 10.19 | F10: 38.71 | G10: 7.68 | H10: =SUM(I10:L10) -> 6.2 | I10: 0 | J10: 5.3 | K10: 0.9 | M10: =SUM(N10:U10) -> 57.37 | N10: 1 | O10: 5.38 | P10: 2.48 | Q10: 3.28 | R10: 0.54 | S10: 23.22 | T10: 2.36 | U10: 19.11 | V10: 10271 | W10: =SUM(X10:AA10) -> 23.311 | X10: 0.181 | Y10: 2.966 | Z10: 18.899 | AA10: 1.265 | AB10: =SUM(AC10:AE10) -> 0 | AF10: =(AC10*5+AD10*3.5)*1000 -> 0 | AG10: =+SUM(AH10:AO10) -> 13.583 | AH10: 0 | AI10: 0 | AJ10: 0 | AK10: 1.645 | AL10: 0 | AM10: 7.93 | AN10: 1.2 | AO10: 2.808 | AP10: 4175 | AQ10: =$W10/C10 -> 0.39909262 | AR10: =IF(H10=0,"-",AB10/H10) -> 0 | AS10: =AG10/M10 -> 0.23676137 | AT10: =W10-'24.6'!W10 -> 2.348 | AU10: =AB10-'24.6'!AB10 -> 0 | AV10: =AG10-'24.6'!AG10 -> 2.643 | AX10: =+SUM(AY10:BQ10) -> 6 | AY10: 1 | AZ10: 1 | BE10: 1 | BF10: 1 | BI10: 1 | BJ10: 1
A11: 2 | B11: Huyện Hương Sơn | C11: =SUM(D11:G11) -> 28.7 | D11: - | E11: 5.2 | F11: 20.2 | G11: 3.3 | H11: =SUM(I11:L11) -> 5.5 | I11: 0 | J11: 5.5 | K11: 0 | M11: =SUM(N11:U11) -> 13.94 | N11: 0.6 | O11: 0.5 | P11: 0.12 | Q11: 0.1 | R11: 1.6 | S11: 3.92 | T11: 1.71 | U11: 5.39 | V11: 4122 | W11: =SUM(X11:AA11) -> 19.4 | X11: 0.7 | Y11: 2.5 | Z11: 15.55 | AA11: 0.65 | AB11: =SUM(AC11:AE11) -> 4.2 | AC11: 4.2 | AF11: =(AC11*5+AD11*3.5+AE11*3)*1000 -> 21000 | AG11: =+SUM(AH11:AO11) -> 12.6 | AH11: 12.6 | AP11: 3114 | AQ11: =$W11/C11 -> 0.67595819 | AR11: =IF(H11=0,"-",AB11/H11) -> 0.76363636 | AS11: =AG11/M11 -> 0.90387374 | AT11: =W11-'24.6'!W11 -> 1.2 | AU11: =AB11-'24.6'!AB11 -> 0 | AV11: =AG11-'24.6'!AG11 -> 0.7 | AX11: =+SUM(AY11:BQ11) -> 5 | AZ11: 1 | BD11: 1 | BF11: 1 | BI11: 1 | BJ11: 1
A12: 3 | B12: Huyện Hương Khê | C12: =SUM(D12:G12) -> 83.71 | D12: 0.36 | E12: 13.42 | F12: 53.2 | G12: 16.73 | H12: =SUM(I12:L12) -> 1.5 | I12: 1.5 | J12: 0 | K12: 0 | M12: =SUM(N12:U12) -> 17.11 | N12: 0.79 | O12: 1.83 | P12: 2.15 | Q12: 0.35 | R12: 0.52 | S12: 11.22 | T12: 0 | U12: 0.25 | V12: 10689 | W12: =SUM(X12:AA12) -> 32.352 | X12: 1.2 | Y12: 3.719 | Z12: 24.303 | AA12: 3.13 | AB12: =SUM(AC12:AE12) -> 0 | AF12: =(AC12*5+AD12*3.5+AE12*3)*1000 -> 0 | AG12: =+SUM(AH12:AO12) -> 4.577 | AH12: 0.208 | AI12: 0.684 | AJ12: 0 | AK12: 0 | AL12: 0.1 | AM12: 3.085 | AN12: 0 | AO12: 0.5 | AP12: 4460 | AQ12: =$W12/C12 -> 0.38647712 | AR12: =IF(H12=0,"-",AB12/H12) -> 0 | AS12: =AG12/M12 -> 0.26750438 | AT12: =W12-'24.6'!W12 -> 7.895 | AU12: =AB12-'24.6'!AB12 -> 0 | AV12: =AG12-'24.6'!AG12 -> 2.019 | AX12: =+SUM(AY12:BQ12) -> 10 | BA12: 1 | BB12: 1 | BD12: 1 | BE12: 1 | BF12: 1 | BG12: 1 | BH12: 1 | BI12: 1 | BJ12: 1 | BK12: 1
A13: 4 | B13: Huyện Vũ Quang | C13: =SUM(D13:G13) -> 13.77 | D13: 0.72 | E13: 1.69 | F13: 8.34 | G13: 3.02 | H13: =SUM(I13:L13) -> 0.9 | I13: 0 | J13: 0.9 | K13: 0 | M13: =SUM(N13:U13) -> 1.18 | N13: 0 | O13: 0 | P13: 0 | Q13: 0 | R13: 0.32 | S13: 0.86 | T13: 0 | U13: 0 | V13: 1727 | W13: =SUM(X13:AA13) -> 5.413 | X13: 0.26 | Y13: 0.16 | Z13: 4.173 | AA13: 0.82 | AB13: =SUM(AC13:AE13) -> 0.33 | AD13: 0.33 | AG13: =+SUM(AH13:AO13) -> 0.51 | AH13: 0.51 | AP13: 836 | AQ13: =$W13/C13 -> 0.39310094 | AR13: =IF(H13=0,"-",AB13/H13) -> 0.36666667 | AS13: =AG13/M13 -> 0.43220339 | AT13: =W13-'24.6'!W13 -> 0.82 | AU13: =AB13-'24.6'!AB13 -> 0 | AV13: =AG13-'24.6'!AG13 -> 0.15 | AX13: =+SUM(AY13:BQ13) -> 7 | AY13: 1 | AZ13: 1 | BB13: 1 | BF13: 1 | BI13: 1 | BJ13: 1 | BK13: 1
A14: II | B14: Các địa phương khác | AF14: =(AC14*5+AD14*3.5+AE14*3)*1000 -> 0
A15: 1 | B15: Thị xã Kỳ Anh | C15: =SUM(D15:G15) -> 16.11 | D15: - | E15: 5.31 | F15: 10.8 | G15: - | H15: =SUM(I15:L15) -> 0.42 | I15: 0 | J15: 0.12 | K15: 0.3 | M15: =SUM(N15:U15) -> 8.87 | N15: 0 | O15: 0 | P15: 0 | Q15: 0 | R15: 1.56 | S15: 5.86 | T15: 1.45 | U15: - | V15: 2541 | W15: =SUM(X15:AA15) -> 7.788 | X15: 0.3 | Y15: 3.047 | Z15: 4.441 | AB15: =SUM(AC15:AE15) -> 0 | AF15: =(AC15*5+AD15*3.5+AE15*3)*1000 -> 0 | AG15: =+SUM(AH15:AO15) -> 3.193 | AL15: 0.93 | AM15: 2.263 | AN15: 0 | AO15: 0 | AP15: 1302 | AQ15: =$W15/C15 -> 0.48342644 | AR15: =IF(H15=0,"-",AB15/H15) -> 0 | AS15: =AG15/M15 -> 0.35997745 | AT15: =W15-'24.6'!W15 -> 0 | AU15: =AB15-'24.6'!AB15 -> 0 | AV15: =AG15-'24.6'!AG15 -> 0 | AX15: =+SUM(AY15:BQ15) -> 4 | BC15: 1 | BD15: 1 | BH15: 1 | BI15: 1
A16: 2 | B16: Huyện Cẩm Xuyên | C16: =SUM(D16:G16) -> 80.01 | D16: 3.05 | E16: 22.12 | F16: 43.28 | G16: 11.56 | H16: =SUM(I16:L16) -> 12.4 | I16: 4.5 | J16: 5.9 | K16: 2 | M16: =SUM(N16:U16) -> 7.55 | N16: 2.1 | O16: 2.5 | P16: 0 | Q16: 0 | R16: 0.89 | S16: 0.75 | T16: 0.3 | U16: 1.01 | V16: 10671 | W16: =SUM(X16:AA16) -> 24.48 | X16: 0.5 | Y16: 5.52 | Z16: 14.81 | AA16: 3.65 | AB16: =SUM(AC16:AE16) -> 0 | AF16: =(AC16*5+AD16*3.5+AE16*3)*1000 -> 0 | AG16: =+SUM(AH16:AO16) -> 3.99 | AH16: 2.1 | AI16: 0 | AJ16: 0 | AK16: 0 | AL16: 1.14 | AM16: 0.35 | AN16: 0 | AO16: 0.4 | AP16: 3252 | AQ16: =$W16/C16 -> 0.30596175 | AR16: =IF(H16=0,"-",AB16/H16) -> 0 | AS16: =AG16/M16 -> 0.52847682 | AT16: =W16-'24.6'!W16 -> 0 | AU16: =AB16-'24.6'!AB16 -> 0 | AV16: =AG16-'24.6'!AG16 -> 0 | AX16: =+SUM(AY16:BQ16) -> 4 | AY16: 1 | BC16: 1 | BH16: 1 | BI16: 1
A17: 3 | B17: Thành phố Hà Tĩnh | C17: =SUM(D17:G17) -> 15.29 | D17: - | E17: 4.18 | F17: 8.78 | G17: 2.33 | H17: =SUM(I17:L17) -> 12.7 | I17: 0 | J17: 8.5 | K17: 4.2 | M17: =SUM(N17:U17) -> 6.95 | N17: 6.32 | O17: 0 | P17: 0 | Q17: 0 | R17: 0.63 | S17: 0 | T17: 0 | U17: 0 | V17: 2394 | W17: =SUM(X17:AA17) -> 6.7 | X17: 0 | Y17: 2.33 | Z17: 4.17 | AA17: 0.2 | AB17: =SUM(AC17:AE17) -> 6.63 | AD17: 6.63 | AF17: 13370 | AG17: =+SUM(AH17:AO17) -> 2.39 | AH17: 0 | AL17: 2.39 | AP17: 1658 | AQ17: =$W17/C17 -> 0.4381949 | AR17: =IF(H17=0,"-",AB17/H17) -> 0.52204724 | AS17: =AG17/M17 -> 0.34388489 | AT17: =W17-'24.6'!W17 -> 1.82 | AU17: =AB17-'24.6'!AB17 -> 0.28 | AV17: =AG17-'24.6'!AG17 -> 0.6 | AX17: =+SUM(AY17:BQ17) -> 8 | AY17: 1 | AZ17: 1 | BA17: 1 | BC17: 1 | BD17: 1 | BI17: 1 | BJ17: 1 | BK17: 1
A18: 4 | B18: Huyện Thạch Hà | C18: =SUM(D18:G18) -> 97.59 | D18: 8.17 | E18: 7.68 | F18: 40.79 | G18: 40.95 | H18: =SUM(I18:L18) -> 30.29 | I18: 8.3 | J18: 17.8 | K18: 4.19 | M18: =SUM(N18:U18) -> 7.45 | N18: 0.9 | O18: 0.42 | P18: 0 | Q18: 0.35 | R18: 1.88 | S18: 3.4 | T18: 0.1 | U18: 0.4 | V18: 12442 | W18: =SUM(X18:AA18) -> 39.844 | X18: 1.68 | Y18: 2.87 | Z18: 23.292 | AA18: 12.002 | AB18: =SUM(AC18:AE18) -> 22.145 | AC18: 4.222 | AD18: 14.792 | AE18: 3.131 | AF18: 0 | AG18: =+SUM(AH18:AO18) -> 1.93 | AH18: 0 | AI18: 0.19 | AJ18: 0 | AK18: 0 | AL18: 0.59 | AM18: 0.97 | AN18: 0.18 | AO18: 0 | AP18: 6246 | AQ18: =$W18/C18 -> 0.40827954 | AR18: =IF(H18=0,"-",AB18/H18) -> 0.73109937 | AS18: =AG18/M18 -> 0.2590604 | AT18: =W18-'24.6'!W18 -> 4.52 | AU18: =AB18-'24.6'!AB18 -> 5.883 | AV18: =AG18-'24.6'!AG18 -> 0.22 | AX18: =+SUM(AY18:BQ18) -> 13 | AY18: 1 | AZ18: 1 | BA18: 1 | BB18: 1 | BC18: 1 | BD18: 1 | BE18: 1 | BF18: 1 | BG18: 1 | BH18: 1 | BI18: 1 | BJ18: 1 | BK18: 1
A19: 5 | B19: Huyện Can Lộc | C19: =SUM(D19:G19) -> 86.61 | D19: 0.4 | E19: 14.6 | F19: 53.25 | G19: 18.36 | H19: =SUM(I19:L19) -> 28.88 | I19: 10.7 | J19: 17.4 | K19: 0.78 | M19: =SUM(N19:U19) -> 28.57 | N19: 0.81 | O19: 0 | P19: 1.53 | Q19: 0 | R19: 8.38 | S19: 0 | T19: 17.85 | U19: 0 | V19: 12033 | W19: =SUM(X19:AA19) -> 24.204 | X19: 0 | Y19: 9.404 | Z19: 12.86 | AA19: 1.94 | AB19: =SUM(AC19:AE19) -> 9.488 | AC19: 5.344 | AD19: 3.7 | AE19: 0.444 | AF19: =(AC19*5+AD19*3.5+AE19*3)*1000 -> 41002 | AG19: =+SUM(AH19:AO19) -> 13.433 | AH19: 0 | AI19: 0 | AJ19: 0.18 | AK19: 0 | AL19: 1.15 | AM19: 0 | AN19: 11.873 | AO19: 0.23 | AP19: 5877 | AQ19: =$W19/C19 -> 0.27945965 | AR19: =IF(H19=0,"-",AB19/H19) -> 0.32853186 | AS19: =AG19/M19 -> 0.47017851 | AT19: =W19-'24.6'!W19 -> 1.269 | AU19: =AB19-'24.6'!AB19 -> 0 | AV19: =AG19-'24.6'!AG19 -> 0 | AX19: =+SUM(AY19:BQ19) -> 11 | AY19: 1 | AZ19: 1 | BA19: 1 | BB19: 1 | BC19: 1 | BD19: 1 | BE19: 1 | BF19: 1 | BG19: 1 | BI19: 1 | BJ19: 1
A20: 6 | B20: Huyện Đức Thọ | C20: =SUM(D20:G20) -> 28.4 | D20: - | E20: 2.4 | F20: 23.6 | G20: 2.4 | H20: =SUM(I20:L20) -> 10.08 | I20: 4 | J20: 3.95 | K20: 2.13 | M20: =SUM(N20:U20) -> 3.1 | N20: 0 | O20: 0 | P20: 0 | Q20: 0 | R20: 3.1 | S20: 0 | T20: 0 | U20: 0 | V20: 3330 | W20: =SUM(X20:AA20) -> 10.57 | X20: 0.76 | Y20: 0 | Z20: 9.81 | AA20: 0 | AB20: =SUM(AC20:AE20) -> 5.1 | AC20: 0.7 | AD20: 2.1 | AE20: 2.3 | AF20: =(AC20*5+AD20*3.5+AE20*3)*1000 -> 17750 | AG20: =+SUM(AH20:AO20) -> 0 | AP20: 1286 | AQ20: =$W20/C20 -> 0.3721831 | AR20: =IF(H20=0,"-",AB20/H20) -> 0.50595238 | AS20: =AG20/M20 -> 0 | AT20: =W20-'24.6'!W20 -> 0.66 | AU20: =AB20-'24.6'!AB20 -> 5.1 | AV20: =AG20-'24.6'!AG20 -> 0 | AX20: =+SUM(AY20:BQ20) -> 4 | AY20: 1 | BB20: 1 | BC20: 1 | BJ20: 1
A21: 7 | B21: Huyện Nghi Xuân | C21: =SUM(D21:G21) -> 17 | D21: 0.29 | E21: 4.27 | F21: 6.57 | G21: 5.87 | H21: =SUM(I21:L21) -> 3.03 | I21: 1.8 | J21: 1.03 | K21: 0.2 | M21: =SUM(N21:U21) -> 5.28 | N21: 0 | O21: 0 | P21: 0.85 | Q21: 0 | R21: 0 | S21: 1.55 | T21: 2 | U21: 0.88 | V21: 2421 | W21: =SUM(X21:AA21) -> 6.4842 | X21: 0.29 | Y21: 1.2741 | Z21: 3.5351 | AA21: 1.385 | AB21: =SUM(AC21:AE21) -> 1.23166 | AC21: 0.80578 | AD21: 0.42588 | AE21: 0 | AF21: =(AC21*5+AD21*3.5+AE21*3)*1000 -> 5519.48 | AG21: =+SUM(AH21:AO21) -> 1.625 | AL21: 0 | AM21: 1 | AN21: 0 | AO21: 0.625 | AP21: 929 | AQ21: =$W21/C21 -> 0.38142353 | AR21: =IF(H21=0,"-",AB21/H21) -> 0.40648845 | AS21: =AG21/M21 -> 0.30776515 | AT21: =W21-'24.6'!W21 -> 3.1832 | AU21: =AB21-'24.6'!AB21 -> 0 | AV21: =AG21-'24.6'!AG21 -> 0 | AX21: =+SUM(AY21:BQ21) -> 8 | AY21: 1 | AZ21: 1 | BB21: 1 | BC21: 1 | BE21: 1 | BI21: 1 | BJ21: 1 | BK21: 1
A22: 8 | B22: Thị xã Hồng Lĩnh | C22: =SUM(D22:G22) -> 9.42 | D22: - | E22: 8.58 | F22: 0.34 | G22: 0.5 | H22: =SUM(I22:L22) -> 6 | I22: 0.7 | J22: 5.3 | K22: 0 | M22: =SUM(N22:U22) -> 16.37 | N22: 0 | O22: 0 | P22: 0 | Q22: 0 | R22: 7.93 | S22: 0 | T22: 8.44 | U22: 0 | V22: 2622 | W22: =SUM(X22:AA22) -> 1.534 | Y22: 1.534 | AB22: =SUM(AC22:AE22) -> 0 | AF22: =(AC22*5+AD22*3.5+AE22*3)*1000 -> 0 | AG22: =+SUM(AH22:AO22) -> 2.184 | AL22: 2.184 | AP22: 900 | AQ22: =$W22/C22 -> 0.16284501 | AR22: =IF(H22=0,"-",AB22/H22) -> 0 | AS22: =AG22/M22 -> 0.13341478 | AT22: =W22-'24.6'!W22 -> 0 | AU22: =AB22-'24.6'!AB22 -> 0 | AV22: =AG22-'24.6'!AG22 -> 0 | AX22: =+SUM(AY22:BQ22) -> 1 | AY22: 1
A23: 9 | B23: Huyện Lộc Hà | C23: =SUM(D23:G23) -> 25.51 | D23: - | E23: 1.93 | F23: 14.39 | G23: 9.19 | H23: =SUM(I23:L23) -> 32.1 | I23: 1.9 | J23: 23.7 | K23: 6.5 | M23: =SUM(N23:U23) -> 9.32 | N23: 0.37 | O23: 0 | P23: 0 | Q23: 0 | R23: 6.25 | S23: 0 | T23: 2.7 | U23: 0 | V23: 3432 | W23: =SUM(X23:AA23) -> 5.666 | X23: 0 | Y23: 0 | Z23: 3.476 | AA23: 2.19 | AB23: =SUM(AC23:AE23) -> 4.51 | AC23: 1.91 | AD23: 1.2 | AE23: 1.4 | AF23: =(AC23*5+AD23*3.5+AE23*3)*1000 -> 17950 | AG23: =+SUM(AH23:AO23) -> 1.39 | AH23: 0.49 | AI23: 0 | AJ23: 0 | AK23: 0 | AL23: 0.6 | AM23: 0 | AN23: 0.3 | AO23: 0 | AP23: 811 | AQ23: =$W23/C23 -> 0.22210898 | AR23: =IF(H23=0,"-",AB23/H23) -> 0.14049844 | AS23: =AG23/M23 -> 0.14914163 | AT23: =W23-'24.6'!W23 -> 3.166 | AU23: =AB23-'24.6'!AB23 -> 0 | AV23: =AG23-'24.6'!AG23 -> 1.19 | AX23: =+SUM(AY23:BQ23) -> 5 | AY23: 1 | AZ23: 1 | BC23: 1 | BE23: 1 | BJ23: 1
B24: Tổng cộng | C24: =SUM(C10:C23) -> 560.53 | D24: =SUM(D10:D23) -> 14.82 | E24: =SUM(E10:E23) -> 101.57 | F24: =SUM(F10:F23) -> 322.25 | G24: =SUM(G10:G23) -> 121.89 | H24: =SUM(H10:H23) -> 150 | I24: =SUM(I10:I23) -> 33.4 | J24: =SUM(J10:J23) -> 95.4 | ... AP24: =SUM(AP10:AP23) -> 34846 | AQ24: =$W24/C24 -> 0.37062459 | AR24: =IF(H24=0,"-",AB24/H24) -> 0.3575644 | AS24: =AG24/M24 -> 0.33543647 | AT24: =SUM(AT10:AT23) -> 26.8812 | AU24: =SUM(AU10:AU23) -> 11.263 | AV24: =SUM(AV10:AV23) -> 7.522
AG26: Xi măng đạt | AP26: =+AP24/V24 -> 0.44279814
N27: =+N24*0.8 -> 10.312 | O27: =+O24*0.8 -> 8.504 | P27: =+P24*0.8 -> 5.704 | Q27: =+Q24*0.8 -> 3.264 | R27: =+R24*0.8 -> 26.88 | S27: =+S24*0.8 -> 40.624 | T27: =+T24*0.8 -> 29.528 | U27: =+U24*0.8 -> 21.632

Sheet 15.7
B1: UỶ BAN NHÂN DÂN TỈNH HÀ TĨNH
B2: SỞ GIAO THÔNG VẬN TẢI
A3: BÁO CÁO KẾT QUẢ THỰC HIỆN KẾ HOẠCH LÀM ĐƯỜNG GIAO THÔNG, RÃNH THOÁT NƯỚC, PHỤC HỒI MẶT ĐƯỜNG BTXM THEO CƠ CHẾ HỖ TRỢ CỦA TỈNH ĐẾN NGÀY 15-7-2021
A5: TT | B5: Huyện, thị xã, thành phố | C5: Khối lượng theo kế hoạch UBND tỉnh | W5: Kết quả thực hiện lũy kế đến thời điểm báo cáo | AQ5: Mức độ hoàn thành kế hoạch đầu năm | AT5: Tăng so với tuần trước
C6: Đường giao thông (km) | D6: Trong đó | H6: Nâng cấp phục hồi mặt đường BTXM (km) | I6: Trong đó | M6: Rãnh thoát nước (km) | N6: Rãnh trên đường trục xã | R6: Rãnh trên đường trục thôn | V6: Tổng khối lượng xi măng (tấn) | W6: Đường giao thông (km) | X6: Trong đó | AB6: Nâng cấp phục hồi mặt đường BTXM (km) | AC6: Trong đó | AG6: Rãnh thoát nước (km) | AH6: Rãnh trên đường trục xã | AL6: Rãnh trên đường trục thôn | AP6: Tổng khối lượng xi măng đã nhận (tấn) | AQ6: Đường giao thông (%) | AR6: Nâng cấp phục hồi mặt đường BTXM (%) | AS6: Rãnh thoát nước (%) | AT6: Đường giao thông (km) | AU6: Nâng cấp phục hồi mặt đường BTXM (km) | AV6: Rãnh thoát nước (km)
D7: Đường trục xã và đường phố (km) | E7: Đường trục thôn, xóm và đường ngõ phố (km) | F7: Đường ngõ, xóm và đường ngách hẻm (km) | G7: Đường trục chính nội đồng (km) | I7: Đường trục xã và đường phố (km) | J7: Đường trục thôn, xóm và đường ngõ phố (km) | K7: Đường ngõ, xóm và đường ngách hẻm (km) | L7: Đường trục chính nội đồng (km) | N7: Rãnh BTXM có nắp đậy | O7: Rãnh BTXM không có nắp đậy | P7: Rãnh Gạch xây có nắp đậy | Q7: Rãnh Gạch xây không có nắp đậy | R7: Rãnh BTXM có nắp đậy | S7: Rãnh BTXM không có nắp đậy | T7: Rãnh Gạch xây có nắp đậy | U7: Rãnh Gạch xây không có nắp đậy | X7: Đường trục xã và đường phố (km) | Y7: Đường trục thôn, xóm và đường ngõ phố (km) | Z7: Đường ngõ, xóm và đường ngách hẻm (km) | AA7: Đường trục chính nội đồng (km) | AC7: Đường trục xã và đường phố (km) | AD7: Đường trục thôn, ngõ phố (km) | AE7: Đường ngõ, xóm và đường ngách hẻm (km) | AF7: Tổng diện tích tỉnh hỗ trợ (m2) | AH7: Rãnh BTXM có nắp đậy | AI7: Rãnh BTXM không có nắp đậy | AJ7: Rãnh Gạch xây có nắp đậy | AK7: Rãnh Gạch xây không có nắp đậy | AL7: Rãnh BTXM có nắp đậy | AM7: Rãnh BTXM không có nắp đậy | AN7: Rãnh Gạch xây có nắp đậy | AO7: Rãnh Gạch xây không có nắp đậy | AW7: Thống kê số lần báo cáo theo tuần
A8: 1 | B8: 2 | C8: 3 | D8: 4 | E8: 5 | F8: 6 | G8: 7 | H8: 8 | I8: 9 | J8: 10 | K8: 11 | L8: 12 | M8: 13 | N8: 14 | O8: 15 | P8: 16 | Q8: 17 | R8: 18 | S8: 19 | T8: 20 | U8: 21 | V8: 22 | W8: 23 | X8: 24 | Y8: 25 | Z8: 26 | AA8: 27 | AB8: 28 | AC8: 29 | AD8: 30 | AE8: 31 | AF8: 32 | AG8: 33 | AH8: 34 | AI8: 35 | AJ8: 36 | AK8: 37 | AL8: 38 | AM8: 39 | AN8: 40 | AO8: 41 | AP8: 42 | AQ8: 43 | AR8: 44 | AS8: 45 | AT8: 69 | AU8: 70 | AV8: 71 | AX8: Tổng | AY8: 15/4 | AZ8: 22/4 | BA8: 29/4 | BB8: 6/5 | BC8: 13/5 | BD8: 20/5 | BE8: 27/5 | BF8: 3/6 | BG8: 11/6 | BH8: 17/6 | BI8: 24/6 | BJ8: 1/7 | BK8: 8/7 | BL8: 15/7
A9: I | B9: Huyện miền núi | AF9: =(AC9*5+AD9*3.5)*1000 -> 0
A10: 1 | B10: Huyện Kỳ Anh | C10: =SUM(D10:G10) -> 58.41 | D10: 1.83 | E10: 10.19 | F10: 38.71 | G10: 7.68 | H10: =SUM(I10:L10) -> 6.2 | I10: 0 | J10: 5.3 | K10: 0.9 | M10: =SUM(N10:U10) -> 57.37 | N10: 1 | O10: 5.38 | P10: 2.48 | Q10: 3.28 | R10: 0.54 | S10: 23.22 | T10: 2.36 | U10: 19.11 | V10: 10271 | W10: =SUM(X10:AA10) -> 23.311 | X10: 0.181 | Y10: 2.966 | Z10: 18.899 | AA10: 1.265 | AB10: =SUM(AC10:AE10) -> 0 | AF10: =(AC10*5+AD10*3.5)*1000 -> 0 | AG10: =+SUM(AH10:AO10) -> 13.583 | AH10: 0 | AI10: 0 | AJ10: 0 | AK10: 1.645 | AL10: 0 | AM10: 7.93 | AN10: 1.2 | AO10: 2.808 | AP10: 4175 | AQ10: =$W10/C10 -> 0.39909262 | AR10: =IF(H10=0,"-",AB10/H10) -> 0 | AS10: =AG10/M10 -> 0.23676137 | AT10: =W10-'8.7'!W10 -> 0 | AU10: =AB10-'8.7'!AB10 -> 0 | AV10: =AG10-'8.7'!AG10 -> 0 | AX10: =+SUM(AY10:BQ10) -> 6 | AY10: 1 | AZ10: 1 | BE10: 1 | BF10: 1 | BI10: 1 | BJ10: 1
A11: 2 | B11: Huyện Hương Sơn | C11: =SUM(D11:G11) -> 28.7 | D11: - | E11: 5.2 | F11: 20.2 | G11: 3.3 | H11: =SUM(I11:L11) -> 5.5 | I11: 0 | J11: 5.5 | K11: 0 | M11: =SUM(N11:U11) -> 13.94 | N11: 0.6 | O11: 0.5 | P11: 0.12 | Q11: 0.1 | R11: 1.6 | S11: 3.92 | T11: 1.71 | U11: 5.39 | V11: 4122 | W11: =SUM(X11:AA11) -> 19.4 | X11: 0.7 | Y11: 2.5 | Z11: 15.55 | AA11: 0.65 | AB11: =SUM(AC11:AE11) -> 4.2 | AC11: 4.2 | AF11: =(AC11*5+AD11*3.5+AE11*3)*1000 -> 21000 | AG11: =+SUM(AH11:AO11) -> 12.6 | AH11: 12.6 | AP11: 3114 | AQ11: =$W11/C11 -> 0.67595819 | AR11: =IF(H11=0,"-",AB11/H11) -> 0.76363636 | AS11: =AG11/M11 -> 0.90387374 | AT11: =W11-'8.7'!W11 -> 0 | AU11: =AB11-'8.7'!AB11 -> 0 | AV11: =AG11-'8.7'!AG11 -> 0 | AX11: =+SUM(AY11:BQ11) -> 5 | AZ11: 1 | BD11: 1 | BF11: 1 | BI11: 1 | BJ11: 1
A12: 3 | B12: Huyện Hương Khê | C12: =SUM(D12:G12) -> 83.71 | D12: 0.36 | E12: 13.42 | F12: 53.2 | G12: 16.73 | H12: =SUM(I12:L12) -> 1.5 | I12: 1.5 | J12: 0 | K12: 0 | M12: =SUM(N12:U12) -> 17.11 | N12: 0.79 | O12: 1.83 | P12: 2.15 | Q12: 0.35 | R12: 0.52 | S12: 11.22 | T12: 0 | U12: 0.25 | V12: 10689 | W12: =SUM(X12:AA12) -> 36.972 | X12: 1.4 | Y12: 4.129 | Z12: 28.133 | AA12: 3.31 | AB12: =SUM(AC12:AE12) -> 0 | AF12: =(AC12*5+AD12*3.5+AE12*3)*1000 -> 0 | AG12: =+SUM(AH12:AO12) -> 5.058 | AH12: 0.208 | AI12: 0.315 | AJ12: 0 | AK12: 0 | AL12: 0.1 | AM12: 3.935 | AN12: 0 | AO12: 0.5 | AP12: 5053 | AQ12: =$W12/C12 -> 0.44166766 | AR12: =IF(H12=0,"-",AB12/H12) -> 0 | AS12: =AG12/M12 -> 0.2956166 | AT12: =W12-'8.7'!W12 -> 4.62 | AU12: =AB12-'8.7'!AB12 -> 0 | AV12: =AG12-'8.7'!AG12 -> 0.481 | AX12: =+SUM(AY12:BQ12) -> 11 | BA12: 1 | BB12: 1 | BD12: 1 | BE12: 1 | BF12: 1 | BG12: 1 | BH12: 1 | BI12: 1 | BJ12: 1 | BK12: 1 | BL12: 1
A13: 4 | B13: Huyện Vũ Quang | C13: =SUM(D13:G13) -> 13.77 | D13: 0.72 | E13: 1.69 | F13: 8.34 | G13: 3.02 | H13: =SUM(I13:L13) -> 0.9 | I13: 0 | J13: 0.9 | K13: 0 | M13: =SUM(N13:U13) -> 1.18 | N13: 0 | O13: 0 | P13: 0 | Q13: 0 | R13: 0.32 | S13: 0.86 | T13: 0 | U13: 0 | V13: 1727 | W13: =SUM(X13:AA13) -> 5.413 | X13: 0.26 | Y13: 0.16 | Z13: 4.173 | AA13: 0.82 | AB13: =SUM(AC13:AE13) -> 0.33 | AD13: 0.33 | AG13: =+SUM(AH13:AO13) -> 0.51 | AH13: 0.51 | AP13: 836 | AQ13: =$W13/C13 -> 0.39310094 | AR13: =IF(H13=0,"-",AB13/H13) -> 0.36666667 | AS13: =AG13/M13 -> 0.43220339 | AT13: =W13-'8.7'!W13 -> 0 | AU13: =AB13-'8.7'!AB13 -> 0 | AV13: =AG13-'8.7'!AG13 -> 0 | AX13: =+SUM(AY13:BQ13) -> 7 | AY13: 1 | AZ13: 1 | BB13: 1 | BF13: 1 | BI13: 1 | BJ13: 1 | BK13: 1
A14: II | B14: Các địa phương khác | AF14: =(AC14*5+AD14*3.5+AE14*3)*1000 -> 0 | AT14: =W14-'8.7'!W14 -> 0 | AU14: =AB14-'8.7'!AB14 -> 0 | AV14: =AG14-'8.7'!AG14 -> 0
A15: 1 | B15: Thị xã Kỳ Anh | C15: =SUM(D15:G15) -> 16.11 | D15: - | E15: 5.31 | F15: 10.8 | G15: - | H15: =SUM(I15:L15) -> 0.42 | I15: 0 | J15: 0.12 | K15: 0.3 | M15: =SUM(N15:U15) -> 8.87 | N15: 0 | O15: 0 | P15: 0 | Q15: 0 | R15: 1.56 | S15: 5.86 | T15: 1.45 | U15: - | V15: 2541 | W15: =SUM(X15:AA15) -> 7.788 | X15: 0.3 | Y15: 3.047 | Z15: 4.441 | AB15: =SUM(AC15:AE15) -> 0 | AF15: =(AC15*5+AD15*3.5+AE15*3)*1000 -> 0 | AG15: =+SUM(AH15:AO15) -> 3.193 | AL15: 0.93 | AM15: 2.263 | AN15: 0 | AO15: 0 | AP15: 1302 | AQ15: =$W15/C15 -> 0.48342644 | AR15: =IF(H15=0,"-",AB15/H15) -> 0 | AS15: =AG15/M15 -> 0.35997745 | AT15: =W15-'8.7'!W15 -> 0 | AU15: =AB15-'8.7'!AB15 -> 0 | AV15: =AG15-'8.7'!AG15 -> 0 | AX15: =+SUM(AY15:BQ15) -> 4 | BC15: 1 | BD15: 1 | BH15: 1 | BI15: 1
A16: 2 | B16: Huyện Cẩm Xuyên | C16: =SUM(D16:G16) -> 80.01 | D16: 3.05 | E16: 22.12 | F16: 43.28 | G16: 11.56 | H16: =SUM(I16:L16) -> 12.4 | I16: 4.5 | J16: 5.9 | K16: 2 | M16: =SUM(N16:U16) -> 7.55 | N16: 2.1 | O16: 2.5 | P16: 0 | Q16: 0 | R16: 0.89 | S16: 0.75 | T16: 0.3 | U16: 1.01 | V16: 10671 | W16: =SUM(X16:AA16) -> 28.245 | X16: 0.5 | Y16: 5.815 | Z16: 17.535 | AA16: 4.395 | AB16: =SUM(AC16:AE16) -> 0 | AF16: =(AC16*5+AD16*3.5+AE16*3)*1000 -> 0 | AG16: =+SUM(AH16:AO16) -> 3.99 | AH16: 2.1 | AI16: 0 | AJ16: 0 | AK16: 0 | AL16: 1.14 | AM16: 0.35 | AN16: 0 | AO16: 0.4 | AP16: 3665 | AQ16: =$W16/C16 -> 0.35301837 | AR16: =IF(H16=0,"-",AB16/H16) -> 0 | AS16: =AG16/M16 -> 0.52847682 | AT16: =W16-'8.7'!W16 -> 3.765 | AU16: =AB16-'8.7'!AB16 -> 0 | AV16: =AG16-'8.7'!AG16 -> 0 | AX16: =+SUM(AY16:BQ16) -> 5 | AY16: 1 | BC16: 1 | BH16: 1 | BI16: 1 | BL16: 1
A17: 3 | B17: Thành phố Hà Tĩnh | C17: =SUM(D17:G17) -> 15.29 | D17: - | E17: 4.18 | F17: 8.78 | G17: 2.33 | H17: =SUM(I17:L17) -> 12.7 | I17: 0 | J17: 8.5 | K17: 4.2 | M17: =SUM(N17:U17) -> 6.95 | N17: 6.32 | O17: 0 | P17: 0 | Q17: 0 | R17: 0.63 | S17: 0 | T17: 0 | U17: 0 | V17: 2394 | W17: =SUM(X17:AA17) -> 7.17 | Y17: 2.33 | Z17: 4.49 | AA17: 0.35 | AB17: =SUM(AC17:AE17) -> 7.15 | AD17: 7.15 | AF17: 13370 | AG17: =+SUM(AH17:AO17) -> 3.29 | AH17: 0 | AL17: 3.29 | AP17: 1745 | AQ17: =$W17/C17 -> 0.46893394 | AR17: =IF(H17=0,"-",AB17/H17) -> 0.56299213 | AS17: =AG17/M17 -> 0.47338129 | AT17: =W17-'8.7'!W17 -> 0.47 | AU17: =AB17-'8.7'!AB17 -> 0.52 | AV17: =AG17-'8.7'!AG17 -> 0.9 | AX17: =+SUM(AY17:BQ17) -> 9 | AY17: 1 | AZ17: 1 | BA17: 1 | BC17: 1 | BD17: 1 | BI17: 1 | BJ17: 1 | BK17: 1 | BL17: 1
A18: 4 | B18: Huyện Thạch Hà | C18: =SUM(D18:G18) -> 97.59 | D18: 8.17 | E18: 7.68 | F18: 40.79 | G18: 40.95 | H18: =SUM(I18:L18) -> 30.29 | I18: 8.3 | J18: 17.8 | K18: 4.19 | M18: =SUM(N18:U18) -> 7.45 | N18: 0.9 | O18: 0.42 | P18: 0 | Q18: 0.35 | R18: 1.88 | S18: 3.4 | T18: 0.1 | U18: 0.4 | V18: 12442 | W18: =SUM(X18:AA18) -> 44.166 | X18: 2.68 | Y18: 3.043 | Z18: 24.031 | AA18: 14.412 | AB18: =SUM(AC18:AE18) -> 22.867 | AC18: 5.482 | AD18: 13.81 | AE18: 3.575 | AF18: 0 | AG18: =+SUM(AH18:AO18) -> 1.93 | AH18: 0 | AI18: 0.19 | AJ18: 0 | AK18: 0 | AL18: 0.59 | AM18: 0.97 | AN18: 0.18 | AO18: 0 | AP18: 6814 | AQ18: =$W18/C18 -> 0.45256686 | AR18: =IF(H18=0,"-",AB18/H18) -> 0.75493562 | AS18: =AG18/M18 -> 0.2590604 | AT18: =W18-'8.7'!W18 -> 4.322 | AU18: =AB18-'8.7'!AB18 -> 0.722 | AV18: =AG18-'8.7'!AG18 -> 0 | AX18: =+SUM(AY18:BQ18) -> 14 | AY18: 1 | AZ18: 1 | BA18: 1 | BB18: 1 | BC18: 1 | BD18: 1 | BE18: 1 | BF18: 1 | BG18: 1 | BH18: 1 | BI18: 1 | BJ18: 1 | BK18: 1 | BL18: 1
A19: 5 | B19: Huyện Can Lộc | C19: =SUM(D19:G19) -> 86.61 | D19: 0.4 | E19: 14.6 | F19: 53.25 | G19: 18.36 | H19: =SUM(I19:L19) -> 28.88 | I19: 10.7 | J19: 17.4 | K19: 0.78 | M19: =SUM(N19:U19) -> 28.57 | N19: 0.81 | O19: 0 | P19: 1.53 | Q19: 0 | R19: 8.38 | S19: 0 | T19: 17.85 | U19: 0 | V19: 12033 | W19: =SUM(X19:AA19) -> 36.864 | X19: 0.388 | Y19: 8.328 | Z19: 26.166 | AA19: 1.982 | AB19: =SUM(AC19:AE19) -> 9.488 | AC19: 5.344 | AD19: 3.7 | AE19: 0.444 | AF19: =(AC19*5+AD19*3.5+AE19*3)*1000 -> 41002 | AG19: =+SUM(AH19:AO19) -> 16.309 | AH19: 0 | AI19: 0 | AJ19: 0.201 | AK19: 0 | AL19: 2.732 | AM19: 0 | AN19: 13.146 | AO19: 0.23 | AP19: 6535 | AQ19: =$W19/C19 -> 0.42563214 | AR19: =IF(H19=0,"-",AB19/H19) -> 0.32853186 | AS19: =AG19/M19 -> 0.57084354 | AT19: =W19-'8.7'!W19 -> 12.66 | AU19: =AB19-'8.7'!AB19 -> 0 | AV19: =AG19-'8.7'!AG19 -> 2.876 | AX19: =+SUM(AY19:BQ19) -> 12 | AY19: 1 | AZ19: 1 | BA19: 1 | BB19: 1 | BC19: 1 | BD19: 1 | BE19: 1 | BF19: 1 | BG19: 1 | BI19: 1 | BJ19: 1 | BL19: 1
A20: 6 | B20: Huyện Đức Thọ | C20: =SUM(D20:G20) -> 28.4 | D20: - | E20: 2.4 | F20: 23.6 | G20: 2.4 | H20: =SUM(I20:L20) -> 10.08 | I20: 4 | J20: 3.95 | K20: 2.13 | M20: =SUM(N20:U20) -> 3.1 | N20: 0 | O20: 0 | P20: 0 | Q20: 0 | R20: 3.1 | S20: 0 | T20: 0 | U20: 0 | V20: 3330 | W20: =SUM(X20:AA20) -> 10.57 | X20: 0.76 | Y20: 0 | Z20: 9.81 | AA20: 0 | AB20: =SUM(AC20:AE20) -> 5.1 | AC20: 0.7 | AD20: 2.1 | AE20: 2.3 | AF20: =(AC20*5+AD20*3.5+AE20*3)*1000 -> 17750 | AG20: =+SUM(AH20:AO20) -> 0 | AP20: 1286 | AQ20: =$W20/C20 -> 0.3721831 | AR20: =IF(H20=0,"-",AB20/H20) -> 0.50595238 | AS20: =AG20/M20 -> 0 | AT20: =W20-'8.7'!W20 -> 0 | AU20: =AB20-'8.7'!AB20 -> 0 | AV20: =AG20-'8.7'!AG20 -> 0 | AX20: =+SUM(AY20:BQ20) -> 4 | AY20: 1 | BB20: 1 | BC20: 1 | BJ20: 1
A21: 7 | B21: Huyện Nghi Xuân | C21: =SUM(D21:G21) -> 17 | D21: 0.29 | E21: 4.27 | F21: 6.57 | G21: 5.87 | H21: =SUM(I21:L21) -> 3.03 | I21: 1.8 | J21: 1.03 | K21: 0.2 | M21: =SUM(N21:U21) -> 5.28 | N21: 0 | O21: 0 | P21: 0.85 | Q21: 0 | R21: 0 | S21: 1.55 | T21: 2 | U21: 0.88 | V21: 2421 | W21: =SUM(X21:AA21) -> 6.4842 | X21: 0.29 | Y21: 1.2741 | Z21: 3.5351 | AA21: 1.385 | AB21: =SUM(AC21:AE21) -> 1.23166 | AC21: 0.80578 | AD21: 0.42588 | AE21: 0 | AF21: =(AC21*5+AD21*3.5+AE21*3)*1000 -> 5519.48 | AG21: =+SUM(AH21:AO21) -> 1.625 | AL21: 0 | AM21: 1 | AN21: 0 | AO21: 0.625 | AP21: 929 | AQ21: =$W21/C21 -> 0.38142353 | AR21: =IF(H21=0,"-",AB21/H21) -> 0.40648845 | AS21: =AG21/M21 -> 0.30776515 | AT21: =W21-'8.7'!W21 -> 0 | AU21: =AB21-'8.7'!AB21 -> 0 | AV21: =AG21-'8.7'!AG21 -> 0 | AX21: =+SUM(AY21:BQ21) -> 8 | AY21: 1 | AZ21: 1 | BB21: 1 | BC21: 1 | BE21: 1 | BI21: 1 | BJ21: 1 | BK21: 1
A22: 8 | B22: Thị xã Hồng Lĩnh | C22: =SUM(D22:G22) -> 9.42 | D22: - | E22: 8.58 | F22: 0.34 | G22: 0.5 | H22: =SUM(I22:L22) -> 6 | I22: 0.7 | J22: 5.3 | K22: 0 | M22: =SUM(N22:U22) -> 16.37 | N22: 0 | O22: 0 | P22: 0 | Q22: 0 | R22: 7.93 | S22: 0 | T22: 8.44 | U22: 0 | V22: 2622 | W22: =SUM(X22:AA22) -> 2.18 | Y22: 2.18 | AB22: =SUM(AC22:AE22) -> 1.12 | AC22: 1.12 | AF22: =(AC22*5+AD22*3.5+AE22*3)*1000 -> 5600 | AG22: =+SUM(AH22:AO22) -> 2.55 | AL22: 2.55 | AP22: 336 | AQ22: =$W22/C22 -> 0.23142251 | AR22: =IF(H22=0,"-",AB22/H22) -> 0.18666667 | AS22: =AG22/M22 -> 0.15577276 | AT22: =W22-'8.7'!W22 -> 0.646 | AU22: =AB22-'8.7'!AB22 -> 1.12 | AV22: =AG22-'8.7'!AG22 -> 0.366 | AX22: =+SUM(AY22:BQ22) -> 2 | AY22: 1 | BL22: 1
A23: 9 | B23: Huyện Lộc Hà | C23: =SUM(D23:G23) -> 25.51 | D23: - | E23: 1.93 | F23: 14.39 | G23: 9.19 | H23: =SUM(I23:L23) -> 32.1 | I23: 1.9 | J23: 23.7 | K23: 6.5 | M23: =SUM(N23:U23) -> 9.32 | N23: 0.37 | O23: 0 | P23: 0 | Q23: 0 | R23: 6.25 | S23: 0 | T23: 2.7 | U23: 0 | V23: 3432 | W23: =SUM(X23:AA23) -> 5.666 | X23: 0 | Y23: 0 | Z23: 3.476 | AA23: 2.19 | AB23: =SUM(AC23:AE23) -> 4.51 | AC23: 1.91 | AD23: 1.2 | AE23: 1.4 | AF23: =(AC23*5+AD23*3.5+AE23*3)*1000 -> 17950 | AG23: =+SUM(AH23:AO23) -> 1.39 | AH23: 0.49 | AI23: 0 | AJ23: 0 | AK23: 0 | AL23: 0.6 | AM23: 0 | AN23: 0.3 | AO23: 0 | AP23: 811 | AQ23: =$W23/C23 -> 0.22210898 | AR23: =IF(H23=0,"-",AB23/H23) -> 0.14049844 | AS23: =AG23/M23 -> 0.14914163 | AT23: =W23-'8.7'!W23 -> 0 | AU23: =AB23-'8.7'!AB23 -> 0 | AV23: =AG23-'8.7'!AG23 -> 0 | AX23: =+SUM(AY23:BQ23) -> 5 | AY23: 1 | AZ23: 1 | BC23: 1 | BE23: 1 | BJ23: 1
B24: Tổng cộng | C24: =SUM(C10:C23) -> 560.53 | D24: =SUM(D10:D23) -> 14.82 | E24: =SUM(E10:E23) -> 101.57 | F24: =SUM(F10:F23) -> 322.25 | G24: =SUM(G10:G23) -> 121.89 | H24: =SUM(H10:H23) -> 150 | I24: =SUM(I10:I23) -> 33.4 | J24: =SUM(J10:J23) -> 95.4 | ... AP24: =SUM(AP10:AP23) -> 36601 | AQ24: =$W24/C24 -> 0.41787094 | AR24: =IF(H24=0,"-",AB24/H24) -> 0.37331107 | AS24: =AG24/M24 -> 0.36069048 | AT24: =SUM(AT10:AT23) -> 26.483 | AU24: =SUM(AU10:AU23) -> 2.362 | AV24: =SUM(AV10:AV23) -> 4.623
AG26: Xi măng đạt | AP26: =+AP24/V24 -> 0.46509943
N27: =+N24*0.8 -> 10.312 | O27: =+O24*0.8 -> 8.504 | P27: =+P24*0.8 -> 5.704 | Q27: =+Q24*0.8 -> 3.264 | R27: =+R24*0.8 -> 26.88 | S27: =+S24*0.8 -> 40.624 | T27: =+T24*0.8 -> 29.528 | U27: =+U24*0.8 -> 21.632

Sheet 22.7
B1: UỶ BAN NHÂN DÂN TỈNH HÀ TĨNH
B2: SỞ GIAO THÔNG VẬN TẢI
A3: BÁO CÁO KẾT QUẢ THỰC HIỆN KẾ HOẠCH LÀM ĐƯỜNG GIAO THÔNG, RÃNH THOÁT NƯỚC, PHỤC HỒI MẶT ĐƯỜNG BTXM THEO CƠ CHẾ HỖ TRỢ CỦA TỈNH ĐẾN NGÀY 22-7-2021
A5: TT | B5: Huyện, thị xã, thành phố | C5: Khối lượng theo kế hoạch UBND tỉnh | W5: Kết quả thực hiện lũy kế đến thời điểm báo cáo | AQ5: Mức độ hoàn thành kế hoạch đầu năm | AT5: Tăng so với tuần trước
